BEGIN:VCALENDAR
VERSION:2.0
PRODID:goabase.net iCalendar 2026
X-WR-CALNAME:goabase.net - parties and people 
X-WR-TIMEZONE;VALUE=TEXT:Europe/Berlin
CALSCALE:GREGORIAN
BEGIN:VTIMEZONE
TZID:Europe/Berlin
X-LIC-LOCATION:Europe/Berlin
BEGIN:DAYLIGHT
TZOFFSETFROM:+0100
TZOFFSETTO:+0200
TZNAME:CEST
DTSTART:19700329T020000
RRULE:FREQ=YEARLY;INTERVAL=1;BYDAY=-1SU;BYMONTH=3
END:DAYLIGHT
BEGIN:STANDARD
TZOFFSETFROM:+0200
TZOFFSETTO:+0100
TZNAME:CET
DTSTART:19701025T030000
RRULE:FREQ=YEARLY;INTERVAL=1;BYDAY=-1SU;BYMONTH=10
END:STANDARD
END:VTIMEZONE

BEGIN:VEVENT
UID:c42ecd0c13893cca4f7e3f0171d21be3
DTSTART:20181006T230000
DTEND:20181007T100000
LOCATION:Augsburg [Germany]
GEO:48.365404200;10.895001800
DTSTAMP:20181006T230000Z
SUMMARY:Muditā मुदिता
DESCRIPTION:Line-up: .... Beatszenario by: ✈ Braintense b2b Psychonaut// FreeTribe
  ✈ Cosmic Rabbit// Cosmic Spirit/ Cosmic Gat…
URL:https://www.goabase.net/fr/party/mudita/101408
CATEGORIES:Psytrance Event
CLASS:PUBLIC
END:VEVENT

BEGIN:VEVENT
UID:81f95964ee7a3fddb363d80722ff5a65
DTSTART:20171229T230000
DTEND:20171230T100000
LOCATION:Augsburg [Germany]
GEO:48.365404000;10.895095000
DTSTAMP:20171229T230000Z
SUMMARY:Keep the Spirit
DESCRIPTION:Line-up: --Die Soundgestalter dieses Abends-- ----OverFloor---
URL:https://www.goabase.net/fr/party/keep-the-spirit/98027
CATEGORIES:Psytrance Event
CLASS:PUBLIC
END:VEVENT

BEGIN:VEVENT
UID:8aafd3cceb8e1938a428e628951eede4
DTSTART:20170916T230000
DTEND:20170917T050000
LOCATION:Augsburg [Germany]
GEO:48.365404000;10.895095000
DTSTAMP:20170916T230000Z
SUMMARY:❃ Wacah Chan Vibes ❃
DESCRIPTION:
URL:https://www.goabase.net/fr/party/wacah-chan-vibes/96319
CATEGORIES:Psytrance Event
CLASS:PUBLIC
END:VEVENT

BEGIN:VEVENT
UID:70411c9ab75a837de1d76990d4f2a4e9
DTSTART:20170127T230000
DTEND:20170128T050000
LOCATION:Augsburg [Germany]
GEO:48.371484400;10.898350000
DTSTAMP:20170127T230000Z
SUMMARY:Shiva´s Boom
DESCRIPTION:Line-up: ..... LineUp: MaximusBrain//FreeTribe//AuxConnexxion Darkpsy,
  Forest Metscalito//Zappeldrang Würz…
URL:https://www.goabase.net/fr/party/shivas-boom/92209
CATEGORIES:Psytrance Event
CLASS:PUBLIC
END:VEVENT

BEGIN:VEVENT
UID:da42cffecc3145596da68a797fcad620
DTSTART:20160116T230000
DTEND:20160117T093000
LOCATION:Augsburg [Germany]
GEO:48.371484400;10.898350000
DTSTAMP:20160116T230000Z
SUMMARY:Psychedelic Connexxion
DESCRIPTION:Line-up: ☀ Line Up Club: ☀ ► Flipovic // Augsburg (Proggressive) ► Dr.
  Eff // Augsburg (Proggressive/PsyTrance) ► Maximu…
URL:https://www.goabase.net/fr/party/psychedelic-connexxion/87788
CATEGORIES:Psytrance Event
CLASS:PUBLIC
END:VEVENT

BEGIN:VEVENT
UID:ad9968cb13e9f54d091d99a48f2313e6
DTSTART:20151023T220000
DTEND:20151024T050000
LOCATION:Augsburg [Germany]
GEO:48.371484400;10.898350000
DTSTAMP:20151023T220000Z
SUMMARY:P.V.F presents Senix Live
DESCRIPTION:Line-up: ~~Senix Live ~~DJ Spirit (POSITIVE+VIBRATIONS+FOUNDATION)
  ~~Dj Vorwärts (POSITIVE+VIBRATIONS+FOUNDATION) ~~MaximusBr…
URL:https://www.goabase.net/fr/party/pvf-presents-senix-live/86728
CATEGORIES:Psytrance Event
CLASS:PUBLIC
END:VEVENT

BEGIN:VEVENT
UID:1d3f9ea6d3627acb80cf1487e171ba35
DTSTART:20150801T230000
DTEND:20150802T050000
LOCATION:Augsburg [Germany]
GEO:48.360099800;10.902557400
DTSTAMP:20150801T230000Z
SUMMARY:Abra~Kadabra
DESCRIPTION:Line-up: Die vier Magier die euch verzaubern werden sind:
  ~MaximusBrain/ Free Tribe PsyTrance, Full on ~DJ Spirit/ POSITIVE VI…
URL:https://www.goabase.net/fr/party/abrakadabra/85618
CATEGORIES:Psytrance Event
CLASS:PUBLIC
END:VEVENT

END:VCALENDAR