BEGIN:VCALENDAR
VERSION:2.0
PRODID:goabase.net iCalendar 2026
X-WR-CALNAME:goabase.net - parties and people 
X-WR-TIMEZONE;VALUE=TEXT:Europe/Berlin
CALSCALE:GREGORIAN
BEGIN:VTIMEZONE
TZID:Europe/Berlin
X-LIC-LOCATION:Europe/Berlin
BEGIN:DAYLIGHT
TZOFFSETFROM:+0100
TZOFFSETTO:+0200
TZNAME:CEST
DTSTART:19700329T020000
RRULE:FREQ=YEARLY;INTERVAL=1;BYDAY=-1SU;BYMONTH=3
END:DAYLIGHT
BEGIN:STANDARD
TZOFFSETFROM:+0200
TZOFFSETTO:+0100
TZNAME:CET
DTSTART:19701025T030000
RRULE:FREQ=YEARLY;INTERVAL=1;BYDAY=-1SU;BYMONTH=10
END:STANDARD
END:VTIMEZONE

BEGIN:VEVENT
UID:4344e4fda42607319e13a1d8ff9b679e
DTSTART:20101119T220000
DTEND:20101120T120000
LOCATION:Galway [Ireland]
GEO:0.000000000;0.000000000
DTSTAMP:20101119T220000Z
SUMMARY:TRANCE PARTY
DESCRIPTION:
URL:https://www.goabase.net/fr/party/trance-party/56607
CATEGORIES:Psytrance Event
CLASS:PUBLIC
END:VEVENT

BEGIN:VEVENT
UID:b2e32ed6fd63a2c871891bc158587c10
DTSTART:20101112T210000
DTEND:20101113T020000
LOCATION:Galway [Ireland]
GEO:0.000000000;0.000000000
DTSTAMP:20101112T210000Z
SUMMARY:Fractal tea presents - WAY 2 ZION
DESCRIPTION:Line-up: .DUB DOCTORS - LIVE PERFORMANCE - IRELAND .SMILEY PIXIE -
  PORTUGAL
URL:https://www.goabase.net/fr/party/fractal-tea-presents-way-2-zion/56147
CATEGORIES:Psytrance Event
CLASS:PUBLIC
END:VEVENT

BEGIN:VEVENT
UID:302e10f0a63402f7c3ac958b91d1797c
DTSTART:20100917T210000
DTEND:20100918T030000
LOCATION:Dublin [Ireland]
GEO:0.000000000;0.000000000
DTSTAMP:20100917T210000Z
SUMMARY:The Future Fairies - Psychedelic trance party
DESCRIPTION:
URL:https://www.goabase.net/fr/party/the-future-fairies-psychedelic-trance-party/54363
CATEGORIES:Psytrance Event
CLASS:PUBLIC
END:VEVENT

BEGIN:VEVENT
UID:2cecfe35d95575230f30016a44ae4063
DTSTART:20100819T210000
DTEND:20100820T020000
LOCATION:Galway [Ireland]
GEO:0.000000000;0.000000000
DTSTAMP:20100819T210000Z
SUMMARY:Fractal Tea Session
DESCRIPTION:
URL:https://www.goabase.net/fr/party/fractal-tea-session/54969
CATEGORIES:Psytrance Event
CLASS:PUBLIC
END:VEVENT

BEGIN:VEVENT
UID:bf65767113c3de287e64e355af8f022b
DTSTART:20100805T200000
DTEND:20100806T020000
LOCATION:Galway [Ireland]
GEO:0.000000000;0.000000000
DTSTAMP:20100805T200000Z
SUMMARY:Chillout Session
DESCRIPTION:Line-up: Smiley Pixie
URL:https://www.goabase.net/fr/party/chillout-session/54596
CATEGORIES:Psytrance Event
CLASS:PUBLIC
END:VEVENT

END:VCALENDAR