BEGIN:VCALENDAR
VERSION:2.0
PRODID:goabase.net iCalendar 2026
X-WR-CALNAME:goabase.net - parties and people 
X-WR-TIMEZONE;VALUE=TEXT:Europe/Berlin
CALSCALE:GREGORIAN
BEGIN:VTIMEZONE
TZID:Europe/Berlin
X-LIC-LOCATION:Europe/Berlin
BEGIN:DAYLIGHT
TZOFFSETFROM:+0100
TZOFFSETTO:+0200
TZNAME:CEST
DTSTART:19700329T020000
RRULE:FREQ=YEARLY;INTERVAL=1;BYDAY=-1SU;BYMONTH=3
END:DAYLIGHT
BEGIN:STANDARD
TZOFFSETFROM:+0200
TZOFFSETTO:+0100
TZNAME:CET
DTSTART:19701025T030000
RRULE:FREQ=YEARLY;INTERVAL=1;BYDAY=-1SU;BYMONTH=10
END:STANDARD
END:VTIMEZONE

BEGIN:VEVENT
UID:bb3c9a19c5317835ac6750a2aae6b1bf
DTSTART:20181011T233000
DTEND:20181012T060000
LOCATION:Cerdanyola del Vallés [Spain]
GEO:41.491032400;2.137496900
DTSTAMP:20181011T233000Z
SUMMARY:1rst Trip to the Moon
DESCRIPTION:Line-up: ★ LINE UP ★ ✿ MODULE VIRUS (Sangoma Records) ✿ SYNESTHETIC
  (Spin Twist) ✿ OBIT (Flying Spores) ✿ PSYTOTIX (Dropland)
URL:https://www.goabase.net/fr/party/1rst-trip-to-the-moon/101507
CATEGORIES:Psytrance Event
CLASS:PUBLIC
END:VEVENT

BEGIN:VEVENT
UID:31601d33a394b6babcf18be6b0d15a31
DTSTART:20180428T233000
DTEND:20180429T060000
LOCATION:Cerdanyola del Vallés [Spain]
GEO:41.491032400;2.137496900
DTSTAMP:20180428T233000Z
SUMMARY:Sonic Chakras
DESCRIPTION:Line-up: ★ ★ ★ ★ ★ LINEUP ★ ★ ★ ★ ★ Groove Psy & Forest MIKEL –
  PARVATI RECORDS Italy GOVINDA – BELIEVE LAB Italy GINO – SONICA…
URL:https://www.goabase.net/fr/party/sonic-chakras/99607
CATEGORIES:Psytrance Event
CLASS:PUBLIC
END:VEVENT

BEGIN:VEVENT
UID:fd8db4090cb53f7688a7622a7602ec94
DTSTART:20180421T233000
DTEND:20180422T060000
LOCATION:Castellar del Vallés [Spain]
GEO:41.613812200;2.087596300
DTSTAMP:20180421T233000Z
SUMMARY:Dissabtes Psycho - Guest: Djane Psynonima & friends
DESCRIPTION:Line-up: Dissabtes Psycho by Dropland Recordings presenta: 21/4 Djane
  Psynonima & friends!!! Special Guest: -Djane Psynonima (Wor…
URL:https://www.goabase.net/fr/party/dissabtes-psycho-guest-djane-psynonima-friends/99606
CATEGORIES:Psytrance Event
CLASS:PUBLIC
END:VEVENT

BEGIN:VEVENT
UID:d9247883438341005e1429e8ef1f4b8a
DTSTART:20160924T233000
DTEND:20160925T060000
LOCATION:Cerdanyola del Vallés [Spain]
GEO:41.491032400;2.137496900
DTSTAMP:20160924T233000Z
SUMMARY:Summer Ends@Mandawa
DESCRIPTION:Line-up: *** Main Stage (Psyprog/Psytrance/Twilight) - YAR ZAA
  (Maharetta rec) 2h Live + Dj set! - Khaoscope (GloOm Music) 1'5h S…
URL:https://www.goabase.net/fr/party/summer-endsmandawa/90043
CATEGORIES:Psytrance Event
CLASS:PUBLIC
END:VEVENT

BEGIN:VEVENT
UID:4805935a60a7c6585fe3cf56c3f7da84
DTSTART:20150905T233000
DTEND:20150906T060000
LOCATION:cerdanyola del valles [Spain]
GEO:0.000000000;0.000000000
DTSTAMP:20150905T233000Z
SUMMARY:FREQS OF THE JUNGLE FESTIVAL VOL.II
DESCRIPTION:Line-up: Main stage: LEOPARDTRON Live! ( GloOm Music / Electric Power
  Pole) Owntrip Live! (Own Spirit Crew) Khaoscope Live! (Gl…
URL:https://www.goabase.net/fr/party/freqs-of-the-jungle-festival-volii/86115
CATEGORIES:Psytrance Event
CLASS:PUBLIC
END:VEVENT

BEGIN:VEVENT
UID:b6c8dfa3886a7d64b005fa62f350771e
DTSTART:20150321T233000
DTEND:20150322T060000
LOCATION:Sabadell [Spain]
GEO:41.546420800;2.108793700
DTSTAMP:20150321T233000Z
SUMMARY:INTRO Transition 2015 BCN
DESCRIPTION:Line-up: ALCHEMIX Live! (Ovnimoon Records) CLEAN TRIP Live! (
  Universal Wave Studio) DJANE JANA (Transition/BMSS) PSYTOTIX (Dr…
URL:https://www.goabase.net/fr/party/intro-transition-2015-bcn/83593
CATEGORIES:Psytrance Event
CLASS:PUBLIC
END:VEVENT

BEGIN:VEVENT
UID:f7613ffd05885e259bca6fd01d7853c4
DTSTART:20150313T233000
DTEND:20150314T060000
LOCATION:Terrassa [Spain]
GEO:41.569730200;2.013207100
DTSTAMP:20150313T233000Z
SUMMARY:PsyNight@Ambeat
DESCRIPTION:Line-up: HYPATIA Live! ( MIND SEEDS.) IBZ OBIT (Red Dust / Flying
  Spores) KHAOSCOPE (GloOm Music / Zero Gravity) TRANSLUCID (Red…
URL:https://www.goabase.net/fr/party/psynightambeat/83594
CATEGORIES:Psytrance Event
CLASS:PUBLIC
END:VEVENT

BEGIN:VEVENT
UID:8f04f4e0dfd90af4fb53f223dee1fdde
DTSTART:20150124T233000
DTEND:20150125T060000
LOCATION:Cerdanyola del Valles [Spain]
GEO:0.000000000;0.000000000
DTSTAMP:20150124T233000Z
SUMMARY:BALDUR's GATE@MANDAWA
DESCRIPTION:Line-up: ૐ Kristian aka DEJAVOO (Dacru Records) UK (1st time in bcn) ૐ
  Obit (Flying Spores / Red Dust) ૐ Khaoscope (GloOm Music /…
URL:https://www.goabase.net/fr/party/baldurs-gatemandawa/83178
CATEGORIES:Psytrance Event
CLASS:PUBLIC
END:VEVENT

BEGIN:VEVENT
UID:5fa5ee415a992d0b9b247ffec38b4e01
DTSTART:20141205T233000
DTEND:20141206T060000
LOCATION:Cerdañola del Valles [Spain]
GEO:0.000000000;0.000000000
DTSTAMP:20141205T233000Z
SUMMARY:★ MAMA MANDAWA PRESENTS: PSYDREAMS★
DESCRIPTION:Line-up: ★Forest Bamp (Mighty Quinn Records / Ritual) MAD ★Diplodocus
  (Sumeria Productions) IBZ ★Khaoscope (GloOm Music/Zero Gr…
URL:https://www.goabase.net/fr/party/mama-mandawa-presents-psydreams/82214
CATEGORIES:Psytrance Event
CLASS:PUBLIC
END:VEVENT

BEGIN:VEVENT
UID:f326e437fba74a7b6b21b7293fe5a015
DTSTART:20141122T230000
DTEND:20141123T060000
LOCATION:Blanes [Spain]
GEO:41.675617800;2.793239100
DTSTAMP:20141122T230000Z
SUMMARY:Flying Circus + (Special Fluor Circus Show)
DESCRIPTION:Line-up: MOONKI (ModularSound) ANONEKY (Psycodelikland) OWNTRIP live!
  (Own Spirit) KHAOSCOPE live! (Gloom Music/Zero Gravity)…
URL:https://www.goabase.net/fr/party/flying-circus-special-fluor-circus-show/81899
CATEGORIES:Psytrance Event
CLASS:PUBLIC
END:VEVENT

BEGIN:VEVENT
UID:44ad4e7fa32d8675ec71fdbd4004a52b
DTSTART:20140906T123000
DTEND:20140907T060000
LOCATION:Cerdanyola (BCN) [Spain]
GEO:0.000000000;0.000000000
DTSTAMP:20140906T123000Z
SUMMARY:ASTRAL RISING
DESCRIPTION:Line-up: --- QUANTICA Live!! (Flying Spores Records) --- Psygroo (Own
  Spirit) --- Obit vs. Translucid (Flying Spores/Red Dust)…
URL:https://www.goabase.net/fr/party/astral-rising/80723
CATEGORIES:Psytrance Event
CLASS:PUBLIC
END:VEVENT

BEGIN:VEVENT
UID:fb8ad772b8d5e79e9970cfbfb1c304a2
DTSTART:20140510T230000
DTEND:20140511T063000
LOCATION:Blanes [Spain]
GEO:0.000000000;0.000000000
DTSTAMP:20140510T230000Z
SUMMARY:Psytrance goes to Blanes!!!
DESCRIPTION:Line-up: Live: Khaoscope (Zero Gravity rec) Dj: Obit (Red Dust /
  Flying Spores) Translucid (Red Dust / Zero Gravity) Anoneky (…
URL:https://www.goabase.net/fr/party/psytrance-goes-to-blanes/79111
CATEGORIES:Psytrance Event
CLASS:PUBLIC
END:VEVENT

BEGIN:VEVENT
UID:0ab1f2791cc3a9c9322b308f94befed7
DTSTART:20130831T123000
DTEND:20130901T060000
LOCATION:Barcelona [Spain]
GEO:0.000000000;0.000000000
DTSTAMP:20130831T123000Z
SUMMARY:Psy-Mind Connection @ Mama Mandawa
DESCRIPTION:Line-up: ► KHAOSCOPE (LIVE) Productor y dj en la escena nacional e
  internacional ymiembro de zerogravityrecords Actualmente khaos…
URL:https://www.goabase.net/fr/party/psy-mind-connection-mama-mandawa/74717
CATEGORIES:Psytrance Event
CLASS:PUBLIC
END:VEVENT

BEGIN:VEVENT
UID:432549499154b35262f36272ac40e15e
DTSTART:20110528T170000
DTEND:20110529T050000
LOCATION:Barcelona [Spain]
GEO:41.439000000;2.181000000
DTSTAMP:20110528T170000Z
SUMMARY:Electrocutaos 2011 (Underground Trance Festival)
DESCRIPTION:Line-up: Live Sets: Add Noise (Muskaria) Feel Dr. (Artnautas) Unison
  (Spun Records) Raijin Gaijin (MikelaBella Records)
URL:https://www.goabase.net/fr/party/electrocutaos-2011-underground-trance-festival/60270
CATEGORIES:Psytrance Event
CLASS:PUBLIC
END:VEVENT

END:VCALENDAR