BEGIN:VCALENDAR
VERSION:2.0
PRODID:goabase.net iCalendar 2026
X-WR-CALNAME:goabase.net - parties and people 
X-WR-TIMEZONE;VALUE=TEXT:Europe/Berlin
CALSCALE:GREGORIAN
BEGIN:VTIMEZONE
TZID:Europe/Berlin
X-LIC-LOCATION:Europe/Berlin
BEGIN:DAYLIGHT
TZOFFSETFROM:+0100
TZOFFSETTO:+0200
TZNAME:CEST
DTSTART:19700329T020000
RRULE:FREQ=YEARLY;INTERVAL=1;BYDAY=-1SU;BYMONTH=3
END:DAYLIGHT
BEGIN:STANDARD
TZOFFSETFROM:+0200
TZOFFSETTO:+0100
TZNAME:CET
DTSTART:19701025T030000
RRULE:FREQ=YEARLY;INTERVAL=1;BYDAY=-1SU;BYMONTH=10
END:STANDARD
END:VTIMEZONE

BEGIN:VEVENT
UID:8ac8af8f8a0022fc357fae9ac94136dd
DTSTART:20110910T233000
DTEND:20110911T120000
LOCATION:Alicante [Spain]
GEO:0.000000000;0.000000000
DTSTAMP:20110910T233000Z
SUMMARY:FROZEN DROPSFREEPARTY 10_Septiembre_2011
DESCRIPTION:
URL:https://www.goabase.net/fr/party/frozen-dropsfreeparty-10septiembre2011/62011
CATEGORIES:Psytrance Event
CLASS:PUBLIC
END:VEVENT

BEGIN:VEVENT
UID:bf25fe39d4b91112351aa5363c7e3390
DTSTART:20110716T220000
DTEND:20110717T170000
LOCATION:Alicante Playa Cabo De Huer… [Spain]
GEO:0.000000000;0.000000000
DTSTAMP:20110716T220000Z
SUMMARY:RED·DROPS  by RED DUST & A'DR0P1NPSY
DESCRIPTION:Line-up: -Zaraus live (One Foot Groove / Free Flow Moovement -
  Portugal) •&#1632-•&#9679-&#2768-&#9679-•&#1632-• •&#1632-•&#9679…
URL:https://www.goabase.net/fr/party/reddrops-by-red-dust-adr0p1npsy/60261
CATEGORIES:Psytrance Event
CLASS:PUBLIC
END:VEVENT

BEGIN:VEVENT
UID:c2ea25b869d38fe1c5e24ad755a35386
DTSTART:20110212T233000
DTEND:20110213T120000
LOCATION:El Sabinar, Alicante Spain [Spain]
GEO:0.000000000;0.000000000
DTSTAMP:20110212T233000Z
SUMMARY:ACID DROPS  PSY.PARTY-RAVE [2K11_002] by A'DROP1NPSY
DESCRIPTION:Line-up: MAYBE
URL:https://www.goabase.net/fr/party/acid-drops-psyparty-rave-2k11002-by-adrop1npsy/57825
CATEGORIES:Psytrance Event
CLASS:PUBLIC
END:VEVENT

BEGIN:VEVENT
UID:f94202bc053899a2927d3ac2d51fc451
DTSTART:20100417T233000
DTEND:20100418T120000
LOCATION:Alicante [Spain]
GEO:0.000000000;0.000000000
DTSTAMP:20100417T233000Z
SUMMARY:ACID TEST / Se.To.Ro Party ! @ El Sabinar !
DESCRIPTION:Line-up: TERROR ERROR / SILLY NEUTRONS (Noruega)
URL:https://www.goabase.net/fr/party/acid-test-setoro-party-el-sabinar/52403
CATEGORIES:Psytrance Event
CLASS:PUBLIC
END:VEVENT

BEGIN:VEVENT
UID:487c6ebceea307f6dce5c63515d68db4
DTSTART:20090429T220000
DTEND:20090502T120000
LOCATION:VILLAROBLEDO, ALBACETE (Viñ… [Spain]
GEO:0.000000000;0.000000000
DTSTAMP:20090429T220000Z
SUMMARY:PSYVIÑAROCKADELIC by kantALA SOUND
DESCRIPTION:
URL:https://www.goabase.net/fr/festival/psyvinarockadelic-by-kantala-sound/45913
CATEGORIES:Psytrance Event
CLASS:PUBLIC
END:VEVENT

BEGIN:VEVENT
UID:e88598991bcb374f53e9345bfa34b95b
DTSTART:20080731T233000
DTEND:20080731T233000
LOCATION:Alicante [Spain]
GEO:0.000000000;0.000000000
DTSTAMP:20080731T233000Z
SUMMARY:Acidprogree
DESCRIPTION:
URL:https://www.goabase.net/fr/party/acidprogree/40122
CATEGORIES:Psytrance Event
CLASS:PUBLIC
END:VEVENT

END:VCALENDAR