BEGIN:VCALENDAR
VERSION:2.0
PRODID:goabase.net iCalendar 2026
X-WR-CALNAME:goabase.net - parties and people 
X-WR-TIMEZONE;VALUE=TEXT:Europe/Berlin
CALSCALE:GREGORIAN
BEGIN:VTIMEZONE
TZID:Europe/Berlin
X-LIC-LOCATION:Europe/Berlin
BEGIN:DAYLIGHT
TZOFFSETFROM:+0100
TZOFFSETTO:+0200
TZNAME:CEST
DTSTART:19700329T020000
RRULE:FREQ=YEARLY;INTERVAL=1;BYDAY=-1SU;BYMONTH=3
END:DAYLIGHT
BEGIN:STANDARD
TZOFFSETFROM:+0200
TZOFFSETTO:+0100
TZNAME:CET
DTSTART:19701025T030000
RRULE:FREQ=YEARLY;INTERVAL=1;BYDAY=-1SU;BYMONTH=10
END:STANDARD
END:VTIMEZONE

BEGIN:VEVENT
UID:c5e6a532b10b5878bc6a558e5153676f
DTSTART:20070928T220000
DTEND:20070929T160000
LOCATION:Hannover/Peine [Germany]
GEO:52.309000000;10.279000000
DTSTAMP:20070928T220000Z
SUMMARY:PSY-ZONE  progressiv trance event part 2
DESCRIPTION:Line-up: Lumbago (Liquid Crystal Music/www.prog-on.de) Spacepanther
  (spacepanther.de) Connexx (Savva rec Music)
URL:https://www.goabase.net/fr/party/psy-zone-progressiv-trance-event-part-2/31380
CATEGORIES:Psytrance Event
CLASS:PUBLIC
END:VEVENT

END:VCALENDAR