BEGIN:VCALENDAR
VERSION:2.0
PRODID:goabase.net iCalendar 2026
X-WR-CALNAME:goabase.net - parties and people 
X-WR-TIMEZONE;VALUE=TEXT:Europe/Berlin
CALSCALE:GREGORIAN
BEGIN:VTIMEZONE
TZID:Europe/Berlin
X-LIC-LOCATION:Europe/Berlin
BEGIN:DAYLIGHT
TZOFFSETFROM:+0100
TZOFFSETTO:+0200
TZNAME:CEST
DTSTART:19700329T020000
RRULE:FREQ=YEARLY;INTERVAL=1;BYDAY=-1SU;BYMONTH=3
END:DAYLIGHT
BEGIN:STANDARD
TZOFFSETFROM:+0200
TZOFFSETTO:+0100
TZNAME:CET
DTSTART:19701025T030000
RRULE:FREQ=YEARLY;INTERVAL=1;BYDAY=-1SU;BYMONTH=10
END:STANDARD
END:VTIMEZONE

BEGIN:VEVENT
UID:b03d860087658dd81db8eb88171d07e1
DTSTART:20120825T230000
DTEND:20120826T180000
LOCATION:Valença [Portugal]
GEO:-13.359616836;-39.198695778
DTSTAMP:20120825T230000Z
SUMMARY:Boivão 2012  :::The Ritual:::
DESCRIPTION:Line-up: Outer signal (3dvision Mechanik Records) - Israel Biorhythm
  (Spectral records/ The Village records) – South Africa Dj s…
URL:https://www.goabase.net/fr/party/boivao-2012-the-ritual/67129
CATEGORIES:Psytrance Event
CLASS:PUBLIC
END:VEVENT

BEGIN:VEVENT
UID:716f384579ce01c6d02a72f655abd741
DTSTART:20110820T233000
DTEND:20110821T180000
LOCATION:Valença [Portugal]
GEO:0.000000000;0.000000000
DTSTAMP:20110820T233000Z
SUMMARY:Boivão 2011
DESCRIPTION:Line-up: :::LIVE INTERNATIONAL SOON::::: Tryambaka (Bhooteshwara Rec
  /Spectral Rec / One Foot Groove Rec) Khopat (Spectral rec/.…
URL:https://www.goabase.net/fr/party/boivao-2011/60527
CATEGORIES:Psytrance Event
CLASS:PUBLIC
END:VEVENT

END:VCALENDAR