BEGIN:VCALENDAR
VERSION:2.0
PRODID:goabase.net iCalendar 2026
X-WR-CALNAME:goabase.net - parties and people 
X-WR-TIMEZONE;VALUE=TEXT:Europe/Berlin
CALSCALE:GREGORIAN
BEGIN:VTIMEZONE
TZID:Europe/Berlin
X-LIC-LOCATION:Europe/Berlin
BEGIN:DAYLIGHT
TZOFFSETFROM:+0100
TZOFFSETTO:+0200
TZNAME:CEST
DTSTART:19700329T020000
RRULE:FREQ=YEARLY;INTERVAL=1;BYDAY=-1SU;BYMONTH=3
END:DAYLIGHT
BEGIN:STANDARD
TZOFFSETFROM:+0200
TZOFFSETTO:+0100
TZNAME:CET
DTSTART:19701025T030000
RRULE:FREQ=YEARLY;INTERVAL=1;BYDAY=-1SU;BYMONTH=10
END:STANDARD
END:VTIMEZONE

BEGIN:VEVENT
UID:80c179d90176cc714db774f2d5f25e6c
DTSTART:20260605T120000
DTEND:20260607T120000
LOCATION:Rurrenabaque [Bolivia]
GEO:-14.442820000;-67.529790000
DTSTAMP:20260605T120000Z
SUMMARY:Amazon Festival 2026
DESCRIPTION:Line-up: ((VJs)) 🌈 Fractal VJ Project ((Art.Marc369))(BOL) 🌈 VJ Kid
  Infame (BOL) ((DJs Confirmados)) 🎧 AdrenAline ((Tribolite… Lieu:
  Altura: Piscina ¨El Mirador¨, Calle Avaroa esquina Vaca Diez,
  Rurrenabaque, 0000 Rurrenabaque
URL:https://www.goabase.net/fr/festival/amazon-festival-2026/116750
CATEGORIES:Psytrance Event
CLASS:PUBLIC
END:VEVENT

BEGIN:VEVENT
UID:2623c1f4f5b7f58ba4d5154448dbd750
DTSTART:20250606T160000
DTEND:20250608T160000
LOCATION:Rurrenabaque [Bolivia]
GEO:-14.441250000;-67.527810000
DTSTAMP:20250606T160000Z
SUMMARY:Amazon Festival 2025
DESCRIPTION:Line-up: ((VJs)) 🌈 El Espejo de Pablo ((VisualArte))(BOL/URU) 🌈 Pardox
  ((8_active_bo))(BOL) 🌈 KA8Z ((La Colmena))(BOL) ((DJs)) 🎧… Lieu:
  Altura: Piscina ¨El Mirador¨, Calle Avaroa, Rurrenabaque, 0000
  Rurrenabaque
URL:https://www.goabase.net/fr/festival/amazon-festival-2025/114665
CATEGORIES:Psytrance Event
CLASS:PUBLIC
END:VEVENT

BEGIN:VEVENT
UID:c22c0f46827a58a3c43d5c05c4aa4aa3
DTSTART:20240607T160000
DTEND:20240609T160000
LOCATION:Rurrenabaque [Bolivia]
GEO:-14.441250000;-67.527810000
DTSTAMP:20240607T160000Z
SUMMARY:´´Amazon Festival 2024´´
DESCRIPTION:Line-up: ((Makuty Tribe Presenta)) ((Amazon 🌌 Festival)) ((Evento
  REnacido a razón de los acontecimientos climáticos en la selva… Lieu:
  Piscina ¨El Mirador¨, Calle Avaroa, Rurrenabaque, 0000 Rurrenabaque
URL:https://www.goabase.net/fr/festival/amazon-festival-2024/112225
CATEGORIES:Psytrance Event
CLASS:PUBLIC
END:VEVENT

END:VCALENDAR