BEGIN:VCALENDAR
VERSION:2.0
PRODID:goabase.net iCalendar 2026
X-WR-CALNAME:goabase.net - parties and people 
X-WR-TIMEZONE;VALUE=TEXT:Europe/Berlin
CALSCALE:GREGORIAN
BEGIN:VTIMEZONE
TZID:Europe/Berlin
X-LIC-LOCATION:Europe/Berlin
BEGIN:DAYLIGHT
TZOFFSETFROM:+0100
TZOFFSETTO:+0200
TZNAME:CEST
DTSTART:19700329T020000
RRULE:FREQ=YEARLY;INTERVAL=1;BYDAY=-1SU;BYMONTH=3
END:DAYLIGHT
BEGIN:STANDARD
TZOFFSETFROM:+0200
TZOFFSETTO:+0100
TZNAME:CET
DTSTART:19701025T030000
RRULE:FREQ=YEARLY;INTERVAL=1;BYDAY=-1SU;BYMONTH=10
END:STANDARD
END:VTIMEZONE

BEGIN:VEVENT
UID:9d02cb61035b3bdec01cc8c31f19a685
DTSTART:20221223T230000
DTEND:20221224T080000
LOCATION:Berlin [Germany]
GEO:52.500000000;13.500000000
DTSTAMP:20221223T230000Z
SUMMARY:Ab Zum Rave - Drunken Dwarves
DESCRIPTION:Line-up: ◢ Mountain Mambo ◣ (Hard Techno/Industrial) 🔘 Sievert
  Serviert 🔘 NK Porter 🔘 Dali 🔘 French Dressing 🔘 Brohm & Sissy ◢ Be…
  Lieu: Kulturhaus Kili, Wiesenweg 5-9, 10365 Berlin
URL:https://www.goabase.net/fr/party/ab-zum-rave-drunken-dwarves/109597
CATEGORIES:Psytrance Event
CLASS:PUBLIC
END:VEVENT

BEGIN:VEVENT
UID:ce0f9d829ea6c2ff06bb1dfb9165a8de
DTSTART:20221119T230000
DTEND:20221120T080000
LOCATION:Berlin [Germany]
GEO:52.500000000;13.500000000
DTSTAMP:20221119T230000Z
SUMMARY:Ab Zum Rave - Dark Delusions
DESCRIPTION:Line-up: ◢ Der Darker ◣ (Dark/Experimental) 🔘 Haryashvas (Live) 🔘
  OrbitalNoise (Live) 🔘 Homunkohlus 🔘 Sonic Wizzard 🔘 Dark Anomal… Lieu:
  Kulturhaus Kili, Wiesenweg 5-9, 10365 Berlin
URL:https://www.goabase.net/fr/party/ab-zum-rave-dark-delusions/109384
CATEGORIES:Psytrance Event
CLASS:PUBLIC
END:VEVENT

BEGIN:VEVENT
UID:7c1c699cd3a069bc7fe69a5bb0a0e0c5
DTSTART:20190809T230000
DTEND:20190810T080000
LOCATION:Berlin [Germany]
GEO:52.517036400;13.388859700
DTSTAMP:20190809T230000Z
SUMMARY:Urknall meets Psy or Die // 09.08.19 // Prog, Psy & Hitech
DESCRIPTION:Line-up: ॐ Mᴀɪɴꜰʟᴏʀ ॐ ╔═ Antiquis Anima ╚» Ab Zum Rave / Way to
  Wonderland Crew / Berlin ╔═ JeylectroniK ╚» Urknall Events / Cot…
URL:https://www.goabase.net/fr/party/urknall-meets-psy-or-die-090819-prog-psy-hitech/104158
CATEGORIES:Psytrance Event
CLASS:PUBLIC
END:VEVENT

BEGIN:VEVENT
UID:aeb78f39799cc2df70ed8f6271b44357
DTSTART:20190517T230000
DTEND:20190518T080000
LOCATION:Berlin [Germany]
GEO:52.517036400;13.388859700
DTSTAMP:20190517T230000Z
SUMMARY:PSY OR DIE NR. II - Realitätsverlust
DESCRIPTION:Line-up: ☭ LI∏Σ ƱƤ ▐ ▬Dark & Hitech (Mainfloor)▬▐ ▆ ◥►Cevinzo◄◤
  (Magdeburg) ◥…
URL:https://www.goabase.net/fr/party/psy-or-die-nr-ii-realitaetsverlust/103797
CATEGORIES:Psytrance Event
CLASS:PUBLIC
END:VEVENT

BEGIN:VEVENT
UID:90253cb47fc07622a00379a11ed2facd
DTSTART:20190426T230000
DTEND:20190427T090000
LOCATION:Berlin [Germany]
GEO:52.517036400;13.388859700
DTSTAMP:20190426T230000Z
SUMMARY:PSY OR DIE - Free Party Hitech/FullOn/DnB
DESCRIPTION:Line-up: Oº°‘¨ Line up¨‘°ºO Antiquis Anima ╚» Ab zum Rave / Lost in
  Nature Homunkohlus ╚» Ab zum Rave / Loat in Nature Baladara ╚…
URL:https://www.goabase.net/fr/party/psy-or-die-free-party-hitechfullondnb/103245
CATEGORIES:Psytrance Event
CLASS:PUBLIC
END:VEVENT

BEGIN:VEVENT
UID:02b7f93884ed28e8432c84a986857fd6
DTSTART:20190112T220000
DTEND:20190113T080000
LOCATION:Berlin [Germany]
GEO:52.517036400;13.388859700
DTSTAMP:20190112T220000Z
SUMMARY:Psy & Techno Free Party at Kulturhaus Kili
DESCRIPTION:Line-up: ---Line Up----- ๑₪இ Mainfloor (Darkpsy / Hitech) இ₪๑ ☊
  Homunkohlus -- Ab zu…
URL:https://www.goabase.net/fr/party/psy-techno-free-party-at-kulturhaus-kili/102443
CATEGORIES:Psytrance Event
CLASS:PUBLIC
END:VEVENT

BEGIN:VEVENT
UID:e7d0eebc23d7af446b650512a9970a21
DTSTART:20181109T230000
DTEND:20181110T110000
LOCATION:Berlin [Germany]
GEO:52.517036400;13.388859700
DTSTAMP:20181109T230000Z
SUMMARY:Way To Wonderland One Year Anniversary
DESCRIPTION:Line-up: ꧁Psy-Portal꧂ ✧DJ Jordan ✧Pure Harry (+live e-guitar) ✧Nayati
  Sun - Mystic Rose ✧Johnson Patrick ✧Psyberkick - Psyche…
URL:https://www.goabase.net/fr/party/way-to-wonderland-one-year-anniversary/101560
CATEGORIES:Psytrance Event
CLASS:PUBLIC
END:VEVENT

END:VCALENDAR