BEGIN:VCALENDAR
VERSION:2.0
PRODID:goabase.net iCalendar 2026
X-WR-CALNAME:goabase.net - parties and people 
X-WR-TIMEZONE;VALUE=TEXT:Europe/Berlin
CALSCALE:GREGORIAN
BEGIN:VTIMEZONE
TZID:Europe/Berlin
X-LIC-LOCATION:Europe/Berlin
BEGIN:DAYLIGHT
TZOFFSETFROM:+0100
TZOFFSETTO:+0200
TZNAME:CEST
DTSTART:19700329T020000
RRULE:FREQ=YEARLY;INTERVAL=1;BYDAY=-1SU;BYMONTH=3
END:DAYLIGHT
BEGIN:STANDARD
TZOFFSETFROM:+0200
TZOFFSETTO:+0100
TZNAME:CET
DTSTART:19701025T030000
RRULE:FREQ=YEARLY;INTERVAL=1;BYDAY=-1SU;BYMONTH=10
END:STANDARD
END:VTIMEZONE

BEGIN:VEVENT
UID:edfa4039473eebeb81f187033d067b23
DTSTART:20070313T220000
DTEND:20070314T040000
LOCATION:Vienna [Austria]
GEO:0.000000000;0.000000000
DTSTAMP:20070313T220000Z
SUMMARY:PSYCHEDELIC RECREATION
DESCRIPTION:
URL:https://www.goabase.net/fr/party/psychedelic-recreation/30210
CATEGORIES:Psytrance Event
CLASS:PUBLIC
END:VEVENT

BEGIN:VEVENT
UID:0f937afd6367f79583a2a862dcc1f194
DTSTART:20070213T220000
DTEND:20070214T040000
LOCATION:Vienna [Austria]
GEO:0.000000000;0.000000000
DTSTAMP:20070213T220000Z
SUMMARY:PSYCHEDELIC RECREATION
DESCRIPTION:
URL:https://www.goabase.net/fr/party/psychedelic-recreation/29953
CATEGORIES:Psytrance Event
CLASS:PUBLIC
END:VEVENT

BEGIN:VEVENT
UID:8d79f5124522a59fc815acc39ec3cfe2
DTSTART:20070109T220000
DTEND:20070110T040000
LOCATION:Vienna [Austria]
GEO:0.000000000;0.000000000
DTSTAMP:20070109T220000Z
SUMMARY:PSYCHEDELIC RECREATION
DESCRIPTION:
URL:https://www.goabase.net/fr/party/psychedelic-recreation/29211
CATEGORIES:Psytrance Event
CLASS:PUBLIC
END:VEVENT

BEGIN:VEVENT
UID:aec1794bbf9e7dfab3034c5ca5dd493b
DTSTART:20061212T220000
DTEND:20061213T040000
LOCATION:Vienna [Austria]
GEO:0.000000000;0.000000000
DTSTAMP:20061212T220000Z
SUMMARY:PSYCHEDELIC RECREATION
DESCRIPTION:
URL:https://www.goabase.net/fr/party/psychedelic-recreation/26460
CATEGORIES:Psytrance Event
CLASS:PUBLIC
END:VEVENT

BEGIN:VEVENT
UID:cff94ccd6d02f49b8c695bc404542477
DTSTART:20061114T220000
DTEND:20061115T040000
LOCATION:Vienna [Austria]
GEO:0.000000000;0.000000000
DTSTAMP:20061114T220000Z
SUMMARY:PSYCHEDELIC RECREATION
DESCRIPTION:
URL:https://www.goabase.net/fr/party/psychedelic-recreation/26459
CATEGORIES:Psytrance Event
CLASS:PUBLIC
END:VEVENT

BEGIN:VEVENT
UID:9f7d86a7bb8edefafa73b999029fb382
DTSTART:20061022T050000
DTEND:20061022T140000
LOCATION:Vienna [Austria]
GEO:0.000000000;0.000000000
DTSTAMP:20061022T050000Z
SUMMARY:PSYCHEDELIC RECREATION     afterhour 2012
DESCRIPTION:
URL:https://www.goabase.net/fr/party/psychedelic-recreation-afterhour-2012/27527
CATEGORIES:Psytrance Event
CLASS:PUBLIC
END:VEVENT

BEGIN:VEVENT
UID:73f787125f1ad1d8904f0afc2a2bfd5b
DTSTART:20061010T220000
DTEND:20061011T040000
LOCATION:Vienna [Austria]
GEO:0.000000000;0.000000000
DTSTAMP:20061010T220000Z
SUMMARY:PSYCHEDELIC RECREATION
DESCRIPTION:
URL:https://www.goabase.net/fr/party/psychedelic-recreation/26458
CATEGORIES:Psytrance Event
CLASS:PUBLIC
END:VEVENT

BEGIN:VEVENT
UID:a8dd8c1e2ea9cc43644200c5fd64cb1e
DTSTART:20060912T220000
DTEND:20060913T040000
LOCATION:Vienna [Austria]
GEO:0.000000000;0.000000000
DTSTAMP:20060912T220000Z
SUMMARY:PSYCHEDELIC RECREATION  -  "profusion label night"
DESCRIPTION:
URL:https://www.goabase.net/fr/party/psychedelic-recreation-profusion-label-night/26457
CATEGORIES:Psytrance Event
CLASS:PUBLIC
END:VEVENT

BEGIN:VEVENT
UID:dde34d5a48d68c298a3ac0e698d43e6e
DTSTART:20060613T200000
DTEND:20060614T040000
LOCATION:Vienna [Austria]
GEO:0.000000000;0.000000000
DTSTAMP:20060613T200000Z
SUMMARY:PSY WM       Brasilien - Kroatien
DESCRIPTION:Line-up: BRASILIEN KROATIEN
URL:https://www.goabase.net/fr/party/psy-wm-brasilien-kroatien/23969
CATEGORIES:Psytrance Event
CLASS:PUBLIC
END:VEVENT

BEGIN:VEVENT
UID:b288aaa6f732ca49a37bce4d7dcdaafb
DTSTART:20060509T220000
DTEND:20060510T040000
LOCATION:Vienna [Austria]
GEO:0.000000000;0.000000000
DTSTAMP:20060509T220000Z
SUMMARY:PSYCHEDELIC RECREATION vs. 2 MUSHROOMS
DESCRIPTION:
URL:https://www.goabase.net/fr/party/psychedelic-recreation-vs-2-mushrooms/23968
CATEGORIES:Psytrance Event
CLASS:PUBLIC
END:VEVENT

BEGIN:VEVENT
UID:1956e31d5bf68733163308bba61e6e4d
DTSTART:20060411T220000
DTEND:20060412T040000
LOCATION:Vienna [Austria]
GEO:0.000000000;0.000000000
DTSTAMP:20060411T220000Z
SUMMARY:Psychedelic Recreation
DESCRIPTION:
URL:https://www.goabase.net/fr/party/psychedelic-recreation/23474
CATEGORIES:Psytrance Event
CLASS:PUBLIC
END:VEVENT

BEGIN:VEVENT
UID:0a230f8f91498bf614a4ab19ce087a8c
DTSTART:20060314T220000
DTEND:20060315T040000
LOCATION:Vienna [Austria]
GEO:0.000000000;0.000000000
DTSTAMP:20060314T220000Z
SUMMARY:Psychedelic Recreation
DESCRIPTION:
URL:https://www.goabase.net/fr/party/psychedelic-recreation/22270
CATEGORIES:Psytrance Event
CLASS:PUBLIC
END:VEVENT

BEGIN:VEVENT
UID:116fe8c8a9d229781ce435978e1d56d2
DTSTART:20060223T220000
DTEND:20060224T040000
LOCATION:Vienna [Austria]
GEO:0.000000000;0.000000000
DTSTAMP:20060223T220000Z
SUMMARY:Psychedelic Livingroom
DESCRIPTION:
URL:https://www.goabase.net/fr/party/psychedelic-livingroom/22269
CATEGORIES:Psytrance Event
CLASS:PUBLIC
END:VEVENT

BEGIN:VEVENT
UID:e36552d383d406cbcbd05bda45817dff
DTSTART:20060214T220000
DTEND:20060215T040000
LOCATION:Vienna [Austria]
GEO:0.000000000;0.000000000
DTSTAMP:20060214T220000Z
SUMMARY:Psychedelic Recreation
DESCRIPTION:
URL:https://www.goabase.net/fr/party/psychedelic-recreation/22268
CATEGORIES:Psytrance Event
CLASS:PUBLIC
END:VEVENT

BEGIN:VEVENT
UID:87c2b2bcc047ddd0661e98b118ac37f1
DTSTART:20060126T210000
DTEND:20060127T040000
LOCATION:Vienna [Austria]
GEO:0.000000000;0.000000000
DTSTAMP:20060126T210000Z
SUMMARY:PSYCHEDELIC LIVINGROOM
DESCRIPTION:
URL:https://www.goabase.net/fr/party/psychedelic-livingroom/21868
CATEGORIES:Psytrance Event
CLASS:PUBLIC
END:VEVENT

BEGIN:VEVENT
UID:873a51cfa0ee5581330d65ec56836e18
DTSTART:20060124T220000
DTEND:20060125T040000
LOCATION:Vienna [Austria]
GEO:0.000000000;0.000000000
DTSTAMP:20060124T220000Z
SUMMARY:PSYCHEDELIC RECREATION   part 2
DESCRIPTION:
URL:https://www.goabase.net/fr/party/psychedelic-recreation-part-2/21867
CATEGORIES:Psytrance Event
CLASS:PUBLIC
END:VEVENT

BEGIN:VEVENT
UID:abfcf015e83f0a4f4197c9b4654f421c
DTSTART:20060110T220000
DTEND:20060111T040000
LOCATION:Vienna [Austria]
GEO:0.000000000;0.000000000
DTSTAMP:20060110T220000Z
SUMMARY:PSYCHEDELIC RECREATION
DESCRIPTION:
URL:https://www.goabase.net/fr/party/psychedelic-recreation/22160
CATEGORIES:Psytrance Event
CLASS:PUBLIC
END:VEVENT

BEGIN:VEVENT
UID:7a0b4308cca43e05dec5003f9bc80123
DTSTART:20051222T210000
DTEND:20051223T040000
LOCATION:Vienna [Austria]
GEO:0.000000000;0.000000000
DTSTAMP:20051222T210000Z
SUMMARY:" Psychedelic  Livingroom "
DESCRIPTION:
URL:https://www.goabase.net/fr/party/psychedelic-livingroom/18989
CATEGORIES:Psytrance Event
CLASS:PUBLIC
END:VEVENT

BEGIN:VEVENT
UID:bbfc5f4f1fc9161a26b1c0efed8dbffa
DTSTART:20051213T210000
DTEND:20051214T040000
LOCATION:Vienna [Austria]
GEO:0.000000000;0.000000000
DTSTAMP:20051213T210000Z
SUMMARY:"Psychedelic Recreation"
DESCRIPTION:
URL:https://www.goabase.net/fr/party/psychedelic-recreation/21494
CATEGORIES:Psytrance Event
CLASS:PUBLIC
END:VEVENT

BEGIN:VEVENT
UID:d31d17d81493f6c35c9067764323222c
DTSTART:20051124T210000
DTEND:20051125T040000
LOCATION:Vienna [Austria]
GEO:0.000000000;0.000000000
DTSTAMP:20051124T210000Z
SUMMARY:" Psychedelic  Livingroom "
DESCRIPTION:
URL:https://www.goabase.net/fr/party/psychedelic-livingroom/18988
CATEGORIES:Psytrance Event
CLASS:PUBLIC
END:VEVENT

END:VCALENDAR