BEGIN:VCALENDAR
VERSION:2.0
PRODID:goabase.net iCalendar 2026
X-WR-CALNAME:goabase.net - parties and people 
X-WR-TIMEZONE;VALUE=TEXT:Europe/Berlin
CALSCALE:GREGORIAN
BEGIN:VTIMEZONE
TZID:Europe/Berlin
X-LIC-LOCATION:Europe/Berlin
BEGIN:DAYLIGHT
TZOFFSETFROM:+0100
TZOFFSETTO:+0200
TZNAME:CEST
DTSTART:19700329T020000
RRULE:FREQ=YEARLY;INTERVAL=1;BYDAY=-1SU;BYMONTH=3
END:DAYLIGHT
BEGIN:STANDARD
TZOFFSETFROM:+0200
TZOFFSETTO:+0100
TZNAME:CET
DTSTART:19701025T030000
RRULE:FREQ=YEARLY;INTERVAL=1;BYDAY=-1SU;BYMONTH=10
END:STANDARD
END:VTIMEZONE

BEGIN:VEVENT
UID:c2b22afa5b09ae5a89a3ef92f187e8cc
DTSTART:20111231T200000
DTEND:20120101T120000
LOCATION:Peine UJZ-Peine [Germany]
GEO:0.000000000;0.000000000
DTSTAMP:20111231T200000Z
SUMMARY:Silvester im UJZ
DESCRIPTION:
URL:https://www.goabase.net/fr/party/silvester-im-ujz/62667
CATEGORIES:Psytrance Event
CLASS:PUBLIC
END:VEVENT

BEGIN:VEVENT
UID:c00e73fdeec020d5ed0794fca56b7429
DTSTART:20070331T210000
DTEND:20070401T180000
LOCATION:Peine [Germany]
GEO:0.000000000;0.000000000
DTSTAMP:20070331T210000Z
SUMMARY:Visionary Tunes
DESCRIPTION:
URL:https://www.goabase.net/fr/party/visionary-tunes/30097
CATEGORIES:Psytrance Event
CLASS:PUBLIC
END:VEVENT

END:VCALENDAR