BEGIN:VCALENDAR
VERSION:2.0
PRODID:goabase.net iCalendar 2026
X-WR-CALNAME:goabase.net - parties and people 
X-WR-TIMEZONE;VALUE=TEXT:Europe/Berlin
CALSCALE:GREGORIAN
BEGIN:VTIMEZONE
TZID:Europe/Berlin
X-LIC-LOCATION:Europe/Berlin
BEGIN:DAYLIGHT
TZOFFSETFROM:+0100
TZOFFSETTO:+0200
TZNAME:CEST
DTSTART:19700329T020000
RRULE:FREQ=YEARLY;INTERVAL=1;BYDAY=-1SU;BYMONTH=3
END:DAYLIGHT
BEGIN:STANDARD
TZOFFSETFROM:+0200
TZOFFSETTO:+0100
TZNAME:CET
DTSTART:19701025T030000
RRULE:FREQ=YEARLY;INTERVAL=1;BYDAY=-1SU;BYMONTH=10
END:STANDARD
END:VTIMEZONE

BEGIN:VEVENT
UID:6fccb385367b6fc7d13dc3f1c8739f44
DTSTART:20191019T220000
DTEND:20191020T120000
LOCATION:Würzburg [Germany]
GEO:49.792450000;9.932966200
DTSTAMP:20191019T220000Z
SUMMARY:Galactic Gathering - Psy meets Tek
DESCRIPTION:Line-up: +++ Varázsló [live] +++ Sacred Sound - Budapest +++ Isiteshi
  [live] +++ + first time in Germany + Andhakara Records - B…
URL:https://www.goabase.net/fr/party/galactic-gathering-psy-meets-tek/104787
CATEGORIES:Psytrance Event
CLASS:PUBLIC
END:VEVENT

BEGIN:VEVENT
UID:c33901c0052336fa5bffca4827367b6c
DTSTART:20151024T213000
DTEND:20151025T130000
LOCATION:Würzburg [Germany]
GEO:49.792450000;9.932966200
DTSTAMP:20151024T213000Z
SUMMARY:Triple B-Day-Bash mit Varázsló (first time Germany) + Papyo Rafiky *live*
DESCRIPTION:Line-up: :::: Varázsló **LIVE** :::: (Galactic Crew / D.A.R.K. Records
  - Budapest…
URL:https://www.goabase.net/fr/party/triple-b-day-bash-mit-varazslo-first-time-germany-papyo-rafiky-live/86778
CATEGORIES:Psytrance Event
CLASS:PUBLIC
END:VEVENT

BEGIN:VEVENT
UID:fc1cf51fe12b8358b74470ac7430e847
DTSTART:20120217T220000
DTEND:20120218T090000
LOCATION:Würzburg [Germany]
GEO:0.000000000;0.000000000
DTSTAMP:20120217T220000Z
SUMMARY:FASTNACHT STAMPF VERGNÜGEN
DESCRIPTION:
URL:https://www.goabase.net/fr/party/fastnacht-stampf-vergnuegen/64652
CATEGORIES:Psytrance Event
CLASS:PUBLIC
END:VEVENT

BEGIN:VEVENT
UID:f3eedab6ae198b212f13d5d0cd94c7c9
DTSTART:20111028T230000
DTEND:20111029T100000
LOCATION:Würzburg [Germany]
GEO:0.000000000;0.000000000
DTSTAMP:20111028T230000Z
SUMMARY:END OF THE LAST DAY
DESCRIPTION:Line-up: Wir machen das eher nach dem Lust und Laune Prinzip, draußen
  gibts Darkpsy und Forest, drinnen Psy und Full-On evtl. Pro…
URL:https://www.goabase.net/fr/party/end-of-the-last-day/62842
CATEGORIES:Psytrance Event
CLASS:PUBLIC
END:VEVENT

END:VCALENDAR