BEGIN:VCALENDAR
VERSION:2.0
PRODID:goabase.net iCalendar 2026
X-WR-CALNAME:goabase.net - parties and people 
X-WR-TIMEZONE;VALUE=TEXT:Europe/Berlin
CALSCALE:GREGORIAN
BEGIN:VTIMEZONE
TZID:Europe/Berlin
X-LIC-LOCATION:Europe/Berlin
BEGIN:DAYLIGHT
TZOFFSETFROM:+0100
TZOFFSETTO:+0200
TZNAME:CEST
DTSTART:19700329T020000
RRULE:FREQ=YEARLY;INTERVAL=1;BYDAY=-1SU;BYMONTH=3
END:DAYLIGHT
BEGIN:STANDARD
TZOFFSETFROM:+0200
TZOFFSETTO:+0100
TZNAME:CET
DTSTART:19701025T030000
RRULE:FREQ=YEARLY;INTERVAL=1;BYDAY=-1SU;BYMONTH=10
END:STANDARD
END:VTIMEZONE

BEGIN:VEVENT
UID:592ef7d1a52ca0b2092ee2d6d5e7243d
DTSTART:20230513T120000
DTEND:20230514T120000
LOCATION:Cochabamba [Bolivia]
GEO:-17.390040000;-66.160430000
DTSTAMP:20230513T120000Z
SUMMARY:Void Ritual
DESCRIPTION:Line-up: EROFEX (La Paz) R2DEEP (Cbba) ERNIRROLLER (Cbba) OZNOISE
  (Brasil) RESONANTE (Cbba) KUMURO (Brasil) PSYGNOSIS (Cbba) RODS… Lieu:
  Wayralevas, Av Reducto - 4 esquinas, on the irrigation canal 500mts to
  t…, Cochabamba
URL:https://www.goabase.net/fr/party/void-ritual/110377
CATEGORIES:Psytrance Event
CLASS:PUBLIC
END:VEVENT

BEGIN:VEVENT
UID:911613f650e599005c77c8daa1632c62
DTSTART:20221231T190000
DTEND:20230101T150000
LOCATION:La Paz [Bolivia]
GEO:38.890370000;-77.031960000
DTSTAMP:20221231T190000Z
SUMMARY:RITUAL NEW YEAR EVE 2023
DESCRIPTION:Line-up: ♪ Alex Magnum ♪ Erofex ♪ Joc H ♪ Imananuel Cunt (Alemania) ♪
  Imanzipation (Alemania) ♪ Lattus ♪ Lexand ♪ Le Guide ♪ New… Lieu: Valle
  de Ananta, Valle de Ananta Frente al Complejo Villa El Sol - Lipari /
  R…, La Paz
URL:https://www.goabase.net/fr/party/ritual-new-year-eve-2023/109660
CATEGORIES:Psytrance Event
CLASS:PUBLIC
END:VEVENT

BEGIN:VEVENT
UID:bcf95e81617f82b020b0154ddd26a9a5
DTSTART:20220205T110000
DTEND:20220206T120000
LOCATION:Santa Cruz de la Sierra [Bolivia]
GEO:-17.800000000;-63.200000000
DTSTAMP:20220205T110000Z
SUMMARY:PRANA FESTIVAL 2022 (NEW DATE)
DESCRIPTION:Line-up: Time table Ekanta Jake (Brasil) Psycholady. (Brasil) Yuri
  Kampos (Brasil) Flow Trip. (Brasil) Hardtech (Brasil) B-Uxley.…
URL:https://www.goabase.net/fr/party/prana-festival-2022-new-date/107902
CATEGORIES:Psytrance Event
CLASS:PUBLIC
END:VEVENT

BEGIN:VEVENT
UID:bc4ed55586ebf34330a28506dd8744a4
DTSTART:20211218T120000
DTEND:20211219T120000
LOCATION:Santa Cruz de la Sierra [Bolivia]
GEO:-17.800000000;-63.200000000
DTSTAMP:20211218T120000Z
SUMMARY:Prana Festival Santa Cruz
DESCRIPTION:Line-up: Ekanta - Universo Paralelo BR PsycholLady - BR Flow Trip -
  Sonitum Records/Juayhu - BR Yuri Campos - BR Hardtech - BR mo…
URL:https://www.goabase.net/fr/party/prana-festival-santa-cruz/107781
CATEGORIES:Psytrance Event
CLASS:PUBLIC
END:VEVENT

BEGIN:VEVENT
UID:f8821b35cbdb5ef90ce54994e9c4f930
DTSTART:20211015T180000
DTEND:20211016T020000
LOCATION:La Paz [Bolivia]
GEO:41.500000000;-86.300000000
DTSTAMP:20211015T180000Z
SUMMARY:NEUROTRANCE with Cosmic Sound - Erofex - Solarbong
DESCRIPTION:Line-up: - Cosmic Sound (Wav Bookings Juayhu Bookings) - Erofex
  (Neurotrance Records) - Solarbong VJ Buho
URL:https://www.goabase.net/fr/party/neurotrance-with-cosmic-sound-erofex-solarbong/107584
CATEGORIES:Psytrance Event
CLASS:PUBLIC
END:VEVENT

BEGIN:VEVENT
UID:9714cd7aea50c958711a3238f69db385
DTSTART:20170805T220000
DTEND:20170806T033000
LOCATION:Ciudad La Paz [Bolivia]
GEO:-16.495647000;-68.133542000
DTSTAMP:20170805T220000Z
SUMMARY:Cosmic Synergy w/Le Guide & Erofex & Toxic BPM & Lama Glama
DESCRIPTION:Line-up: Fiesta Psytrance-Electroterapia, para liberarte y disfrutar a
  través de los estimulos que genera la música con la mejor…
URL:https://www.goabase.net/fr/party/cosmic-synergy-wle-guide-erofex-toxic-bpm-lama-glama/96321
CATEGORIES:Psytrance Event
CLASS:PUBLIC
END:VEVENT

BEGIN:VEVENT
UID:428006cde7344a682026da369f042daa
DTSTART:20170512T100000
DTEND:20170513T040000
LOCATION:Ciudad La Paz [Bolivia]
GEO:-16.495647000;-68.133542000
DTSTAMP:20170512T100000Z
SUMMARY:Groovy ROOM v.1.0
DESCRIPTION:Line-up: ¤ Juayhu records Presenta : ★ Groovy Room v.1.0 Creamos un
  espacio con música escogída para volar con el P…
URL:https://www.goabase.net/fr/party/groovy-room-v10/95374
CATEGORIES:Psytrance Event
CLASS:PUBLIC
END:VEVENT

BEGIN:VEVENT
UID:0f604dae0456cad5bb7df770e80079bf
DTSTART:20170406T210000
DTEND:20170407T040000
LOCATION:La Paz [Bolivia]
GEO:41.459316300;-86.307212800
DTSTAMP:20170406T210000Z
SUMMARY:Apthapi House, Techno & Trance
DESCRIPTION:Line-up: Nueva experiencia de Apthapi de música electrónica con los
  mejores Djs de Techno/House/Trance. Jueves 6 de Abril, Electr…
URL:https://www.goabase.net/fr/party/apthapi-house-techno-trance/95017
CATEGORIES:Psytrance Event
CLASS:PUBLIC
END:VEVENT

BEGIN:VEVENT
UID:05473facd1fc286c8fd1a5a542a60d5e
DTSTART:20130913T220000
DTEND:20130914T043000
LOCATION:La Paz [Bolivia]
GEO:-16.506595100;-68.129510200
DTSTAMP:20130913T220000Z
SUMMARY:HEREJIA
DESCRIPTION:
URL:https://www.goabase.net/fr/party/herejia/75190
CATEGORIES:Psytrance Event
CLASS:PUBLIC
END:VEVENT

BEGIN:VEVENT
UID:424e8df3e8520885854a4bdf01e3adb6
DTSTART:20120414T200000
DTEND:20120415T040000
LOCATION:La Paz [Bolivia]
GEO:0.000000000;0.000000000
DTSTAMP:20120414T200000Z
SUMMARY:PSYTRANCE AT CAUTION
DESCRIPTION:Line-up: Psytrance at Caution EROFEX - Neurotrance Records (Darkpsy DJ
  set of Erofex originals tracks) Bolivia Erofex is founde…
URL:https://www.goabase.net/fr/party/psytrance-at-caution/66151
CATEGORIES:Psytrance Event
CLASS:PUBLIC
END:VEVENT

BEGIN:VEVENT
UID:051bbdfcafcc7c894b950ede6e56618e
DTSTART:20111028T220000
DTEND:20111030T120000
LOCATION:La Paz [Bolivia]
GEO:0.000000000;0.000000000
DTSTAMP:20111028T220000Z
SUMMARY:Samhain Festival 2011 - Pirate Utopias
DESCRIPTION:Line-up: [] CRISTO (Guitar Live) (La 5ta esencia Producciones) []
  EROFEX (Live) (Neurotrance Records) [] GODHA (Live) (Yo Soy Re…
URL:https://www.goabase.net/fr/festival/samhain-festival-2011-pirate-utopias/62548
CATEGORIES:Psytrance Event
CLASS:PUBLIC
END:VEVENT

BEGIN:VEVENT
UID:fd7be99c8b389adf8340ffef2a7241c1
DTSTART:20110723T220000
DTEND:20110724T120000
LOCATION:Copacabana - Titikaka Lake [Bolivia]
GEO:-16.167000000;-69.093000000
DTSTAMP:20110723T220000Z
SUMMARY:Psytrance - Copacabana Lago Titikaka
DESCRIPTION:Line-up: Erofex (Neurotrance Records) Psytrance
URL:https://www.goabase.net/fr/party/psytrance-copacabana-lago-titikaka/61010
CATEGORIES:Psytrance Event
CLASS:PUBLIC
END:VEVENT

BEGIN:VEVENT
UID:9b73ffc577bcdff36ce47b5fd191b4f9
DTSTART:20110507T220000
DTEND:20110508T120000
LOCATION:Santiago [Chile]
GEO:0.000000000;0.000000000
DTSTAMP:20110507T220000Z
SUMMARY:Neurotrance Records (Label Party): @ CHILE
DESCRIPTION:Line-up: EROFEX - Live Act & DJ Set Neurotrance Records (Bolivia) 3:00
  a 5:00 HANUMAN - Live Act Neurotrance Records 2:00 a 3…
URL:https://www.goabase.net/fr/party/neurotrance-records-label-party-chile/59692
CATEGORIES:Psytrance Event
CLASS:PUBLIC
END:VEVENT

BEGIN:VEVENT
UID:8c0efc04b5c17a26f4987765009cb85e
DTSTART:20101030T220000
DTEND:20101101T120000
LOCATION:Chulumani - LA PAZ [Bolivia]
GEO:0.000000000;0.000000000
DTSTAMP:20101030T220000Z
SUMMARY:SAMHAIN FESTIVAL III - Festival de Musica Arte y Cultura
DESCRIPTION:Line-up: Urucubaca - PsySeed Records (Brasil) Dense Denso - PsySeeD
  Rec. (Brasil) Erofex - Neurotrance Records (La Paz- Bolivia…
URL:https://www.goabase.net/fr/festival/samhain-festival-iii-festival-de-musica-arte-y-cultura/55696
CATEGORIES:Psytrance Event
CLASS:PUBLIC
END:VEVENT

BEGIN:VEVENT
UID:df0239b04e4ee9b4f1fc14fe93a98b02
DTSTART:20091231T220000
DTEND:20100102T120000
LOCATION:Sun Island - South Part - L… [Bolivia]
GEO:0.000000000;0.000000000
DTSTAMP:20091231T220000Z
SUMMARY:ISLA DEL SOL 2010 NEW YEARS EVE
DESCRIPTION:
URL:https://www.goabase.net/fr/festival/isla-del-sol-2010-new-years-eve/50316
CATEGORIES:Psytrance Event
CLASS:PUBLIC
END:VEVENT

BEGIN:VEVENT
UID:6dfa37cefa296a517c4d77c98e3abff3
DTSTART:20091031T220000
DTEND:20091102T120000
LOCATION:La Paz [Bolivia]
GEO:0.000000000;0.000000000
DTSTAMP:20091031T220000Z
SUMMARY:SAMHAIN 2009
DESCRIPTION:Line-up: EROFEX ---LIVE---DEEP SOUTH ---LIVE---www.neurotrance.org
  AIRFFECT ---LIVE---ANIMAS CONNECTION ---LIVE ACT---&quot;&quot…
URL:https://www.goabase.net/fr/festival/samhain-2009/48695
CATEGORIES:Psytrance Event
CLASS:PUBLIC
END:VEVENT

BEGIN:VEVENT
UID:2d2cd89472ca24c041cb56c36d3c25a4
DTSTART:20090905T220000
DTEND:20090906T050000
LOCATION:Cochabamba [Bolivia]
GEO:0.000000000;0.000000000
DTSTAMP:20090905T220000Z
SUMMARY:NEURO FORCE
DESCRIPTION:Line-up: Erofex (Neurotrance Records)
URL:https://www.goabase.net/fr/party/neuro-force/48148
CATEGORIES:Psytrance Event
CLASS:PUBLIC
END:VEVENT

BEGIN:VEVENT
UID:63971e049a74cc2dc9f469b72fc68c4e
DTSTART:20090724T130000
DTEND:20090726T120000
LOCATION:Challapampa - Sun Island (N… [Bolivia]
GEO:-16.102000000;-69.168000000
DTSTAMP:20090724T130000Z
SUMMARY:DAY OUT OF TIME FESTIVAL - SUN ISLAND - LA PAZ - BOLIVIA
DESCRIPTION:
URL:https://www.goabase.net/fr/festival/day-out-of-time-festival-sun-island-la-paz-bolivia/46616
CATEGORIES:Psytrance Event
CLASS:PUBLIC
END:VEVENT

BEGIN:VEVENT
UID:a900373d7ee1f9a25e2226a44d1946da
DTSTART:20090711T220000
DTEND:20090712T060000
LOCATION:La Paz [Bolivia]
GEO:0.000000000;0.000000000
DTSTAMP:20090711T220000Z
SUMMARY:TRANCE LANDING
DESCRIPTION:
URL:https://www.goabase.net/fr/party/trance-landing/47194
CATEGORIES:Psytrance Event
CLASS:PUBLIC
END:VEVENT

BEGIN:VEVENT
UID:696b7d1d6350002ffdebf0e7dc8f11c1
DTSTART:20090626T200000
DTEND:20090627T030000
LOCATION:La Paz [Bolivia]
GEO:0.000000000;0.000000000
DTSTAMP:20090626T200000Z
SUMMARY:Friday Party
DESCRIPTION:
URL:https://www.goabase.net/fr/party/friday-party/47026
CATEGORIES:Psytrance Event
CLASS:PUBLIC
END:VEVENT

END:VCALENDAR