BEGIN:VCALENDAR
VERSION:2.0
PRODID:goabase.net iCalendar 2026
X-WR-CALNAME:goabase.net - parties and people 
X-WR-TIMEZONE;VALUE=TEXT:Europe/Berlin
CALSCALE:GREGORIAN
BEGIN:VTIMEZONE
TZID:Europe/Berlin
X-LIC-LOCATION:Europe/Berlin
BEGIN:DAYLIGHT
TZOFFSETFROM:+0100
TZOFFSETTO:+0200
TZNAME:CEST
DTSTART:19700329T020000
RRULE:FREQ=YEARLY;INTERVAL=1;BYDAY=-1SU;BYMONTH=3
END:DAYLIGHT
BEGIN:STANDARD
TZOFFSETFROM:+0200
TZOFFSETTO:+0100
TZNAME:CET
DTSTART:19701025T030000
RRULE:FREQ=YEARLY;INTERVAL=1;BYDAY=-1SU;BYMONTH=10
END:STANDARD
END:VTIMEZONE

BEGIN:VEVENT
UID:9ea7a38ade1054a264de80c28e6965d3
DTSTART:20240329T210000
DTEND:20240331T120000
LOCATION:Cochabamba [Bolivia]
GEO:-17.400000000;-66.200000000
DTSTAMP:20240329T210000Z
SUMMARY:Energeometria - Dark Frequencies 2024
DESCRIPTION:Line-up: 𖤐 Le Guide - Ritual 12 Hrs. Set(Andean Tribe Records /
  Digital Gurus) 𖤐 Heath Poison - Live Set (Andean Tribe Records /… Lieu:
  La Perpetua, Tiquipaya-Chilimarca, Zona de Miraflores, Cochabamba,
  Bolivi…, 0000 Cochabamba
URL:https://www.goabase.net/fr/festival/energeometria-dark-frequencies-2024/112240
CATEGORIES:Psytrance Event
CLASS:PUBLIC
END:VEVENT

END:VCALENDAR