BEGIN:VCALENDAR
VERSION:2.0
PRODID:goabase.net iCalendar 2026
X-WR-CALNAME:goabase.net - parties and people 
X-WR-TIMEZONE;VALUE=TEXT:Europe/Berlin
CALSCALE:GREGORIAN
BEGIN:VTIMEZONE
TZID:Europe/Berlin
X-LIC-LOCATION:Europe/Berlin
BEGIN:DAYLIGHT
TZOFFSETFROM:+0100
TZOFFSETTO:+0200
TZNAME:CEST
DTSTART:19700329T020000
RRULE:FREQ=YEARLY;INTERVAL=1;BYDAY=-1SU;BYMONTH=3
END:DAYLIGHT
BEGIN:STANDARD
TZOFFSETFROM:+0200
TZOFFSETTO:+0100
TZNAME:CET
DTSTART:19701025T030000
RRULE:FREQ=YEARLY;INTERVAL=1;BYDAY=-1SU;BYMONTH=10
END:STANDARD
END:VTIMEZONE

BEGIN:VEVENT
UID:36f62a23a04b68907ab5af572760fc23
DTSTART:20170610T210000
DTEND:20170611T040000
LOCATION:Baden [Switzerland]
GEO:47.480281800;8.300519900
DTSTAMP:20170610T210000Z
SUMMARY:ॐ Progressive Wisdom ॐ w/ Elfo live Bassfactor live
DESCRIPTION:Line-up: ॐ Progressive Wisdom ॐ ॐ Baden ist Progressive ॐ Line Up: ॐ
  Elfo Italy LIVE NBM Records (Psy-/ Progressive Trance) ॐ…
URL:https://www.goabase.net/fr/party/progressive-wisdom-w-elfo-live-bassfactor-live/95713
CATEGORIES:Psytrance Event
CLASS:PUBLIC
END:VEVENT

BEGIN:VEVENT
UID:7eea7adb75c9e187ecf2baafe9088a47
DTSTART:20170324T210000
DTEND:20170325T100000
LOCATION:Wetzikon (ZH) [Switzerland]
GEO:47.322495600;8.806720910
DTSTAMP:20170324T210000Z
SUMMARY:ૐ Progressive Illumination ૐ with Ruback 2h LIVE/LsDirty LIVE/W.A.D LIVE/Leads LIVE
DESCRIPTION:Line-up: PROGRESSIVE ILLUMINATION Confirmed Line Up: Main Floor: ॐ
  4i20 Brasil LIVE DM7 Records (Progressive Trance) ॐ W.A.D…
URL:https://www.goabase.net/fr/party/progressive-illumination-with-ruback-2h-livelsdirty-livewad-liveleads-live/93332
CATEGORIES:Psytrance Event
CLASS:PUBLIC
END:VEVENT

END:VCALENDAR