BEGIN:VCALENDAR
VERSION:2.0
PRODID:goabase.net iCalendar 2026
X-WR-CALNAME:goabase.net - parties and people 
X-WR-TIMEZONE;VALUE=TEXT:Europe/Berlin
CALSCALE:GREGORIAN
BEGIN:VTIMEZONE
TZID:Europe/Berlin
X-LIC-LOCATION:Europe/Berlin
BEGIN:DAYLIGHT
TZOFFSETFROM:+0100
TZOFFSETTO:+0200
TZNAME:CEST
DTSTART:19700329T020000
RRULE:FREQ=YEARLY;INTERVAL=1;BYDAY=-1SU;BYMONTH=3
END:DAYLIGHT
BEGIN:STANDARD
TZOFFSETFROM:+0200
TZOFFSETTO:+0100
TZNAME:CET
DTSTART:19701025T030000
RRULE:FREQ=YEARLY;INTERVAL=1;BYDAY=-1SU;BYMONTH=10
END:STANDARD
END:VTIMEZONE

BEGIN:VEVENT
UID:703342b4d2bdcc619538741dfc4b7886
DTSTART:20080606T010000
DTEND:20080607T120000
LOCATION:Viana Do Castelo [Portugal]
GEO:0.000000000;0.000000000
DTSTAMP:20080606T010000Z
SUMMARY:Underneath a Dark Sky
DESCRIPTION:Line-up: Vibracoustic (Shaman Electro Records) (Live Act)
  (www.myspace.com/vibracoustic) (primeira vez em portugal) Tryon
  (Hyperg…
URL:https://www.goabase.net/fr/party/underneath-a-dark-sky/37619
CATEGORIES:Psytrance Event
CLASS:PUBLIC
END:VEVENT

END:VCALENDAR