BEGIN:VCALENDAR
VERSION:2.0
PRODID:goabase.net iCalendar 2026
X-WR-CALNAME:goabase.net - parties and people 
X-WR-TIMEZONE;VALUE=TEXT:Europe/Berlin
CALSCALE:GREGORIAN
BEGIN:VTIMEZONE
TZID:Europe/Berlin
X-LIC-LOCATION:Europe/Berlin
BEGIN:DAYLIGHT
TZOFFSETFROM:+0100
TZOFFSETTO:+0200
TZNAME:CEST
DTSTART:19700329T020000
RRULE:FREQ=YEARLY;INTERVAL=1;BYDAY=-1SU;BYMONTH=3
END:DAYLIGHT
BEGIN:STANDARD
TZOFFSETFROM:+0200
TZOFFSETTO:+0100
TZNAME:CET
DTSTART:19701025T030000
RRULE:FREQ=YEARLY;INTERVAL=1;BYDAY=-1SU;BYMONTH=10
END:STANDARD
END:VTIMEZONE

BEGIN:VEVENT
UID:296376627e9afd9ace1b2dfccdfd26dc
DTSTART:20180602T210000
DTEND:20180603T050000
LOCATION:Salzburg [Austria]
GEO:47.824910000;13.064760000
DTSTAMP:20180602T210000Z
SUMMARY:PsyCulture #5 ( Bass gegen Hass )
DESCRIPTION:Line-up: ▁ ▂ ▃ ▄ ▅ ▆ █ LINE-UP █ ▆ ▅ ▄ ▃ ▂ ▁ ॐ Jomaha ( PsyCulture ) ♫
  ⓕ Jomaha ॐ PsydoBob ( PsyCulture ) ♫ ⓕ Psydo Bob ॐ Profe…
URL:https://www.goabase.net/fr/party/psyculture-5-bass-gegen-hass/100145
CATEGORIES:Psytrance Event
CLASS:PUBLIC
END:VEVENT

BEGIN:VEVENT
UID:f53ffc7ba280f5ad3711d482af640390
DTSTART:20180113T210000
DTEND:20180114T050000
LOCATION:Salzburg [Austria]
GEO:47.824910000;13.064760000
DTSTAMP:20180113T210000Z
SUMMARY:PsyCulture (Bass gegen Hass) #3
DESCRIPTION:Line-up: Hey liebe Freunde des guten Geschmacks, mit der nächsten
  PsyCulture starten wir BUNT und BASSintensiv ins neue Jahr!! La…
URL:https://www.goabase.net/fr/party/psyculture-bass-gegen-hass-3/97720
CATEGORIES:Psytrance Event
CLASS:PUBLIC
END:VEVENT

BEGIN:VEVENT
UID:08b2b6c1792cd899eabfffde8c33a0bd
DTSTART:20171014T210000
DTEND:20171015T050000
LOCATION:Salzburg [Austria]
GEO:47.800197600;13.041058500
DTSTAMP:20171014T210000Z
SUMMARY:PsyCulture ( Bass gegen Hass ) #2
DESCRIPTION:Line-up: Am 14.10.17 ist es endlich wieder soweit. Die PSY CULTURE
  geht in die zweite Runde . Kommt vorbei und stampft euch die F…
URL:https://www.goabase.net/fr/party/psyculture-bass-gegen-hass-2/96703
CATEGORIES:Psytrance Event
CLASS:PUBLIC
END:VEVENT

END:VCALENDAR