BEGIN:VCALENDAR
VERSION:2.0
PRODID:goabase.net iCalendar 2026
X-WR-CALNAME:goabase.net - parties and people 
X-WR-TIMEZONE;VALUE=TEXT:Europe/Berlin
CALSCALE:GREGORIAN
BEGIN:VTIMEZONE
TZID:Europe/Berlin
X-LIC-LOCATION:Europe/Berlin
BEGIN:DAYLIGHT
TZOFFSETFROM:+0100
TZOFFSETTO:+0200
TZNAME:CEST
DTSTART:19700329T020000
RRULE:FREQ=YEARLY;INTERVAL=1;BYDAY=-1SU;BYMONTH=3
END:DAYLIGHT
BEGIN:STANDARD
TZOFFSETFROM:+0200
TZOFFSETTO:+0100
TZNAME:CET
DTSTART:19701025T030000
RRULE:FREQ=YEARLY;INTERVAL=1;BYDAY=-1SU;BYMONTH=10
END:STANDARD
END:VTIMEZONE

BEGIN:VEVENT
UID:4819c541f5867328fe3e40a30a272c72
DTSTART:20251031T180000
DTEND:20251101T130000
LOCATION:Luzern [Switzerland]
GEO:47.100000000;8.300000000
DTSTAMP:20251031T180000Z
SUMMARY:Masslos Halloween
DESCRIPTION:Line-up: Inttruder Mikedelic Dopamin Phankii Mikedelic Octohertz Von
  Maquima Linchen Badelec B2B Sisterium Changa Kahn Massimo Ma…
URL:https://www.goabase.net/fr/party/masslos-halloween/116110
CATEGORIES:Psytrance Event
CLASS:PUBLIC
END:VEVENT

BEGIN:VEVENT
UID:34a80f8998d66af513038b2647c91bb3
DTSTART:20250621T200000
DTEND:20250622T120000
LOCATION:Luzern [Switzerland]
GEO:47.096250000;8.347290000
DTSTAMP:20250621T200000Z
SUMMARY:Waves of Sound
DESCRIPTION:Line-up: Open table lokale Dj s. Lieu: Waves of sound, ,  Luzern
URL:https://www.goabase.net/fr/party/waves-of-sound/115456
CATEGORIES:Psytrance Event
CLASS:PUBLIC
END:VEVENT

BEGIN:VEVENT
UID:c405fc85befdcc4ef5b194d322ec36d4
DTSTART:20250503T173000
DTEND:20250504T120000
LOCATION:Hergiswil bei Willisau [Switzerland]
GEO:47.061700000;7.955360000
DTSTAMP:20250503T173000Z
SUMMARY:Waves of Sound
DESCRIPTION:Line-up: Linup Playtime 17:30-19:00 Dajos 19:00-20:30 Psycharox
  20:30-22:00 Omegann 22:00-23:30 mahendra 23:30-1:00 Masslos vs K7…
  Lieu: Sandro Troxler, , Hergiswil bei Willisau
URL:https://www.goabase.net/fr/party/waves-of-sound/115185
CATEGORIES:Psytrance Event
CLASS:PUBLIC
END:VEVENT

END:VCALENDAR