BEGIN:VCALENDAR
VERSION:2.0
PRODID:goabase.net iCalendar 2026
X-WR-CALNAME:goabase.net - parties and people 
X-WR-TIMEZONE;VALUE=TEXT:Europe/Berlin
CALSCALE:GREGORIAN
BEGIN:VTIMEZONE
TZID:Europe/Berlin
X-LIC-LOCATION:Europe/Berlin
BEGIN:DAYLIGHT
TZOFFSETFROM:+0100
TZOFFSETTO:+0200
TZNAME:CEST
DTSTART:19700329T020000
RRULE:FREQ=YEARLY;INTERVAL=1;BYDAY=-1SU;BYMONTH=3
END:DAYLIGHT
BEGIN:STANDARD
TZOFFSETFROM:+0200
TZOFFSETTO:+0100
TZNAME:CET
DTSTART:19701025T030000
RRULE:FREQ=YEARLY;INTERVAL=1;BYDAY=-1SU;BYMONTH=10
END:STANDARD
END:VTIMEZONE

BEGIN:VEVENT
UID:2e80007a65b3bc8f79bd86214f21c19f
DTSTART:20141231T233000
DTEND:20150101T120000
LOCATION:Porto [Portugal]
GEO:41.148328800;-8.645362300
DTSTAMP:20141231T233000Z
SUMMARY:TRANSITION NYE 2015 @ PORTO~RIO
DESCRIPTION:Line-up: .~MAINFLOOR~. LIVE: ~ XSI [United Beats
  rec/Hommega/MindControl] FRANCE~ MYRAH [BioMechanix/SideWave/Psyart]~
  ALGORHYTHM…
URL:https://www.goabase.net/fr/party/transition-nye-2015-portorio/82861
CATEGORIES:Psytrance Event
CLASS:PUBLIC
END:VEVENT

BEGIN:VEVENT
UID:85342521617faed4e4255434f026043a
DTSTART:20131231T220000
DTEND:20140101T130000
LOCATION:Porto [Portugal]
GEO:41.148707600;-8.653687600
DTSTAMP:20131231T220000Z
SUMMARY:TRANSITION NYE PARTY @ PORTO RIO
DESCRIPTION:Line-up: -MENOG [Spectral Rec/3d Vision] -A-MUSH [3dVision/Dropland]
  -BRAINWASH [Fractal Rec/Global Army/Beyond Logic] -BUNKER…
URL:https://www.goabase.net/fr/party/transition-nye-party-porto-rio/77071
CATEGORIES:Psytrance Event
CLASS:PUBLIC
END:VEVENT

BEGIN:VEVENT
UID:2fd01388b8219e509ce0ba2c756a4b92
DTSTART:20131012T233000
DTEND:20131013T080000
LOCATION:Porto [Portugal]
GEO:41.148707600;-8.653687600
DTSTAMP:20131012T233000Z
SUMMARY:POWER TRIP VOL VII
DESCRIPTION:Line-up: ✪ SINFUL REACTIONS (3dvision/MMD) ✪ LAB (DVSM Rec/Deviant
  Force/No Comment)
URL:https://www.goabase.net/fr/party/power-trip-vol-vii/75699
CATEGORIES:Psytrance Event
CLASS:PUBLIC
END:VEVENT

BEGIN:VEVENT
UID:0fb4885c1a8128164f1ff3a5c911ab4c
DTSTART:20130914T233000
DTEND:20130915T080000
LOCATION:Porto [Portugal]
GEO:41.148707600;-8.653687600
DTSTAMP:20130914T233000Z
SUMMARY:☆ Magnetika Connection II ☆
DESCRIPTION:Line-up: ☆ ILIUCHINA (ISR) (Spectral Rec/Global Army/Kaos
  Krew/Magnetika)
URL:https://www.goabase.net/fr/party/magnetika-connection-ii/75085
CATEGORIES:Psytrance Event
CLASS:PUBLIC
END:VEVENT

BEGIN:VEVENT
UID:e95d436864de13c1cea3ed2cef51a1f3
DTSTART:20130824T010000
DTEND:20130825T080000
LOCATION:Porto [Portugal]
GEO:41.148328800;-8.645362400
DTSTAMP:20130824T010000Z
SUMMARY:FREE PARTY @ Porto Rio
DESCRIPTION:
URL:https://www.goabase.net/fr/party/free-party-porto-rio/74843
CATEGORIES:Psytrance Event
CLASS:PUBLIC
END:VEVENT

BEGIN:VEVENT
UID:b6ca4c5cfba7909cebb7c03d5e067127
DTSTART:20130720T233000
DTEND:20130721T120000
LOCATION:Porto [Portugal]
GEO:41.148328800;-8.645362400
DTSTAMP:20130720T233000Z
SUMMARY:☆ Dj Ganeisha 10 Years Celebration
DESCRIPTION:Line-up: ☆A-MUSH (3dvision/One foot groove/Dropland) ☆MYRAH
  (BioMechanix/Side Wave/Psyart/ Namaha Records) ☆ZERO SEQUENCE (Quest4…
URL:https://www.goabase.net/fr/party/dj-ganeisha-10-years-celebration/74167
CATEGORIES:Psytrance Event
CLASS:PUBLIC
END:VEVENT

BEGIN:VEVENT
UID:540ba8d5eebcb78e11d792a16c22d6be
DTSTART:20130629T233000
DTEND:20130630T080000
LOCATION:Porto [Portugal]
GEO:41.148328800;-8.645362400
DTSTAMP:20130629T233000Z
SUMMARY:FREE PARTY @ PORTO RIO
DESCRIPTION:Line-up: HIYARANT ( AFRICA DO SUL ) (DISASTERPEACE RECORDS)
  BRAINBASHER (Nakshatra/Up!Noize/Ataxia/jardinZen)
URL:https://www.goabase.net/fr/party/free-party-porto-rio/73983
CATEGORIES:Psytrance Event
CLASS:PUBLIC
END:VEVENT

BEGIN:VEVENT
UID:674f64695e9678a8af2ff45465aa1ce3
DTSTART:20130624T060000
DTEND:20130624T140000
LOCATION:Porto [Portugal]
GEO:41.148328800;-8.645362400
DTSTAMP:20130624T060000Z
SUMMARY:S.Joao After Hours @ Porto Rio
DESCRIPTION:
URL:https://www.goabase.net/fr/party/sjoao-after-hours-porto-rio/73886
CATEGORIES:Psytrance Event
CLASS:PUBLIC
END:VEVENT

BEGIN:VEVENT
UID:3487ba45d0e579af281eee17ec661362
DTSTART:20130615T233000
DTEND:20130616T090000
LOCATION:Porto [Portugal]
GEO:41.148328800;-8.645362400
DTSTAMP:20130615T233000Z
SUMMARY:✯Porto Rio 12 years Anniversary ✯
DESCRIPTION:Line-up: -D_MANIAC (one foot groove/global army)
URL:https://www.goabase.net/fr/party/porto-rio-12-years-anniversary/73829
CATEGORIES:Psytrance Event
CLASS:PUBLIC
END:VEVENT

BEGIN:VEVENT
UID:b045e4dbd844d4c3f64b6a7adb8737f3
DTSTART:20130525T233000
DTEND:20130526T080000
LOCATION:Porto [Portugal]
GEO:41.148328800;-8.645362400
DTSTAMP:20130525T233000Z
SUMMARY:Power Trip 1st Anniversary@ Porto Rio
DESCRIPTION:Line-up: NEO GENETIC (ISR) (Kaos Krew / Global)
URL:https://www.goabase.net/fr/party/power-trip-1st-anniversary-porto-rio/73416
CATEGORIES:Psytrance Event
CLASS:PUBLIC
END:VEVENT

BEGIN:VEVENT
UID:68e4ca1fcaf5e6c96d01731a02690628
DTSTART:20130524T233000
DTEND:20130525T080000
LOCATION:Porto [Portugal]
GEO:41.148328800;-8.645362400
DTSTAMP:20130524T233000Z
SUMMARY:Power Trip1st Anniversary @ Porto Rio
DESCRIPTION:Line-up: NEO GENETIC (ISR) (Kaos Krew / Global)
URL:https://www.goabase.net/fr/party/power-trip1st-anniversary-porto-rio/73211
CATEGORIES:Psytrance Event
CLASS:PUBLIC
END:VEVENT

BEGIN:VEVENT
UID:d4f508a080ba87a14587dc0493443b51
DTSTART:20130518T233000
DTEND:20130519T080000
LOCATION:Porto [Portugal]
GEO:41.148328800;-8.645362400
DTSTAMP:20130518T233000Z
SUMMARY:Free party @ Porto rio
DESCRIPTION:
URL:https://www.goabase.net/fr/party/free-party-porto-rio/73415
CATEGORIES:Psytrance Event
CLASS:PUBLIC
END:VEVENT

BEGIN:VEVENT
UID:907f350da77bbf7204e5116fde0e07fb
DTSTART:20130424T233000
DTEND:20130425T080000
LOCATION:Porto [Portugal]
GEO:41.148328800;-8.645362400
DTSTAMP:20130424T233000Z
SUMMARY:FREE PARTY "Celebrating the dawn of freedom" @ Porto Rio
DESCRIPTION:
URL:https://www.goabase.net/fr/party/free-party-celebrating-the-dawn-of-freedom-porto-rio/72794
CATEGORIES:Psytrance Event
CLASS:PUBLIC
END:VEVENT

BEGIN:VEVENT
UID:91b661b2dd1e9fb028ba3ff237cb72d5
DTSTART:20130406T233000
DTEND:20130407T080000
LOCATION:Porto [Portugal]
GEO:41.148328800;-8.645362400
DTSTAMP:20130406T233000Z
SUMMARY:✰ PSYCHOLOGICAL [ VOL.III ]
DESCRIPTION:Line-up: ✰ HAXIRAI [ One foot Groove ] ✰ PHOTONIK [ Hypergate
  Rec/Electrik Dream/Groovetech ]
URL:https://www.goabase.net/fr/party/psychological-voliii/72553
CATEGORIES:Psytrance Event
CLASS:PUBLIC
END:VEVENT

BEGIN:VEVENT
UID:eddad13cd3ca5fabc19309670977955b
DTSTART:20130309T233000
DTEND:20130310T080000
LOCATION:Porto [Portugal]
GEO:41.148328800;-8.645362400
DTSTAMP:20130309T233000Z
SUMMARY:POWER TRIP VOL. V
DESCRIPTION:Line-up: A-MUSH (3dvision/Dropland/OnefootGroove)   WIRED (Terror Lab )
URL:https://www.goabase.net/fr/party/power-trip-vol-v/71833
CATEGORIES:Psytrance Event
CLASS:PUBLIC
END:VEVENT

BEGIN:VEVENT
UID:fce48ed8cca83ec7918037be5ef7b622
DTSTART:20130209T220000
DTEND:20130210T120000
LOCATION:Porto [Portugal]
GEO:41.148234261;-8.645381235
DTSTAMP:20130209T220000Z
SUMMARY:MASCARADE @ Porto Rio
DESCRIPTION:Line-up: &#10032- ILIUCHINA (Spectral Rec/Kaos Krew/Global
  Army/Magnetika) (ISR) &#10032- TRYON (Hypergate Rec) &#10032- ALGO…
URL:https://www.goabase.net/fr/party/mascarade-porto-rio/71278
CATEGORIES:Psytrance Event
CLASS:PUBLIC
END:VEVENT

BEGIN:VEVENT
UID:83c2a196c2ab38b2478e22d03811a1eb
DTSTART:20130119T233000
DTEND:20130120T080000
LOCATION:Porto [Portugal]
GEO:41.148234261;-8.645381235
DTSTAMP:20130119T233000Z
SUMMARY:PSYCHOLOGICAL VOL. II 
DESCRIPTION:Line-up: ALIENN (Hypergate Rec. / Kaos Krew Rec.) JUGGLING (Crystal
  Matrix)
URL:https://www.goabase.net/fr/party/psychological-vol-ii/70777
CATEGORIES:Psytrance Event
CLASS:PUBLIC
END:VEVENT

BEGIN:VEVENT
UID:8e78372991d895256a8187477f36b686
DTSTART:20121215T220000
DTEND:20121216T120000
LOCATION:Porto [Portugal]
GEO:-12.634420797;-38.089794756
DTSTAMP:20121215T220000Z
SUMMARY:POWER TRIP VOL.IV @ PORTO RIO
DESCRIPTION:Line-up: ZINX vs WIRED (Terror Lab | Global Army | MMD) HORRORMAZE
  (Urban Antidote/Acid Vision)
URL:https://www.goabase.net/fr/party/power-trip-voliv-porto-rio/69145
CATEGORIES:Psytrance Event
CLASS:PUBLIC
END:VEVENT

BEGIN:VEVENT
UID:64dc78ac5c9c71bf19d7b1d7a30e038e
DTSTART:20121117T233000
DTEND:20121118T090000
LOCATION:Porto [Portugal]
GEO:41.148234261;-8.645381235
DTSTAMP:20121117T233000Z
SUMMARY:POWER TRIP Vol.3
DESCRIPTION:Line-up: -BRAINWASH (Fractal Rec/Space Nomads) -DEMOSYS
  (TerrorLab/Phonix Rec)
URL:https://www.goabase.net/fr/party/power-trip-vol3/68853
CATEGORIES:Psytrance Event
CLASS:PUBLIC
END:VEVENT

BEGIN:VEVENT
UID:cffa68ae01ec7d714708d990d596c82c
DTSTART:20121027T233000
DTEND:20121028T100000
LOCATION:Porto [Portugal]
GEO:41.148234261;-8.645381235
DTSTAMP:20121027T233000Z
SUMMARY:3D VISION RELOAD
DESCRIPTION:Line-up: LIVE &gt- POWERED by 3D VISION Records ABSOLUM (Fr) (3d
  Vision)www.myspace.com/christofabsolum SINFUL REACTIONS (Pt) ( 3…
URL:https://www.goabase.net/fr/party/3d-vision-reload/68776
CATEGORIES:Psytrance Event
CLASS:PUBLIC
END:VEVENT

END:VCALENDAR