BEGIN:VCALENDAR
VERSION:2.0
PRODID:goabase.net iCalendar 2026
X-WR-CALNAME:goabase.net - parties and people 
X-WR-TIMEZONE;VALUE=TEXT:Europe/Berlin
CALSCALE:GREGORIAN
BEGIN:VTIMEZONE
TZID:Europe/Berlin
X-LIC-LOCATION:Europe/Berlin
BEGIN:DAYLIGHT
TZOFFSETFROM:+0100
TZOFFSETTO:+0200
TZNAME:CEST
DTSTART:19700329T020000
RRULE:FREQ=YEARLY;INTERVAL=1;BYDAY=-1SU;BYMONTH=3
END:DAYLIGHT
BEGIN:STANDARD
TZOFFSETFROM:+0200
TZOFFSETTO:+0100
TZNAME:CET
DTSTART:19701025T030000
RRULE:FREQ=YEARLY;INTERVAL=1;BYDAY=-1SU;BYMONTH=10
END:STANDARD
END:VTIMEZONE

BEGIN:VEVENT
UID:ad7535338a1c83a7066718bad34b5822
DTSTART:20120719T220000
DTEND:20120722T120000
LOCATION:Ponte Caldelas (Pontevedra) [Spain]
GEO:42.392910000;-8.463764000
DTSTAMP:20120719T220000Z
SUMMARY: PSY ESTIVAL NOMADA Gorgorito (NEW LOCATION) PONTE CALDELAS 
DESCRIPTION:Line-up: LIVE: LaH NaRRaD (gliece581c recs) MELEK TAUS ( Triptec Rec.
  / Helldelic Rec. / Carpediem Rec.) UNVOLVED ( Triptec Rec.…
URL:https://www.goabase.net/fr/festival/psy-estival-nomada-gorgorito-new-location-ponte-caldelas/67390
CATEGORIES:Psytrance Event
CLASS:PUBLIC
END:VEVENT

BEGIN:VEVENT
UID:a7f8c30b41d674024cb19a393e337760
DTSTART:20111006T220000
DTEND:20111007T143000
LOCATION:Cabo Silleiro - Baiona [Spain]
GEO:42.109000000;-8.893000000
DTSTAMP:20111006T220000Z
SUMMARY:Dar-CK rave 2011
DESCRIPTION:
URL:https://www.goabase.net/fr/party/dar-ck-rave-2011/62616
CATEGORIES:Psytrance Event
CLASS:PUBLIC
END:VEVENT

BEGIN:VEVENT
UID:9f6ea099bb1b5185562c2bcd0d1427a2
DTSTART:20110923T220000
DTEND:20110925T150000
LOCATION:Serra da grova (Baiona / Po… [Spain]
GEO:0.000000000;0.000000000
DTSTAMP:20110923T220000Z
SUMMARY:Psycodelic picnic
DESCRIPTION:Line-up: A Banda doida (funk)
URL:https://www.goabase.net/fr/festival/psycodelic-picnic/62288
CATEGORIES:Psytrance Event
CLASS:PUBLIC
END:VEVENT

BEGIN:VEVENT
UID:5db8c9029118c7f46bec2c28b7c3cdf8
DTSTART:20110923T220000
DTEND:20110924T120000
LOCATION:Bueu [Spain]
GEO:0.000000000;0.000000000
DTSTAMP:20110923T220000Z
SUMMARY:Festa do Solsticio en Bueu
DESCRIPTION:
URL:https://www.goabase.net/fr/party/festa-do-solsticio-en-bueu/62241
CATEGORIES:Psytrance Event
CLASS:PUBLIC
END:VEVENT

BEGIN:VEVENT
UID:a4c074bd34945d777b41b487b2a2b602
DTSTART:20110826T220000
DTEND:20110828T120000
LOCATION:Valladares - Vigo [Spain]
GEO:0.000000000;0.000000000
DTSTAMP:20110826T220000Z
SUMMARY:Convocatoria Strangelet Festiv-all Transgalaico v.2
DESCRIPTION:
URL:https://www.goabase.net/fr/party/convocatoria-strangelet-festiv-all-transgalaico-v2/61665
CATEGORIES:Psytrance Event
CLASS:PUBLIC
END:VEVENT

BEGIN:VEVENT
UID:aaa865575e4c887412db617e582f5590
DTSTART:20110818T220000
DTEND:20110819T100000
LOCATION:O Cortelliño - Baiona [Spain]
GEO:42.079000000;-8.836000000
DTSTAMP:20110818T220000Z
SUMMARY:Komando Miñorano meets Dekhat-Bhuli
DESCRIPTION:Line-up: Dekhat-Bhuli nos presenta en exclusiva su ultimo proyecto...
  Más en soundcloud...
URL:https://www.goabase.net/fr/party/komando-minorano-meets-dekhat-bhuli/61559
CATEGORIES:Psytrance Event
CLASS:PUBLIC
END:VEVENT

BEGIN:VEVENT
UID:c2233fb353ad779be438cd4e7860318d
DTSTART:20110812T220000
DTEND:20110813T150000
LOCATION:O Cortelliño / Baiona / Pon… [Spain]
GEO:42.079000000;-8.836000000
DTSTAMP:20110812T220000Z
SUMMARY:feira i+i naria nomade: renaissance
DESCRIPTION:
URL:https://www.goabase.net/fr/party/feira-ii-naria-nomade-renaissance/61376
CATEGORIES:Psytrance Event
CLASS:PUBLIC
END:VEVENT

BEGIN:VEVENT
UID:235b7fe1b1db06d05f095e8178c92059
DTSTART:20110724T233000
DTEND:20110725T150000
LOCATION:Costa da morte - Praia mar… [Spain]
GEO:0.000000000;0.000000000
DTSTAMP:20110724T233000Z
SUMMARY:feira im4ginaria - dia fora do tempo
DESCRIPTION:
URL:https://www.goabase.net/fr/party/feira-im4ginaria-dia-fora-do-tempo/61250
CATEGORIES:Psytrance Event
CLASS:PUBLIC
END:VEVENT

BEGIN:VEVENT
UID:d67fa18eebbdb9df9c32b411d2e6b0e5
DTSTART:20110715T220000
DTEND:20110717T120000
LOCATION:Ponte Caldelas (Pontevedra) [Spain]
GEO:42.387000000;-8.492000000
DTSTAMP:20110715T220000Z
SUMMARY:feria imaginaria nomade 2011 - Segunda oleada
DESCRIPTION:
URL:https://www.goabase.net/fr/festival/feria-imaginaria-nomade-2011-segunda-oleada/60993
CATEGORIES:Psytrance Event
CLASS:PUBLIC
END:VEVENT

BEGIN:VEVENT
UID:031511bb26894f2b7a1b57cd54a1bb3f
DTSTART:20110701T230000
DTEND:20110703T120000
LOCATION:Cerceda (A coruña) [Spain]
GEO:0.000000000;0.000000000
DTSTAMP:20110701T230000Z
SUMMARY:feria imaginaria nomade
DESCRIPTION:
URL:https://www.goabase.net/fr/festival/feria-imaginaria-nomade/60936
CATEGORIES:Psytrance Event
CLASS:PUBLIC
END:VEVENT

BEGIN:VEVENT
UID:00a95de8339a61952276554c9b8f466f
DTSTART:20110527T170000
DTEND:20110529T120000
LOCATION:Santiago de Compostela [Spain]
GEO:0.000000000;0.000000000
DTSTAMP:20110527T170000Z
SUMMARY:Permanent Autonomous Zone
DESCRIPTION:
URL:https://www.goabase.net/fr/festival/permanent-autonomous-zone/60352
CATEGORIES:Psytrance Event
CLASS:PUBLIC
END:VEVENT

BEGIN:VEVENT
UID:a2394413b48ba68b394fc5be7fe46244
DTSTART:20110514T210000
DTEND:20110515T120000
LOCATION:Baiona - O Cortelliño [Spain]
GEO:42.079000000;-8.836000000
DTSTAMP:20110514T210000Z
SUMMARY:Comando Miñorano's TAZ
DESCRIPTION:
URL:https://www.goabase.net/fr/party/comando-minoranos-taz/60055
CATEGORIES:Psytrance Event
CLASS:PUBLIC
END:VEVENT

BEGIN:VEVENT
UID:85d6de2aea5d4b0b648dae4ccd33b451
DTSTART:20110305T160000
DTEND:20110306T120000
LOCATION:Baiona (pontevedra) [Spain]
GEO:42.122000000;-8.850000000
DTSTAMP:20110305T160000Z
SUMMARY:Anti-Arribada 2011
DESCRIPTION:
URL:https://www.goabase.net/fr/party/anti-arribada-2011/58616
CATEGORIES:Psytrance Event
CLASS:PUBLIC
END:VEVENT

BEGIN:VEVENT
UID:3e7d088c7d39cf166ffc71e60d858021
DTSTART:20110205T140000
DTEND:20110206T183000
LOCATION:Baiona (pontevedra) [Spain]
GEO:42.122000000;-8.851000000
DTSTAMP:20110205T140000Z
SUMMARY:Anti-Arrivada 2011
DESCRIPTION:
URL:https://www.goabase.net/fr/party/anti-arrivada-2011/58615
CATEGORIES:Psytrance Event
CLASS:PUBLIC
END:VEVENT

BEGIN:VEVENT
UID:2c8dcc6dac521fc97bfded1bf1d95277
DTSTART:20100827T220000
DTEND:20100828T100000
LOCATION:Hamburg [Germany]
GEO:53.566000000;9.958000000
DTSTAMP:20100827T220000Z
SUMMARY:it's all about psydark
DESCRIPTION:
URL:https://www.goabase.net/fr/party/its-all-about-psydark/55111
CATEGORIES:Psytrance Event
CLASS:PUBLIC
END:VEVENT

BEGIN:VEVENT
UID:261b0f944e2e192c73d8510edd47d51b
DTSTART:20100826T220000
DTEND:20100827T090000
LOCATION:Hamburg [Germany]
GEO:53.566000000;9.958000000
DTSTAMP:20100826T220000Z
SUMMARY:Another Beat
DESCRIPTION:
URL:https://www.goabase.net/fr/party/another-beat/55109
CATEGORIES:Psytrance Event
CLASS:PUBLIC
END:VEVENT

BEGIN:VEVENT
UID:1c182d79f5679289865f7c004eb6557d
DTSTART:20100820T210000
DTEND:20100821T060000
LOCATION:Hamburg [Germany]
GEO:0.000000000;0.000000000
DTSTAMP:20100820T210000Z
SUMMARY:let's just talk about dark!
DESCRIPTION:
URL:https://www.goabase.net/fr/party/lets-just-talk-about-dark/55050
CATEGORIES:Psytrance Event
CLASS:PUBLIC
END:VEVENT

BEGIN:VEVENT
UID:fcaee726c5ddac23faaebea06d925001
DTSTART:20100819T220000
DTEND:20100820T120000
LOCATION:Hamburg [Germany]
GEO:0.000000000;0.000000000
DTSTAMP:20100819T220000Z
SUMMARY:Another Beat
DESCRIPTION:
URL:https://www.goabase.net/fr/party/another-beat/54986
CATEGORIES:Psytrance Event
CLASS:PUBLIC
END:VEVENT

BEGIN:VEVENT
UID:ea263ad413f564f4adcc8220662ef2be
DTSTART:20100529T233000
DTEND:20100530T140000
LOCATION:Malaga Centro [Spain]
GEO:36.727000000;-4.414000000
DTSTAMP:20100529T233000Z
SUMMARY:psy@monos
DESCRIPTION:
URL:https://www.goabase.net/fr/party/psymonos/53585
CATEGORIES:Psytrance Event
CLASS:PUBLIC
END:VEVENT

BEGIN:VEVENT
UID:a26a9af9e9c38f59ddcc255333c961c3
DTSTART:20100514T233000
DTEND:20100516T120000
LOCATION:Malaga Centro [Spain]
GEO:0.000000000;0.000000000
DTSTAMP:20100514T233000Z
SUMMARY:psy@monos (After Abisinia PSYPARTY)
DESCRIPTION:
URL:https://www.goabase.net/fr/party/psymonos-after-abisinia-psyparty/53287
CATEGORIES:Psytrance Event
CLASS:PUBLIC
END:VEVENT

END:VCALENDAR