BEGIN:VCALENDAR
VERSION:2.0
PRODID:goabase.net iCalendar 2026
X-WR-CALNAME:goabase.net - parties and people 
X-WR-TIMEZONE;VALUE=TEXT:Europe/Berlin
CALSCALE:GREGORIAN
BEGIN:VTIMEZONE
TZID:Europe/Berlin
X-LIC-LOCATION:Europe/Berlin
BEGIN:DAYLIGHT
TZOFFSETFROM:+0100
TZOFFSETTO:+0200
TZNAME:CEST
DTSTART:19700329T020000
RRULE:FREQ=YEARLY;INTERVAL=1;BYDAY=-1SU;BYMONTH=3
END:DAYLIGHT
BEGIN:STANDARD
TZOFFSETFROM:+0200
TZOFFSETTO:+0100
TZNAME:CET
DTSTART:19701025T030000
RRULE:FREQ=YEARLY;INTERVAL=1;BYDAY=-1SU;BYMONTH=10
END:STANDARD
END:VTIMEZONE

BEGIN:VEVENT
UID:2bf5fc2442e26b7fe79ec60b2f2f969b
DTSTART:20260514T120000
DTEND:20260515T120000
LOCATION:Blievenstorf [Germany]
GEO:53.400000000;11.700000000
DTSTAMP:20260514T120000Z
SUMMARY:Herrentags Open Air Blievenstorf
DESCRIPTION:
URL:https://www.goabase.net/fr/party/herrentags-open-air-blievenstorf/117350
CATEGORIES:Psytrance Event
CLASS:PUBLIC
END:VEVENT

BEGIN:VEVENT
UID:88a914241358a3f545527ff30f223ac5
DTSTART:20260612T180000
DTEND:20260614T120000
LOCATION:Stavenhagen [Germany]
GEO:53.700000000;12.900000000
DTSTAMP:20260612T180000Z
SUMMARY:ACKERSTAMPF 2026
DESCRIPTION:Line-up: ALEX STECKEL - Techno ANJA TOMSCHITZ - Dark Melodic Techno
  ERDGESCHOSS - Psychodelic Ambient (Vinyl) GUVIBOSCH (live) -… Lieu:
  Ackerstampf Gelände, genaue Adresse bei Buchung, 17153 Stavenhagen
URL:https://www.goabase.net/fr/party/ackerstampf-2026/117404
CATEGORIES:Psytrance Event
CLASS:PUBLIC
END:VEVENT

BEGIN:VEVENT
UID:c8b4f116730d19e2583f1fa738b8d402
DTSTART:20260619T180000
DTEND:20260621T180000
LOCATION:Parchim [Germany]
GEO:53.400000000;11.800000000
DTSTAMP:20260619T180000Z
SUMMARY:ForRest-Explosion Sommernachtztraum Festival 2026
DESCRIPTION:
URL:https://www.goabase.net/fr/festival/forrest-explosion-sommernachtztraum-festival-2026/115381
CATEGORIES:Psytrance Event
CLASS:PUBLIC
END:VEVENT

BEGIN:VEVENT
UID:3bbc923cfbe4b5444631e6ada8581c05
DTSTART:20260717T220000
DTEND:20260720T120000
LOCATION:Putlitz [Germany]
GEO:53.300000000;12.000000000
DTSTAMP:20260717T220000Z
SUMMARY:Voov Experience
DESCRIPTION:Line-up: Coming soon, Stay tuned!
URL:https://www.goabase.net/fr/festival/voov-experience/117007
CATEGORIES:Psytrance Event
CLASS:PUBLIC
END:VEVENT

BEGIN:VEVENT
UID:6e58a3f2f63439dde9dbce39b4c07e90
DTSTART:20260725T120000
DTEND:20260726T100000
LOCATION:Strohkirchen [Germany]
GEO:53.400000000;11.300000000
DTSTAMP:20260725T120000Z
SUMMARY:ANJUNA OPEN AIR 2026
DESCRIPTION:Line-up: ★SAJANKA - Danza Bookings ★BLAZY - Alteza Bookings ★BECKER -
  Pixel Bookings ★CLOUD7 - Woodmore ★ATYPE - 7SD Records ★TOT… Lieu:
  Anjuna Open Air Strohkirchen, Ausbau, 19230 Strohkirchen
URL:https://www.goabase.net/fr/party/anjuna-open-air-2026/116618
CATEGORIES:Psytrance Event
CLASS:PUBLIC
END:VEVENT

BEGIN:VEVENT
UID:118b9dd61c3a1a542e20df836d74a83b
DTSTART:20260730T120000
DTEND:20260802T120000
LOCATION:Blievenstorf [Germany]
GEO:53.400000000;11.700000000
DTSTAMP:20260730T120000Z
SUMMARY:Summer Dream Open Air Festival
DESCRIPTION:
URL:https://www.goabase.net/fr/festival/summer-dream-open-air-festival/117351
CATEGORIES:Psytrance Event
CLASS:PUBLIC
END:VEVENT

BEGIN:VEVENT
UID:8338fc032296fbbc2fcd9ebe31b307a6
DTSTART:20260814T180000
DTEND:20260816T120000
LOCATION:Kröpelin [Germany]
GEO:54.000000000;11.800000000
DTSTAMP:20260814T180000Z
SUMMARY:KomaBar Openair 2026
DESCRIPTION:Line-up: ✪ Main-Stage (Progressive-/Psytrance/FullOn)🕉 ►Atacama (Iono
  Music) ► Be´Cube (Studio21) ► Bobby b2b Pahumeros (Savva… Lieu:
  KomaBar, Landweg 5A, 18236 Kröpelin
URL:https://www.goabase.net/fr/festival/komabar-openair-2026/116934
CATEGORIES:Psytrance Event
CLASS:PUBLIC
END:VEVENT

BEGIN:VEVENT
UID:cb83a23a139a5491f6d92eccc8c443cc
DTSTART:20260911T150000
DTEND:20260913T180000
LOCATION:Kritzow [France]
GEO:53.400000000;12.100000000
DTSTAMP:20260911T150000Z
SUMMARY:CAMAKAVUM FESTIVAL 2026 - +60y for free!!!
DESCRIPTION:Line-up: &lt-&lt-&lt-4 FLOORS&lt-&gt-100+ ACTS&gt-&gt-&gt- 🛸HITECH /
  DARKPSY / PSYCORE 👽PSYTRANCE / FOREST 🚀TECHNO / DNB / TEKNO… Lieu:
  Historische Ziegelei Benzin, Ziegeleiweg, Benzin Kritzow, Deutschland,
  19386 Kritzow
URL:https://www.goabase.net/fr/festival/camakavum-festival-2026-60y-for-free/117352
CATEGORIES:Psytrance Event
CLASS:PUBLIC
END:VEVENT

BEGIN:VEVENT
UID:1b2806f138b7b7f86b92ded69d0bd37b
DTSTART:20270618T180000
DTEND:20270620T180000
LOCATION:Parchim [Germany]
GEO:53.400000000;11.800000000
DTSTAMP:20270618T180000Z
SUMMARY:ForRest-Explosion Sommernachtztraum Festival 2027
DESCRIPTION:
URL:https://www.goabase.net/fr/festival/forrest-explosion-sommernachtztraum-festival-2027/115382
CATEGORIES:Psytrance Event
CLASS:PUBLIC
END:VEVENT

END:VCALENDAR