BEGIN:VCALENDAR
VERSION:2.0
PRODID:goabase.net iCalendar 2026
X-WR-CALNAME:goabase.net - parties and people 
X-WR-TIMEZONE;VALUE=TEXT:Europe/Berlin
CALSCALE:GREGORIAN
BEGIN:VTIMEZONE
TZID:Europe/Berlin
X-LIC-LOCATION:Europe/Berlin
BEGIN:DAYLIGHT
TZOFFSETFROM:+0100
TZOFFSETTO:+0200
TZNAME:CEST
DTSTART:19700329T020000
RRULE:FREQ=YEARLY;INTERVAL=1;BYDAY=-1SU;BYMONTH=3
END:DAYLIGHT
BEGIN:STANDARD
TZOFFSETFROM:+0200
TZOFFSETTO:+0100
TZNAME:CET
DTSTART:19701025T030000
RRULE:FREQ=YEARLY;INTERVAL=1;BYDAY=-1SU;BYMONTH=10
END:STANDARD
END:VTIMEZONE

BEGIN:VEVENT
UID:3b7a1367f610aa086e1b9526bd11fa15
DTSTART:20260424T220000
DTEND:20260425T053000
LOCATION:München [Germany]
GEO:47.000000000;7.500000000
DTSTAMP:20260424T220000Z
SUMMARY:Psychedelicate Spring Encounters 2026
DESCRIPTION:Line-up: ❁ Lineup ❁ ॐ bu.K (Stashmu Records) ॐ ॐ Chinchilla (NYXTRIPS)
  ॐ ॐ morphing mantra (Psychedelicate) ॐ ॐ 1off2 (Psyched… Lieu: You
  Loft, Landsberger Strasse 163 (beim Bauhaus), 80687 München
URL:https://www.goabase.net/fr/party/psychedelicate-spring-encounters-2026/117029
CATEGORIES:Psytrance Event
CLASS:PUBLIC
END:VEVENT

BEGIN:VEVENT
UID:8739ab71866860c4b53f9a1763e113da
DTSTART:20260424T220000
DTEND:20260425T100000
LOCATION:Basel [Switzerland]
GEO:47.500000000;7.600000000
DTSTAMP:20260424T220000Z
SUMMARY:TschauTschau & Friends
DESCRIPTION:Line-up: Mole B2B KOray BÜSI TSCHAU TSCHAU Alice Hänsenberger Kali
  Karacho Lieu: Verein AufFall, Auf dem Wolf 32, 4052 Basel
URL:https://www.goabase.net/fr/party/tschautschau-friends/117190
CATEGORIES:Psytrance Event
CLASS:PUBLIC
END:VEVENT

BEGIN:VEVENT
UID:53ee8c0469b4bf2449673632d7180328
DTSTART:20260424T220000
DTEND:20260425T070000
LOCATION:Aarau [Switzerland]
GEO:47.400000000;8.000000000
DTSTAMP:20260424T220000Z
SUMMARY:🌸Wake Up 🌸 11 Years anniversary❤️
DESCRIPTION:Line-up: 🌸 FREE ENTRY 22:00 – 23:00 UHR 🌸 • Früh kommen lohnt sich –
  gratis rein & direkt in den Vibe eintauchen ⸻ ☆´¨ WAKE UP –… Lieu:
  schlaflos, Tellistrasse 118, 5000 Aarau
URL:https://www.goabase.net/fr/party/wake-up-11-years-anniversary/117329
CATEGORIES:Psytrance Event
CLASS:PUBLIC
END:VEVENT

BEGIN:VEVENT
UID:443d7cc62634f01ca41db0f965f21459
DTSTART:20260425T220000
DTEND:20260426T060000
LOCATION:Aarau [Switzerland]
GEO:47.400000000;8.000000000
DTSTAMP:20260425T220000Z
SUMMARY:25 Years Dacru Records
DESCRIPTION:Line-up: 8 Artists welche auf Instagram bekanntgeben werden... Lieu:
  Schlaflos, Tellistrasse 118, 5000 Aarau
URL:https://www.goabase.net/fr/party/25-years-dacru-records/116858
CATEGORIES:Psytrance Event
CLASS:PUBLIC
END:VEVENT

BEGIN:VEVENT
UID:6374410da87895011fdee2af26d3eb7f
DTSTART:20260502T220000
DTEND:20260503T120000
LOCATION:Düdingen [Switzerland]
GEO:46.849150000;7.188480000
DTSTAMP:20260502T220000Z
SUMMARY:TECHNO NIGHT ⛓️
DESCRIPTION:Line-up: Techno | Hardtechno 21:30 DOMZO 23:00 STATIC GHOST 24:00
  CEE:MOTION 01:00 XXX 02:00 SIMPULSE B2B DCSYSTEM Lieu: Kino Exil,
  Hauptstrasse 21, 3186 Düdingen
URL:https://www.goabase.net/fr/party/techno-night/117012
CATEGORIES:Psytrance Event
CLASS:PUBLIC
END:VEVENT

BEGIN:VEVENT
UID:0578a285f7a5689b013d39dbf33e1995
DTSTART:20260502T220000
DTEND:20260503T060000
LOCATION:Aarau [Switzerland]
GEO:47.400000000;8.000000000
DTSTAMP:20260502T220000Z
SUMMARY:Feels Like Home W/ Hatikwa
DESCRIPTION:Line-up: ____ 🎶 Lineup 🎶 #progressivepsytrance #progressivetrance
  #psytech #psytrance ► Hatikwa 🇩🇪 ► Schlüsselmeister 🇨🇭… Lieu:
  Schlaflos, Tellistrasse 118, 5000 Aarau
URL:https://www.goabase.net/fr/party/feels-like-home-w-hatikwa/117416
CATEGORIES:Psytrance Event
CLASS:PUBLIC
END:VEVENT

BEGIN:VEVENT
UID:7948f462465e5fc826c1ed99e2f799dd
DTSTART:20260509T180000
DTEND:20260510T040000
LOCATION:Basel-Stadt [Switzerland]
GEO:47.578070000;7.586100000
DTSTAMP:20260509T180000Z
SUMMARY:Spring Vibes & Crunchy Bytes
DESCRIPTION:Line-up: DAX fortyinches/ bl RANCOMYA ikdf/ bl SHIMONO tabula rasa/ bs
  SILAS riddim rabbits/ bs Lieu: Uferstrasse, Uferstrasse, 4057
  Basel-Stadt
URL:https://www.goabase.net/fr/party/spring-vibes-crunchy-bytes/117445
CATEGORIES:Psytrance Event
CLASS:PUBLIC
END:VEVENT

BEGIN:VEVENT
UID:b6e99fc3caf7c67c579680d97401d10f
DTSTART:20260509T220000
DTEND:20260510T060000
LOCATION:Aarau [Switzerland]
GEO:47.400000000;8.000000000
DTSTAMP:20260509T220000Z
SUMMARY:PROGRESSiVE TRiBE W/Audiomatic
DESCRIPTION:Line-up: 🎶 Lineup 🎶 #progressivepsytrance #psytrance ► Audiomatic 🇩🇪
  (Spin Twist) ► Alison 🇨🇭 (RAZZFAZZ) ► WAYOFDK 🇩🇪 ► Dr. Wi… Lieu:
  Schlaflos, Tellistrasse 118, 5000 Aarau
URL:https://www.goabase.net/fr/party/progressive-tribe-waudiomatic/117418
CATEGORIES:Psytrance Event
CLASS:PUBLIC
END:VEVENT

BEGIN:VEVENT
UID:a61635f9639df3911143ceabb66eca51
DTSTART:20260510T140000
DTEND:20260510T230000
LOCATION:Ormalingen [Switzerland]
GEO:47.500000000;7.900000000
DTSTAMP:20260510T140000Z
SUMMARY:Walpurgisnacht DayDance
DESCRIPTION:Line-up: Darkspy Hi-Tech Psycore Lieu: Waldhütte Ormalingen,
  Weierhofstrasse, 4466 Ormalingen, 4466 Ormalingen
URL:https://www.goabase.net/fr/party/walpurgisnacht-daydance/117335
CATEGORIES:Psytrance Event
CLASS:PUBLIC
END:VEVENT

BEGIN:VEVENT
UID:fbe1a19fe38459253e1b69d42682cd2d
DTSTART:20260516T220000
DTEND:20260517T080000
LOCATION:Luzern [Switzerland]
GEO:47.100000000;8.300000000
DTSTAMP:20260516T220000Z
SUMMARY:⚓️ TIEFENRAUSCH ~ 2026 ⚓️ w/ Cloud7, Total Balance, Tezla uvm.
DESCRIPTION:Line-up: 🌷🪷 SEEROSENFLOOR 🪷🌷 -Mainfloor- 🫧 CLOUD7 (Woodmore DE) 🫧
  TOTAL BALANCE (Woodmore DE) 🫧 TEZLA (ProgOnSyndicate) RETRO S… Lieu:
  Sedel Luzern, Sedelhof 2, 6020 Luzern
URL:https://www.goabase.net/fr/party/tiefenrausch-2026-w-cloud7-total-balance-tezla-uvm/116139
CATEGORIES:Psytrance Event
CLASS:PUBLIC
END:VEVENT

BEGIN:VEVENT
UID:ef151706f4af538a22ee1330fd527bbf
DTSTART:20260516T220000
DTEND:20260517T060000
LOCATION:Sissach [Switzerland]
GEO:47.500000000;7.800000000
DTSTAMP:20260516T220000Z
SUMMARY:Third Eye
DESCRIPTION:Line-up: DJ Capuns Quirin Kohler Chriff Christoball Damage DJ Anacsa
  Lieu: Tante Pinte, Bahnhofstr.19, 4450 Sissach
URL:https://www.goabase.net/fr/party/third-eye/117425
CATEGORIES:Psytrance Event
CLASS:PUBLIC
END:VEVENT

BEGIN:VEVENT
UID:536152576df17b317c915c550dfc26f3
DTSTART:20260530T230000
DTEND:20260531T060000
LOCATION:Aarau [Switzerland]
GEO:47.400000000;8.000000000
DTSTAMP:20260530T230000Z
SUMMARY:Techno Rebels – Female Edition (Vera’s Birthday)
DESCRIPTION:Line-up: 🎶 Lineup 🎶 #melodictechno #nightpsy #progressivetrance
  #psytech #techhouse #techno ► MaryCroft 🇵🇹 ► Kiba 🇩🇪 (Digital Sh… Lieu:
  Schlaflos, Tellistrasse 118, 5000 Aarau
URL:https://www.goabase.net/fr/party/techno-rebels-female-edition-veras-birthday/117303
CATEGORIES:Psytrance Event
CLASS:PUBLIC
END:VEVENT

BEGIN:VEVENT
UID:5a10459cab4ad67c610cea85325c3bd7
DTSTART:20260606T150000
DTEND:20260607T080000
LOCATION:Sissach [Switzerland]
GEO:47.500000000;7.800000000
DTSTAMP:20260606T150000Z
SUMMARY:GENERATION OF DARKNESS – Day & Night Mini In&Outdoor Festival
DESCRIPTION:Line-up: Lineup: -Highko- (Austria) 🇦🇹 Blast Records Amped Management
  -Agressive Mood- (Austria)🇦🇹 Blast Records Amped Managemen… Lieu: SIX
  Areal Tante Pinte & Joker Music & Sports Bar, Bahnhofstrasse 19, 4450
  Sissach Basel-Landschaft, Schweiz, 4450 Sissach
URL:https://www.goabase.net/fr/party/generation-of-darkness-day-night-mini-inoutdoor-festival/117086
CATEGORIES:Psytrance Event
CLASS:PUBLIC
END:VEVENT

BEGIN:VEVENT
UID:69d3f40d6cd119b69ee760e9ee3f0e15
DTSTART:20260612T140000
DTEND:20260614T180000
LOCATION:Effingen [Switzerland]
GEO:47.487740000;8.101550000
DTSTAMP:20260612T140000Z
SUMMARY:Outdoor Selection Festival 2026
DESCRIPTION:Line-up: Three days. One location. Pure energy. In the heart of nature
  in Effingen, something unforgettable is coming to life: mu… Lieu: RSA
  Talmatte, Bahnhofstrasse, 5078 Effingen
URL:https://www.goabase.net/fr/festival/outdoor-selection-festival-2026/116733
CATEGORIES:Psytrance Event
CLASS:PUBLIC
END:VEVENT

BEGIN:VEVENT
UID:8e5559b944aa03e0abe250ef2a710dc8
DTSTART:20260703T180000
DTEND:20260705T150000
LOCATION:Schelten [Switzerland]
GEO:47.300000000;7.600000000
DTSTAMP:20260703T180000Z
SUMMARY:Reisefieber Festival XX
DESCRIPTION:Line-up: TBA... Lieu: Reisefieber, , 2827 Schelten
URL:https://www.goabase.net/fr/festival/reisefieber-festival-xx/117132
CATEGORIES:Psytrance Event
CLASS:PUBLIC
END:VEVENT

BEGIN:VEVENT
UID:05972ce806b60dc012c0460c2a5fa949
DTSTART:20260731T180000
DTEND:20260802T180000
LOCATION:Kallnach [Switzerland]
GEO:47.020320000;7.235450000
DTSTAMP:20260731T180000Z
SUMMARY:PsyRiver Festival 2026
DESCRIPTION:Lieu: Verein Moonlight, , 3283 Kallnach
URL:https://www.goabase.net/fr/festival/psyriver-festival-2026/117353
CATEGORIES:Psytrance Event
CLASS:PUBLIC
END:VEVENT

BEGIN:VEVENT
UID:4b2597cdb18854742626d2e820888be8
DTSTART:20260829T210000
DTEND:20260830T060000
LOCATION:Tenniken [Switzerland]
GEO:47.437170000;7.810070000
DTSTAMP:20260829T210000Z
SUMMARY:Iris Open Air 2026
DESCRIPTION:Line-up: E-Clip (Sounds of Akasha) - Serbien Sebastian Kos (Antu
  Records) - CH Venus Vibes (Pulsonique Records | Purple Hexagon R…
URL:https://www.goabase.net/fr/party/iris-open-air-2026/116678
CATEGORIES:Psytrance Event
CLASS:PUBLIC
END:VEVENT

BEGIN:VEVENT
UID:3336638671f875e81b950222c12c9b92
DTSTART:20261121T230000
DTEND:20261122T060000
LOCATION:Aarau [Switzerland]
GEO:47.400000000;8.000000000
DTSTAMP:20261121T230000Z
SUMMARY:SURROUND SOUND EXPERIENCE – WAIO KEHRT ZURÜCK!
DESCRIPTION:Line-up: 🎶 Lineup 🎶 #progressivepsytrance #psytrance ► WAIO 🇧🇷 ► Mad
  Fusion 🇨🇭 (New Mind Booking) ► Magenta 🇨🇭 (Schlaflos / Mon… Lieu:
  Schlaflos, Tellistrasse 118, 5000 Aarau
URL:https://www.goabase.net/fr/party/surround-sound-experience-waio-kehrt-zurueck/117420
CATEGORIES:Psytrance Event
CLASS:PUBLIC
END:VEVENT

END:VCALENDAR