BEGIN:VCALENDAR
VERSION:2.0
PRODID:goabase.net iCalendar 2026
X-WR-CALNAME:goabase.net - parties and people - partytimer from Dj Roy
X-WR-TIMEZONE;VALUE=TEXT:Europe/Berlin
CALSCALE:GREGORIAN
BEGIN:VTIMEZONE
TZID:Europe/Berlin
X-LIC-LOCATION:Europe/Berlin
BEGIN:DAYLIGHT
TZOFFSETFROM:+0100
TZOFFSETTO:+0200
TZNAME:CEST
DTSTART:19700329T020000
RRULE:FREQ=YEARLY;INTERVAL=1;BYDAY=-1SU;BYMONTH=3
END:DAYLIGHT
BEGIN:STANDARD
TZOFFSETFROM:+0200
TZOFFSETTO:+0100
TZNAME:CET
DTSTART:19701025T030000
RRULE:FREQ=YEARLY;INTERVAL=1;BYDAY=-1SU;BYMONTH=10
END:STANDARD
END:VTIMEZONE
BEGIN:VEVENT
UID:56dbfba5d5e542a8200e2971d13c05a0
DTSTART:20260912T150000
DTEND:20260913T030000
LOCATION:Peer [Belgium]
GEO:51.100000000;5.500000000
DTSTAMP:20260912T150000Z
SUMMARY:15 years greentree records label party
DESCRIPTION:Line-up: Expect alot greentree records Dj's and international guest
  Dj's Lieu: Kaffee Tos, Burkel 10, 3990 Peer
URL:https://www.goabase.net/fr/party/15-years-greentree-records-label-party/117465
CATEGORIES:Psytrance Event
CLASS:PUBLIC
END:VEVENT
END:VCALENDAR