BEGIN:VCALENDAR
VERSION:2.0
PRODID:goabase.net iCalendar 2026
X-WR-CALNAME:goabase.net - parties and people - partytimer from Nataraja
X-WR-TIMEZONE;VALUE=TEXT:Europe/Berlin
CALSCALE:GREGORIAN
BEGIN:VTIMEZONE
TZID:Europe/Berlin
X-LIC-LOCATION:Europe/Berlin
BEGIN:DAYLIGHT
TZOFFSETFROM:+0100
TZOFFSETTO:+0200
TZNAME:CEST
DTSTART:19700329T020000
RRULE:FREQ=YEARLY;INTERVAL=1;BYDAY=-1SU;BYMONTH=3
END:DAYLIGHT
BEGIN:STANDARD
TZOFFSETFROM:+0200
TZOFFSETTO:+0100
TZNAME:CET
DTSTART:19701025T030000
RRULE:FREQ=YEARLY;INTERVAL=1;BYDAY=-1SU;BYMONTH=10
END:STANDARD
END:VTIMEZONE
BEGIN:VEVENT
UID:02e8b5efb2c6a745ee32b55c5a4abf13
DTSTART:20260716T220000
DTEND:20260720T120000
LOCATION:Bourgogne [France]
GEO:49.349620000;4.071110000
DTSTAMP:20260716T220000Z
SUMMARY:Nataraja Psychedelic Gathering 2026 | 10 YEARS
DESCRIPTION:Line-up: TBA Lieu: Domats, , 89150 Bourgogne
URL:https://www.goabase.net/fr/festival/nataraja-psychedelic-gathering-2026-10-years/116240
CATEGORIES:Psytrance Event
CLASS:PUBLIC
END:VEVENT
END:VCALENDAR