BEGIN:VCALENDAR
VERSION:2.0
PRODID:goabase.net iCalendar 2026
X-WR-CALNAME:goabase.net - parties and people 
X-WR-TIMEZONE;VALUE=TEXT:Europe/Berlin
CALSCALE:GREGORIAN
BEGIN:VTIMEZONE
TZID:Europe/Berlin
X-LIC-LOCATION:Europe/Berlin
BEGIN:DAYLIGHT
TZOFFSETFROM:+0100
TZOFFSETTO:+0200
TZNAME:CEST
DTSTART:19700329T020000
RRULE:FREQ=YEARLY;INTERVAL=1;BYDAY=-1SU;BYMONTH=3
END:DAYLIGHT
BEGIN:STANDARD
TZOFFSETFROM:+0200
TZOFFSETTO:+0100
TZNAME:CET
DTSTART:19701025T030000
RRULE:FREQ=YEARLY;INTERVAL=1;BYDAY=-1SU;BYMONTH=10
END:STANDARD
END:VTIMEZONE

BEGIN:VEVENT
UID:1326fea55c9e8bc690522fb2ca09b46c
DTSTART:20261002T230000
DTEND:20261003T060000
LOCATION:Wien [Austria]
GEO:48.200000000;16.400000000
DTSTAMP:20261002T230000Z
SUMMARY:Bionic Ritual - 10 year’s anniversary
DESCRIPTION:
URL:https://www.goabase.net/es/party/bionic-ritual-10-years-anniversary/116099
CATEGORIES:Psytrance Event
CLASS:PUBLIC
END:VEVENT

BEGIN:VEVENT
UID:27fdf3cb78f240164310eddc206cb404
DTSTART:20261003T210000
DTEND:20261004T090000
LOCATION:Hamburg [Germany]
GEO:53.600000000;10.000000000
DTSTAMP:20261003T210000Z
SUMMARY:Intact Expanda 2026
DESCRIPTION:Line Up: Save the Date. Am Samstag, 03. Oktober 2026 kehrt Intact
  Expanda zurück 💃🕉️🕺 📍 Catonium Eine Nacht. Ein Ort. Volle Ener…
  Location: Catonium, Försterweg 163, 22525 Hamburg
URL:https://www.goabase.net/es/party/intact-expanda-2026/113805
CATEGORIES:Psytrance Event
CLASS:PUBLIC
END:VEVENT

BEGIN:VEVENT
UID:ffaef5007fb993d2f9f9f77c4ab6afc5
DTSTART:20261003T210000
DTEND:20261004T130000
LOCATION:Limassol [Cyprus]
GEO:34.700000000;33.000000000
DTSTAMP:20261003T210000Z
SUMMARY:Open Gate
DESCRIPTION:Line Up: International Headliners • WEIRDOS (Parvati Records) • AZTEC
  DOSAGE (Goanmantra Records) • LESO (Sonic Loom Music) Local… Location:
  Outdoor Forest (secret location), , Limassol
URL:https://www.goabase.net/es/party/open-gate/116450
CATEGORIES:Psytrance Event
CLASS:PUBLIC
END:VEVENT

BEGIN:VEVENT
UID:40692472fd23cb2b083016279f720fcd
DTSTART:20261003T220000
DTEND:20261004T120000
LOCATION:Hamburg [Germany]
GEO:53.600000000;10.000000000
DTSTAMP:20261003T220000Z
SUMMARY:Empire of Goa 2026
DESCRIPTION:Line Up: Psychedelic & Progressive & Trance Event Hamburg Empire of
  Goa 2026 – Die Reise geht weiter! 🗓 03. Oktober 2026 | 🕙 Star…
  Location: Docks - Hamburg, Spielbudenplatz 19, 20359 Hamburg
URL:https://www.goabase.net/es/party/empire-of-goa-2026/116037
CATEGORIES:Psytrance Event
CLASS:PUBLIC
END:VEVENT

BEGIN:VEVENT
UID:be2947e1c065b309db7ec4d29283a1ae
DTSTART:20261009T220000
DTEND:20261010T060000
LOCATION:Wien [Austria]
GEO:48.200000000;16.400000000
DTSTAMP:20261009T220000Z
SUMMARY:PSYTRANCE UNIVERSE
DESCRIPTION:
URL:https://www.goabase.net/es/party/psytrance-universe/115731
CATEGORIES:Psytrance Event
CLASS:PUBLIC
END:VEVENT

BEGIN:VEVENT
UID:907b91274d9fac3f4b3ba6db12a8ef8a
DTSTART:20261009T220000
DTEND:20261010T060000
LOCATION:Münster [Germany]
GEO:52.000000000;7.600000000
DTSTAMP:20261009T220000Z
SUMMARY:Bassmania XXL Oktober
DESCRIPTION:Line Up: TBA Location: Am Hawerkamp, Am Hawerkamp 31, 48155 Münster
URL:https://www.goabase.net/es/party/bassmania-xxl-oktober/116630
CATEGORIES:Psytrance Event
CLASS:PUBLIC
END:VEVENT

BEGIN:VEVENT
UID:6ec545d7eba6b31e07f1a5d73758f496
DTSTART:20261009T230000
DTEND:20261010T120000
LOCATION:Zürich [Switzerland]
GEO:47.400000000;8.500000000
DTSTAMP:20261009T230000Z
SUMMARY:Arcturians Productions Presents Obscura
DESCRIPTION:Line Up: 🌑 Arcturians Productions presents OBSCURA 🌑 Obscura is built
  around a simple but powerful truth: light cannot exist with… Location:
  VIOR Club, Löwenstrasse 2, 8001 Zürich, Switzerland, 8001 Zürich
URL:https://www.goabase.net/es/party/arcturians-productions-presents-obscura/117105
CATEGORIES:Psytrance Event
CLASS:PUBLIC
END:VEVENT

BEGIN:VEVENT
UID:cedbf7f6504e37646d7fec660bbda5cc
DTSTART:20261024T210000
DTEND:20261025T080000
LOCATION:Kloten [Switzerland]
GEO:47.500000000;8.600000000
DTSTAMP:20261024T210000Z
SUMMARY:GOAFAMILY  Place of Love
DESCRIPTION:Line Up: . ✨ Psychedelic & Progressive Trance ✨ join us here for
  Infos, Pics & Videos: ✨ ✨ ☆ Decoration… Location: Club & Lounge Floor,
  Oberfeldstrasse 12a, 8302 Kloten
URL:https://www.goabase.net/es/party/goafamily-place-of-love/117154
CATEGORIES:Psytrance Event
CLASS:PUBLIC
END:VEVENT

BEGIN:VEVENT
UID:7dc95453e49608599df224704260c1ab
DTSTART:20261024T230000
DTEND:20261025T060000
LOCATION:Geneve [Switzerland]
GEO:46.200000000;6.100000000
DTSTAMP:20261024T230000Z
SUMMARY:GROOVADELIC - ZOO
DESCRIPTION:Line Up: Psyberpunk & Friends more info 2 weeks before party Location:
  Zoo - Usine, place des Volontaires 4, 1204 Geneva, 1204 Geneve
URL:https://www.goabase.net/es/party/groovadelic-zoo/117312
CATEGORIES:Psytrance Event
CLASS:PUBLIC
END:VEVENT

BEGIN:VEVENT
UID:c571a2788f40162636ec065b167cef18
DTSTART:20261030T200000
DTEND:20261101T220000
LOCATION:San Vicente de Tagua Tagua [Chile]
GEO:0.000000000;0.000000000
DTSTAMP:20261030T200000Z
SUMMARY:🌒 Lux Noctis ✦ I OPEN AIR I 31 OCT
DESCRIPTION:Line Up: LUX NOCTIS - OPEN AIR A veces, un lugar no aparece en los
  mapas 🜂 Aparece en la memoria 🌒 Entre árboles, neblina y sonid…
  Location: Centro de Eventos Bosques de Gulutren, , San Vicente de Tagua
  Tagua
URL:https://www.goabase.net/es/party/lux-noctis-i-open-air-i-31-oct/117387
CATEGORIES:Psytrance Event
CLASS:PUBLIC
END:VEVENT

BEGIN:VEVENT
UID:70a5ca07892099094bc63cafe2fa18cb
DTSTART:20261030T220000
DTEND:20261031T050000
LOCATION:Vienna [Austria]
GEO:48.200000000;16.300000000
DTSTAMP:20261030T220000Z
SUMMARY:Halloween Night FLIGHT ☥ ☽
DESCRIPTION:Line Up: Is cooking
URL:https://www.goabase.net/es/party/halloween-night-flight/116625
CATEGORIES:Psytrance Event
CLASS:PUBLIC
END:VEVENT

BEGIN:VEVENT
UID:aeb6bdeb56a54131f8fa96d4044d210c
DTSTART:20261031T220000
DTEND:20261101T120000
LOCATION:wien [Austria]
GEO:48.200000000;16.400000000
DTSTAMP:20261031T220000Z
SUMMARY:ASTRALUNIO - A Psytranceformation HELLOWEEN SPECIAL
DESCRIPTION:
URL:https://www.goabase.net/es/party/astralunio-a-psytranceformation-helloween-special/116287
CATEGORIES:Psytrance Event
CLASS:PUBLIC
END:VEVENT

END:VCALENDAR