BEGIN:VCALENDAR
VERSION:2.0
PRODID:goabase.net iCalendar 2026
X-WR-CALNAME:goabase.net - parties and people 
X-WR-TIMEZONE;VALUE=TEXT:Europe/Berlin
CALSCALE:GREGORIAN
BEGIN:VTIMEZONE
TZID:Europe/Berlin
X-LIC-LOCATION:Europe/Berlin
BEGIN:DAYLIGHT
TZOFFSETFROM:+0100
TZOFFSETTO:+0200
TZNAME:CEST
DTSTART:19700329T020000
RRULE:FREQ=YEARLY;INTERVAL=1;BYDAY=-1SU;BYMONTH=3
END:DAYLIGHT
BEGIN:STANDARD
TZOFFSETFROM:+0200
TZOFFSETTO:+0100
TZNAME:CET
DTSTART:19701025T030000
RRULE:FREQ=YEARLY;INTERVAL=1;BYDAY=-1SU;BYMONTH=10
END:STANDARD
END:VTIMEZONE

BEGIN:VEVENT
UID:6f9d978a8976ff4ada21f4182ac1e466
DTSTART:20260903T180000
DTEND:20260906T190000
LOCATION:Berlin [Germany]
GEO:52.500000000;13.400000000
DTSTAMP:20260903T180000Z
SUMMARY:Evolution
DESCRIPTION:
URL:https://www.goabase.net/es/festival/evolution/115811
CATEGORIES:Psytrance Event
CLASS:PUBLIC
END:VEVENT

BEGIN:VEVENT
UID:277d166df3a32f8407e80a754003742e
DTSTART:20260903T180000
DTEND:20260907T120000
LOCATION:Schramberg [Germany]
GEO:48.200000000;8.400000000
DTSTAMP:20260903T180000Z
SUMMARY:Lipp Out Festival the Lippen psychedelic Events
DESCRIPTION:Location: Club savajevo, Berneck 92,  Schramberg
URL:https://www.goabase.net/es/festival/lipp-out-festival-the-lippen-psychedelic-events/116996
CATEGORIES:Psytrance Event
CLASS:PUBLIC
END:VEVENT

BEGIN:VEVENT
UID:e9880574d51c1f1c829e7f72d9df5d24
DTSTART:20260904T160000
DTEND:20260906T160000
LOCATION:North Ticino [Switzerland]
GEO:0.000000000;0.000000000
DTSTAMP:20260904T160000Z
SUMMARY:....::: WIDE HORIZON 26 - PARTY IN THE ALPS AT 2393m - 8TH EDITION :::....
DESCRIPTION:Line Up: ...:::: PLEASE READ CAREFULLY ALL THE DESCRIPTION / LINE UP
  AT THE END ::::… THIS EVENT WANTS TO WELCOME ALL THE SOULS,…
URL:https://www.goabase.net/es/party/wide-horizon-26-party-in-the-alps-at-2393m-8th-edition/116100
CATEGORIES:Psytrance Event
CLASS:PUBLIC
END:VEVENT

END:VCALENDAR