BEGIN:VCALENDAR
VERSION:2.0
PRODID:goabase.net iCalendar 2026
X-WR-CALNAME:goabase.net - parties and people 
X-WR-TIMEZONE;VALUE=TEXT:Europe/Berlin
CALSCALE:GREGORIAN
BEGIN:VTIMEZONE
TZID:Europe/Berlin
X-LIC-LOCATION:Europe/Berlin
BEGIN:DAYLIGHT
TZOFFSETFROM:+0100
TZOFFSETTO:+0200
TZNAME:CEST
DTSTART:19700329T020000
RRULE:FREQ=YEARLY;INTERVAL=1;BYDAY=-1SU;BYMONTH=3
END:DAYLIGHT
BEGIN:STANDARD
TZOFFSETFROM:+0200
TZOFFSETTO:+0100
TZNAME:CET
DTSTART:19701025T030000
RRULE:FREQ=YEARLY;INTERVAL=1;BYDAY=-1SU;BYMONTH=10
END:STANDARD
END:VTIMEZONE

BEGIN:VEVENT
UID:901312478f5111e4ae4b03aefbfc497f
DTSTART:20260528T200000
DTEND:20260531T180000
LOCATION:Hamburg [Germany]
GEO:53.600000000;10.000000000
DTSTAMP:20260528T200000Z
SUMMARY:Psychdelic Experience Open Air Festival 2026
DESCRIPTION:
URL:https://www.goabase.net/es/festival/psychdelic-experience-open-air-festival-2026/113806
CATEGORIES:Psytrance Event
CLASS:PUBLIC
END:VEVENT

BEGIN:VEVENT
UID:e2db6e061004ba0b129a5095889c8be8
DTSTART:20260529T120000
DTEND:20260531T210000
LOCATION:Saint Juery [France]
GEO:0.000000000;0.000000000
DTSTAMP:20260529T120000Z
SUMMARY:La Casba Festival 2026
DESCRIPTION:Line Up: Zyce, Luis M, Solitary Shell, Vegan Cake, Hypatia, Futurum
  Sonat, Timo Lissy, Hu Bee, Mr. Frisson, Varanoid, Ollie, Neut…
  Location: La Rouvarié, Terradelici, La Rouvarié, 12550 Saint Juery
URL:https://www.goabase.net/es/party/la-casba-festival-2026/116598
CATEGORIES:Psytrance Event
CLASS:PUBLIC
END:VEVENT

BEGIN:VEVENT
UID:30d0c92663e50d8aa701f889857f607e
DTSTART:20260529T140000
DTEND:20260601T020000
LOCATION:Gallin [Germany]
GEO:53.600000000;10.000000000
DTSTAMP:20260529T140000Z
SUMMARY:Psychedelic Experience Open Air Festival 2026
DESCRIPTION:Location: Festival Location, Weisiner Weg Ausbau 1, 19386 Gallin
URL:https://www.goabase.net/es/festival/psychedelic-experience-open-air-festival-2026/116805
CATEGORIES:Psytrance Event
CLASS:PUBLIC
END:VEVENT

BEGIN:VEVENT
UID:d67c625defd191c6ca3c6a9bb4715fbb
DTSTART:20260529T150000
DTEND:20260531T183000
LOCATION:Pontons [Spain]
GEO:41.400000000;1.500000000
DTSTAMP:20260529T150000Z
SUMMARY:Aura festival 2026
DESCRIPTION:Location: Mas de la Riera, Barri mas de la riera 52, 08738 Pontons
URL:https://www.goabase.net/es/festival/aura-festival-2026/116509
CATEGORIES:Psytrance Event
CLASS:PUBLIC
END:VEVENT

BEGIN:VEVENT
UID:82c69b0537c0956d6add751b285f1ab9
DTSTART:20260529T180000
DTEND:20260531T120000
LOCATION:Místo [Czech Republic]
GEO:0.000000000;0.000000000
DTSTAMP:20260529T180000Z
SUMMARY:RISING CASTLE 2026 (CARBON BASED LIFEFORMS)
DESCRIPTION:Line Up: LIVE : CARBON BASED LIFEFORMS (SWEDEN) PAVEL HOLEČEK - AUDIO
  KINETIC LIVE SHOW AUDIO PILOTS: BEYOND (HUNGARY) PSYCHOSOMA… Location:
  Hasistejn Castle, , 43158 Místo
URL:https://www.goabase.net/es/party/rising-castle-2026-carbon-based-lifeforms/115634
CATEGORIES:Psytrance Event
CLASS:PUBLIC
END:VEVENT

BEGIN:VEVENT
UID:af2093717c7c43d5ed8ed91a28b479a2
DTSTART:20260529T180000
DTEND:20260530T120000
LOCATION:Amsterdam [Netherlands]
GEO:52.396510000;4.875340000
DTSTAMP:20260529T180000Z
SUMMARY:Tropical Nomads Amsterdam presents: Burn in Noise
DESCRIPTION:Line Up: 🔥 BURN IN NOISE (Nano Records) 🔥 🌀 PSYKADELICA (Dutch Acid
  Family)🌀 🔥 POLZITIV 🔥 More details soon... Location: Toekomstmuziek, 29
  Danzigerbocht, 1013 Amsterdam
URL:https://www.goabase.net/es/party/tropical-nomads-amsterdam-presents-burn-in-noise/117152
CATEGORIES:Psytrance Event
CLASS:PUBLIC
END:VEVENT

BEGIN:VEVENT
UID:c45cd8724387f1a6badafd5948093a10
DTSTART:20260529T190000
DTEND:20260531T233000
LOCATION:Valdeverdeja [Spain]
GEO:0.000000000;0.000000000
DTSTAMP:20260529T190000Z
SUMMARY:Refractor 2026
DESCRIPTION:Line Up: Aaron J Alohn (live) Andrae Durden & Norim (live) A Strange
  Wedding (live) Atrice (live) Avsluta (live) Babe Roots (live… Location:
  Area Recreativa La Facciosa, , 45572 Valdeverdeja
URL:https://www.goabase.net/es/festival/refractor-2026/116177
CATEGORIES:Psytrance Event
CLASS:PUBLIC
END:VEVENT

BEGIN:VEVENT
UID:f66816e27c090ccb0eb96a9b07a600df
DTSTART:20260529T220000
DTEND:20260530T060000
LOCATION:Bochum [Germany]
GEO:51.500000000;7.200000000
DTSTAMP:20260529T220000Z
SUMMARY:Vision꩜Swamp | NightPsy/DarkPsy Night 👽
DESCRIPTION:Line Up: 22-00 - Psyblings (Koala & Kymatik) 00-02 - Elandi_lou &
  @Yunalinda 02-04 - toska 04-06 - Gunatama (ZeakonRec) Location: Klub
  Kurt, Kurt-Schumacher-Platz 1, 44787 Bochum
URL:https://www.goabase.net/es/party/visionswamp-nightpsydarkpsy-night/117388
CATEGORIES:Psytrance Event
CLASS:PUBLIC
END:VEVENT

BEGIN:VEVENT
UID:873f73d1074dc86183b631fe97d88b9d
DTSTART:20260530T100000
DTEND:20260530T220000
LOCATION:Wattwil [Switzerland]
GEO:47.300000000;9.100000000
DTSTAMP:20260530T100000Z
SUMMARY:SpringRollzDayDance ll
DESCRIPTION:Line Up: -Supersonic -7Eleven & Astronix -Grünesblau Vs Ohrtor
  -Beathoven -Mad Fusion -Synapse & Rock n Troll -Progmal -Ma-Mi
  Location: Restaurant Churfirsten Wattwil, Im scherrer, 9630 Wattwil
URL:https://www.goabase.net/es/party/springrollzdaydance-ll/117283
CATEGORIES:Psytrance Event
CLASS:PUBLIC
END:VEVENT

BEGIN:VEVENT
UID:327d1306bf1326ce0bc15425b77e3fdb
DTSTART:20260530T100000
DTEND:20260531T000000
LOCATION:Prignano sulla Secchia (MO) [Italy]
GEO:0.000000000;0.000000000
DTSTAMP:20260530T100000Z
SUMMARY:RITUAL
DESCRIPTION:Line Up: Line up dalle 10 a mezzanotte! Line up from 10 A.M. to
  midnight! Uri HALFRED Roger Bodhi Zephirion HALFREAK 137 URIX Dan…
  Location: Rupe del Pescale, Modena, Via Sassuolo 3° Tronco, 6291, 41048
  Prignano sulla Secchia M…, 41048 Prignano sulla Secchia (MO)
URL:https://www.goabase.net/es/party/ritual/117435
CATEGORIES:Psytrance Event
CLASS:PUBLIC
END:VEVENT

BEGIN:VEVENT
UID:64596b5c307b92805ca6c6084d62e278
DTSTART:20260530T110000
DTEND:20260531T220000
LOCATION:Toro Warkhu, Vacas [Bolivia]
GEO:0.000000000;0.000000000
DTSTAMP:20260530T110000Z
SUMMARY:PAKARI Alternative Festival
DESCRIPTION:Line Up: OFFICIAL LINEUP 🧿 DJS: • Herio (Cbba - Bolivia) Chillout •
  Radha (Cbba - Bolivia) Full On Groove • 369 (Brasil) Full… Location:
  The Hidden Valley, , Toro Warkhu, Vacas
URL:https://www.goabase.net/es/party/pakari-alternative-festival/116959
CATEGORIES:Psytrance Event
CLASS:PUBLIC
END:VEVENT

BEGIN:VEVENT
UID:fc2ccea69f8d4b6b795bac7c137b28d1
DTSTART:20260530T130000
DTEND:20260530T230000
LOCATION:Oberembrach [Switzerland]
GEO:47.488290000;8.633930000
DTSTAMP:20260530T130000Z
SUMMARY:FREEDOMRAVES- BAILE LEON II
DESCRIPTION:Line Up: ▆ ▆ ▆ ▆ ▆ LINE UP ▆ ▆ ▆ ▆ ▆ ☆ GOHU ☆ Live Set 90min  🇫🇷 FR |
  Ovni Records  SC: ____… Location: Schützenhaus Mettlen, Mettlenstrasse,
  8425 Oberembrach
URL:https://www.goabase.net/es/party/freedomraves-baile-leon-ii/117200
CATEGORIES:Psytrance Event
CLASS:PUBLIC
END:VEVENT

BEGIN:VEVENT
UID:b51153abf1d98d52cc071328f7172c3f
DTSTART:20260530T140000
DTEND:20260531T040000
LOCATION:Wien [Austria]
GEO:48.200000000;16.400000000
DTSTAMP:20260530T140000Z
SUMMARY:Tribal Vibes Open Air
DESCRIPTION:Location: TRIBAL VIBES, Steinspornbrücke 1, 1220 Wien
URL:https://www.goabase.net/es/party/tribal-vibes-open-air/116421
CATEGORIES:Psytrance Event
CLASS:PUBLIC
END:VEVENT

BEGIN:VEVENT
UID:dd9e81f20e2029ba4ac6c76afafbeaee
DTSTART:20260530T150000
DTEND:20260531T030000
LOCATION:Lennestadt [Germany]
GEO:51.100000000;8.100000000
DTSTAMP:20260530T150000Z
SUMMARY:Dark Factory Rave
DESCRIPTION:Line Up: BEN DUST STEINTEKK B2B TOMÉ NITSCHKE INTOXICATED PFADFINDER
  MAZO Location: Industriegelände, Dr. Paul Müller Straße 40, 57368
  Lennestadt
URL:https://www.goabase.net/es/party/dark-factory-rave/116368
CATEGORIES:Psytrance Event
CLASS:PUBLIC
END:VEVENT

BEGIN:VEVENT
UID:35642ae3b69073615f222eca3d1863db
DTSTART:20260530T220000
DTEND:20260531T080000
LOCATION:Winterthur [Switzerland]
GEO:47.500000000;8.700000000
DTSTAMP:20260530T220000Z
SUMMARY:BPM FREAKS // FELE Live // Tazmanics Live
DESCRIPTION:Line Up: ▪︎|○•°| FELE (AT) | Freak Records ▪︎|○•°| Tazmanics (CH) |
  Interaural Records / Xibalba Records ▪︎|○•°| Acajou (CH) | Sp…
  Location: Caribbean Pearl Club, Zürcherstrasse 3, 8400 Winterthur
URL:https://www.goabase.net/es/party/bpm-freaks-fele-live-tazmanics-live/116746
CATEGORIES:Psytrance Event
CLASS:PUBLIC
END:VEVENT

BEGIN:VEVENT
UID:a523df6d4c9a9ef1774ef87efde841e5
DTSTART:20260530T220000
DTEND:20260531T080000
LOCATION:Bad Breisig [Germany]
GEO:50.100000000;7.800000000
DTSTAMP:20260530T220000Z
SUMMARY:BACK 2 BAS(S)IX
DESCRIPTION:Line Up: Slymix, M.A.R.C., MissStueck, Dr.Verleihnix Yanniz, Dubslut,
  B. Snailed, Lunatic Crius Location: Rasthaus B9, , 53498 Bad Breisig
URL:https://www.goabase.net/es/party/back-2-bassix/117313
CATEGORIES:Psytrance Event
CLASS:PUBLIC
END:VEVENT

BEGIN:VEVENT
UID:fba0a87b73b627fcc403dc7653e579fd
DTSTART:20260530T220000
DTEND:20260531T050000
LOCATION:Ulm [Germany]
GEO:48.400000000;10.000000000
DTSTAMP:20260530T220000Z
SUMMARY:PSY'N'BASS
DESCRIPTION:Line Up: ... tba ... Location: Gleis 44, Schillestraße 44, 89077 Ulm
URL:https://www.goabase.net/es/party/psynbass/117424
CATEGORIES:Psytrance Event
CLASS:PUBLIC
END:VEVENT

BEGIN:VEVENT
UID:c65e9a0f07bc98ed13a5eb3c63349eb8
DTSTART:20260530T230000
DTEND:20260531T130000
LOCATION:Hattingen [Germany]
GEO:51.400000000;7.200000000
DTSTAMP:20260530T230000Z
SUMMARY:COSMIC TEMPLE Sun Flare featuring D-THER LIVE
DESCRIPTION:Line Up: D-THER (LIVE) APO SUNDANCE TALUMA KERRO SIN CARTMAN! NEBOIŠA
  DECO CONCEPT: T
URL:https://www.goabase.net/es/party/cosmic-temple-sun-flare-featuring-d-ther-live/116868
CATEGORIES:Psytrance Event
CLASS:PUBLIC
END:VEVENT

BEGIN:VEVENT
UID:e363f66902fe55fc0f602c804cae6c07
DTSTART:20260530T230000
DTEND:20260531T080000
LOCATION:Winterthur [Switzerland]
GEO:47.500000000;8.700000000
DTSTAMP:20260530T230000Z
SUMMARY:To be continued 4 // DayDin Live
DESCRIPTION:Line Up: •.¸(•.¸Live¸.•´)¸.• ♫ Day.Din ♫ DE Spintwist Rec. Progressive
  •.¸(•.¸Dj¸.•´)¸.• ♫ Darkforestnoises ♫ CH Experience The… Location:
  Stadtchäller Winterthur, St.Gallerstrasse 184, 8404 Winterthur
URL:https://www.goabase.net/es/party/to-be-continued-4-daydin-live/117057
CATEGORIES:Psytrance Event
CLASS:PUBLIC
END:VEVENT

BEGIN:VEVENT
UID:536152576df17b317c915c550dfc26f3
DTSTART:20260530T230000
DTEND:20260531T060000
LOCATION:Aarau [Switzerland]
GEO:47.400000000;8.000000000
DTSTAMP:20260530T230000Z
SUMMARY:Techno Rebels – Female Edition (Vera’s Birthday)
DESCRIPTION:Line Up: 🎶 Lineup 🎶 #melodictechno #nightpsy #progressivetrance
  #psytech #techhouse #techno ► MaryCroft 🇵🇹 ► Kiba 🇩🇪 (Digital Sh…
  Location: Schlaflos, Tellistrasse 118, 5000 Aarau
URL:https://www.goabase.net/es/party/techno-rebels-female-edition-veras-birthday/117303
CATEGORIES:Psytrance Event
CLASS:PUBLIC
END:VEVENT

END:VCALENDAR