BEGIN:VCALENDAR
VERSION:2.0
PRODID:goabase.net iCalendar 2026
X-WR-CALNAME:goabase.net - parties and people 
X-WR-TIMEZONE;VALUE=TEXT:Europe/Berlin
CALSCALE:GREGORIAN
BEGIN:VTIMEZONE
TZID:Europe/Berlin
X-LIC-LOCATION:Europe/Berlin
BEGIN:DAYLIGHT
TZOFFSETFROM:+0100
TZOFFSETTO:+0200
TZNAME:CEST
DTSTART:19700329T020000
RRULE:FREQ=YEARLY;INTERVAL=1;BYDAY=-1SU;BYMONTH=3
END:DAYLIGHT
BEGIN:STANDARD
TZOFFSETFROM:+0200
TZOFFSETTO:+0100
TZNAME:CET
DTSTART:19701025T030000
RRULE:FREQ=YEARLY;INTERVAL=1;BYDAY=-1SU;BYMONTH=10
END:STANDARD
END:VTIMEZONE

BEGIN:VEVENT
UID:67fa21c80ff84aaa379f9e72a3de09ae
DTSTART:20260515T160000
DTEND:20260517T100000
LOCATION:Flums [Switzerland]
GEO:47.093620000;9.345410000
DTSTAMP:20260515T160000Z
SUMMARY:EMPTYMOON
DESCRIPTION:Line Up: AIONATIK • ANACSA • ÁQOQ • ADHDJ BASEMENT KID • BASE PRAISE •
  COSMIOX ECHINOPSYS • FREACKBROTHERS MAX TASE • MALUCO • MU… Location:
  BeRgHauS, Bahnhof, 8890 Flums
URL:https://www.goabase.net/es/party/emptymoon/117447
CATEGORIES:Psytrance Event
CLASS:PUBLIC
END:VEVENT

BEGIN:VEVENT
UID:6d437db203fc6dc9437a93952cfeedf9
DTSTART:20260515T173000
DTEND:20260516T050000
LOCATION:Marburg an der Lahn [Germany]
GEO:50.809040000;8.770690000
DTSTAMP:20260515T173000Z
SUMMARY:Motion into Trance 2
DESCRIPTION:Line Up: Lucida Melfisto Milo Turiya Tone (Abstract Harmony) Zortarf
  Deko by Aesthetic Welfare Location: Knubbel, Schwanallee 27, 35037
  Marburg an der Lahn
URL:https://www.goabase.net/es/party/motion-into-trance-2/117083
CATEGORIES:Psytrance Event
CLASS:PUBLIC
END:VEVENT

BEGIN:VEVENT
UID:8929c4122772114b9f2625f8f99baac5
DTSTART:20260515T200000
DTEND:20260516T010000
LOCATION:Duisburg [Germany]
GEO:51.400000000;6.800000000
DTSTAMP:20260515T200000Z
SUMMARY:GOA-Tresen im Stapeltor
DESCRIPTION:Line Up: ezora - siehebaszi - siehePsyklopter - sieheKastopsy - siehe*
  * !! Open Call for FLINTA-DJs !! Du spielst Psy und möchte… Location:
  Stapeltor Soziokulturelles Zentrum 47 e.V., Stapeltor 6, 47051 Duisburg
URL:https://www.goabase.net/es/party/goa-tresen-im-stapeltor/117219
CATEGORIES:Psytrance Event
CLASS:PUBLIC
END:VEVENT

BEGIN:VEVENT
UID:43b8eda65f093ad2748d8c9921102b26
DTSTART:20260516T100000
DTEND:20260517T000000
LOCATION:Prignano sulla Secchia (MO) [Italy]
GEO:0.000000000;0.000000000
DTSTAMP:20260516T100000Z
SUMMARY:RITUAL
DESCRIPTION:Line Up: Line up dalle 10 a mezzanotte! Line up from 10 A.M. to
  midnight! Nostalgia Underground (Busker Live Guitar) MATTIA DELLA…
  Location: Rupe del Pescale, Modena, Via Sassuolo 3° Tronco, 6291, 41048
  Prignano sulla Secchia M…, 41048 Prignano sulla Secchia (MO)
URL:https://www.goabase.net/es/party/ritual/117362
CATEGORIES:Psytrance Event
CLASS:PUBLIC
END:VEVENT

BEGIN:VEVENT
UID:0fa2395a3dd016634f02aae93b6d670a
DTSTART:20260516T120000
DTEND:20260517T150000
LOCATION:Tokyo [Japan]
GEO:35.760443200;139.206864100
DTSTAMP:20260516T120000Z
SUMMARY:Koenji Cave X Matsuri Digital Presents - Open Air 2026 ~ Sense of Unity ~ -
DESCRIPTION:Line Up: ◉ Line Up ◉ International Act: PRANA DJ Domino ㅤ -Live:
  HENTAI CAMERA MAN💛 JIKOOHA (Matsuri Digital / Panorama Rec… Location:
  Ooba Camp Village, 東京都西多摩郡日の出町大久野3741, 190-0181 Tokyo
URL:https://www.goabase.net/es/party/koenji-cave-x-matsuri-digital-presents-open-air-2026-sense-of-unity/116278
CATEGORIES:Psytrance Event
CLASS:PUBLIC
END:VEVENT

BEGIN:VEVENT
UID:95e457757d6acb766c42534182190747
DTSTART:20260516T130000
DTEND:20260517T070000
LOCATION:Kloten [Switzerland]
GEO:47.400000000;8.500000000
DTSTAMP:20260516T130000Z
SUMMARY:RAUMKLANG MEETS TRIBE OF US
DESCRIPTION:Line Up: LINEUP (A–Z) ► AMBIENT PINO ► ALISON ► ASGARD ► BEAT HERREN ►
  GHOST RIDER ► PHAXE ► STELLINA ► ZYCE RETRO SET@Daydance -… Location:
  Freibad Kloten & Alte Kaserne Zürich, Schluefweg 10, 8302 Kloten
URL:https://www.goabase.net/es/party/raumklang-meets-tribe-of-us/116475
CATEGORIES:Psytrance Event
CLASS:PUBLIC
END:VEVENT

BEGIN:VEVENT
UID:060acf11f44bb439422fa3f2c531962e
DTSTART:20260516T210000
DTEND:20260517T050000
LOCATION:Manchester [United Kingdom]
GEO:53.500000000;-2.200000000
DTSTAMP:20260516T210000Z
SUMMARY:United Beats Label Night • Manchester
DESCRIPTION:Line Up: ༺ 𝓤𝓝𝓘𝓣𝓔𝓓 𝓑𝓔𝓐𝓣𝓢 𝓢𝓣𝓐𝓖𝓔 ༻ MAD MAXX MAD TRIBE SABRETOOTH NIKKI S
  JUGGLING RAMIZES ༺ 𝓒𝓡𝓨𝓢𝓣𝓐𝓛 𝓢𝓣𝓐𝓖𝓔 ༻ FREETECH R4DIUM SYKIK IA… Location:
  Rebellion Club, 2B Whitworth St W, Manchester, M1 5WZ Manchester
URL:https://www.goabase.net/es/party/united-beats-label-night-manchester/116213
CATEGORIES:Psytrance Event
CLASS:PUBLIC
END:VEVENT

BEGIN:VEVENT
UID:fbe1a19fe38459253e1b69d42682cd2d
DTSTART:20260516T220000
DTEND:20260517T080000
LOCATION:Luzern [Switzerland]
GEO:47.100000000;8.300000000
DTSTAMP:20260516T220000Z
SUMMARY:⚓️ TIEFENRAUSCH ~ 2026 ⚓️ w/ Cloud7, Total Balance, Tezla uvm.
DESCRIPTION:Line Up: 🌷🪷 SEEROSENFLOOR 🪷🌷 -Mainfloor- 🫧 CLOUD7 (Woodmore DE) 🫧
  TOTAL BALANCE (Woodmore DE) 🫧 TEZLA (ProgOnSyndicate) RETRO S…
  Location: Sedel Luzern, Sedelhof 2, 6020 Luzern
URL:https://www.goabase.net/es/party/tiefenrausch-2026-w-cloud7-total-balance-tezla-uvm/116139
CATEGORIES:Psytrance Event
CLASS:PUBLIC
END:VEVENT

BEGIN:VEVENT
UID:03474679c51f8c9d12884681ae795493
DTSTART:20260516T220000
DTEND:20260517T090000
LOCATION:Berlin [Germany]
GEO:52.500000000;13.400000000
DTSTAMP:20260516T220000Z
SUMMARY:Into Another World ✦ THE MIST OF TRIXYA
DESCRIPTION:
URL:https://www.goabase.net/es/party/into-another-world-the-mist-of-trixya/116478
CATEGORIES:Psytrance Event
CLASS:PUBLIC
END:VEVENT

BEGIN:VEVENT
UID:25464036783366c01bd7a485a8fb6dd3
DTSTART:20260516T220000
DTEND:20260517T040000
LOCATION:Itzehoe [Germany]
GEO:53.900000000;9.500000000
DTSTAMP:20260516T220000Z
SUMMARY:PsyGOAdelicious Melodies 7
DESCRIPTION:Line Up: Nico23&John Marco M-Ron Deep Trace Location: Lauschbar,
  Kleine Paaschburg 2, 25524 Itzehoe
URL:https://www.goabase.net/es/party/psygoadelicious-melodies-7/116842
CATEGORIES:Psytrance Event
CLASS:PUBLIC
END:VEVENT

BEGIN:VEVENT
UID:72cee8bde5d815fe1d7ed4ebd26ca95e
DTSTART:20260516T220000
DTEND:20260517T060000
LOCATION:Buxtehude [Germany]
GEO:53.500000000;9.700000000
DTSTAMP:20260516T220000Z
SUMMARY:INSANITY
DESCRIPTION:Line Up: INSANITY (The Finest of Psy & Progressivetrance) Der Wahnsinn
  hat ein Name Insanity ... Euch erwartet die Wahnsinnigs… Location:
  Studio 21, Rudolf-Diesel-Straße 12, 21614 Buxtehude
URL:https://www.goabase.net/es/party/insanity/117051
CATEGORIES:Psytrance Event
CLASS:PUBLIC
END:VEVENT

BEGIN:VEVENT
UID:f91e6801d003f2737bd5f8c1bacb3720
DTSTART:20260516T220000
DTEND:20260517T080000
LOCATION:Berlin [Germany]
GEO:52.500000000;13.400000000
DTSTAMP:20260516T220000Z
SUMMARY:MODEM Teaser Berlin powered by xXETEXx & TRYP FUNKHAUS
DESCRIPTION:Line Up: ▷ 𝗧𝗛𝗘 𝗛𝗜𝗩𝗘 ◁ JAHBO live Parvati Records UMBER VAMBER live
  PatGap Music CROM live Enygma Music DJOANNA Waldfrieden |… Location:
  Funkhaus Berlin, Nalepastraße 18, 12459 Berlin
URL:https://www.goabase.net/es/party/modem-teaser-berlin-powered-by-xxetexx-tryp-funkhaus/117265
CATEGORIES:Psytrance Event
CLASS:PUBLIC
END:VEVENT

BEGIN:VEVENT
UID:ef151706f4af538a22ee1330fd527bbf
DTSTART:20260516T220000
DTEND:20260517T060000
LOCATION:Sissach [Switzerland]
GEO:47.500000000;7.800000000
DTSTAMP:20260516T220000Z
SUMMARY:Third Eye
DESCRIPTION:Line Up: DJ Capuns Quirin Kohler Chriff Christoball Damage DJ Anacsa
  Location: Tante Pinte, Bahnhofstr.19, 4450 Sissach
URL:https://www.goabase.net/es/party/third-eye/117425
CATEGORIES:Psytrance Event
CLASS:PUBLIC
END:VEVENT

BEGIN:VEVENT
UID:874bd5e2cb2bb9068c134b88361a3fdf
DTSTART:20260516T223000
DTEND:20260517T050000
LOCATION:pisa [Italy]
GEO:43.700000000;10.400000000
DTSTAMP:20260516T223000Z
SUMMARY:LINKS
DESCRIPTION:Line Up: MAIN ROOM ∆ ASHVIN [Offlabel Crew] Ashvin is a project born
  in autumn 2014 in the Tuscan countryside (Italy). The duo—… Location:
  Caracol Club, via Carlo Cattaneo 64, Pisa, Italy, pisa
URL:https://www.goabase.net/es/party/links/117451
CATEGORIES:Psytrance Event
CLASS:PUBLIC
END:VEVENT

BEGIN:VEVENT
UID:b578cb51e520623e77be2683f5b66043
DTSTART:20260516T230000
DTEND:20260517T070000
LOCATION:Winterthur [Switzerland]
GEO:47.500000000;8.700000000
DTSTAMP:20260516T230000Z
SUMMARY:COSMIC ROOT: LEVEL 40 / Futurum Sonat LIVE
DESCRIPTION:Line Up: •.¸(•.¸Live¸.•´)¸.• ♫ Futurum Sonat ♫ AT ADN Music Psytrance
  •.¸(•.¸Dj¸.•´)¸.• ♫ Blackjack ♫ CH Night Active Prod. /… Location:
  Stadtchäller Winterthur, St.Gallerstrasse 184, 8404 Winterthur
URL:https://www.goabase.net/es/party/cosmic-root-level-40-futurum-sonat-live/117204
CATEGORIES:Psytrance Event
CLASS:PUBLIC
END:VEVENT

END:VCALENDAR