BEGIN:VCALENDAR
VERSION:2.0
PRODID:goabase.net iCalendar 2026
X-WR-CALNAME:goabase.net - parties and people 
X-WR-TIMEZONE;VALUE=TEXT:Europe/Berlin
CALSCALE:GREGORIAN
BEGIN:VTIMEZONE
TZID:Europe/Berlin
X-LIC-LOCATION:Europe/Berlin
BEGIN:DAYLIGHT
TZOFFSETFROM:+0100
TZOFFSETTO:+0200
TZNAME:CEST
DTSTART:19700329T020000
RRULE:FREQ=YEARLY;INTERVAL=1;BYDAY=-1SU;BYMONTH=3
END:DAYLIGHT
BEGIN:STANDARD
TZOFFSETFROM:+0200
TZOFFSETTO:+0100
TZNAME:CET
DTSTART:19701025T030000
RRULE:FREQ=YEARLY;INTERVAL=1;BYDAY=-1SU;BYMONTH=10
END:STANDARD
END:VTIMEZONE

BEGIN:VEVENT
UID:ad73b8ab9ab45c4542d21ebf15134d8d
DTSTART:20260425T140000
DTEND:20260426T030000
LOCATION:Dublin [Ireland]
GEO:53.300000000;-6.300000000
DTSTAMP:20260425T140000Z
SUMMARY:Tropical Groove: Spring Awakening
DESCRIPTION:Line Up: 🌼 THE EATYARD (14:00 – 23:00) 14:00 – Ivan Pocintela (Tech
  House) 15:30 – Candelas (Prog Tech) 17:00 – 2Wins (Minimal) 1…
  Location: The Bernard Shaw, Cross Guns Bridge, Drumcondra, Dublin 9,
  D09 XW44 Dublin
URL:https://www.goabase.net/es/party/tropical-groove-spring-awakening/117257
CATEGORIES:Psytrance Event
CLASS:PUBLIC
END:VEVENT

BEGIN:VEVENT
UID:9771f242020a6aed6c2097dd8d448bc9
DTSTART:20260425T200000
DTEND:20260426T080000
LOCATION:Flums [Switzerland]
GEO:47.000000000;9.400000000
DTSTAMP:20260425T200000Z
SUMMARY:🚀 ASTPRO Label Night – 2 Years Celebration 🚀🔥
DESCRIPTION:Line Up: Line Up: ANACSA AIONATIK AQOQ BASS PRAISE PSYCHOPUSSY
  PSYLOCYBEAT Location: UG RockiFocki, Bahnhofstrasse 2, 8890 Flums
URL:https://www.goabase.net/es/party/astpro-label-night-2-years-celebration/117210
CATEGORIES:Psytrance Event
CLASS:PUBLIC
END:VEVENT

BEGIN:VEVENT
UID:e4973b5647239f8fdce135a6a869987c
DTSTART:20260425T210000
DTEND:20260426T050000
LOCATION:New York City [United States]
GEO:40.600000000;-73.900000000
DTSTAMP:20260425T210000Z
SUMMARY:Dragonfly Festival Teaser Party Series #07 NEW YORK
DESCRIPTION:Line Up: As part of the Dragonfly Festival teaser series, we gather in
  NYC for a night dedicated to psychedelic soundscapes. Psyt… Location:
  B66 CLUB, New Utrecht Ave, 11219 New York City
URL:https://www.goabase.net/es/party/dragonfly-festival-teaser-party-series-07-new-york/117017
CATEGORIES:Psytrance Event
CLASS:PUBLIC
END:VEVENT

BEGIN:VEVENT
UID:99dc85c924b7238a727763709ef8a91f
DTSTART:20260425T210000
DTEND:20260426T090000
LOCATION:Kreuztal [Germany]
GEO:51.000000000;8.000000000
DTSTAMP:20260425T210000Z
SUMMARY:🫟Casa_de_la_FeTa PsyxTechno 🫟
DESCRIPTION:Line Up: TheOniThosH Roman Kay Tak Tikker M.D.Amazing Lawbreaker
  Psydoc Snow Aenonymm Location: Las Vegas, Marburgerstr.137, 57223
  Kreuztal
URL:https://www.goabase.net/es/party/casadelafeta-psyxtechno/117377
CATEGORIES:Psytrance Event
CLASS:PUBLIC
END:VEVENT

BEGIN:VEVENT
UID:826b68c7be8f0057dda9e7425316875d
DTSTART:20260425T220000
DTEND:20260426T050000
LOCATION:Radolfzell am Bodensee [Germany]
GEO:47.700000000;9.000000000
DTSTAMP:20260425T220000Z
SUMMARY:NYXTRIPS FREQUENCIES LIVE
DESCRIPTION:Line Up: Vier DJs des FLINTA* Psytrance Netzwerks NYXTRIPS - Namen und
  Timetable vor Ort 🤫 Psytrance, Full On, Night Psy 👽 Location: s'Bokle,
  Robert-Gerwig-Straße 12, 78315 Radolfzell am Bodensee
URL:https://www.goabase.net/es/party/nyxtrips-frequencies-live/116748
CATEGORIES:Psytrance Event
CLASS:PUBLIC
END:VEVENT

BEGIN:VEVENT
UID:443d7cc62634f01ca41db0f965f21459
DTSTART:20260425T220000
DTEND:20260426T060000
LOCATION:Aarau [Switzerland]
GEO:47.400000000;8.000000000
DTSTAMP:20260425T220000Z
SUMMARY:25 Years Dacru Records
DESCRIPTION:Line Up: 8 Artists welche auf Instagram bekanntgeben werden...
  Location: Schlaflos, Tellistrasse 118, 5000 Aarau
URL:https://www.goabase.net/es/party/25-years-dacru-records/116858
CATEGORIES:Psytrance Event
CLASS:PUBLIC
END:VEVENT

BEGIN:VEVENT
UID:49ebfbc70fa2c63b4863ae3433d7a362
DTSTART:20260425T220000
DTEND:20260426T050000
LOCATION:Rudolstadt [Germany]
GEO:50.700000000;11.300000000
DTSTAMP:20260425T220000Z
SUMMARY:SAALEWUSELN - GOA GATHERING
DESCRIPTION:Location: saalgärten Rudolstadt, Saalgärten 1b, 07407 Rudolstadt
URL:https://www.goabase.net/es/party/saalewuseln-goa-gathering/117306
CATEGORIES:Psytrance Event
CLASS:PUBLIC
END:VEVENT

BEGIN:VEVENT
UID:7c961f240b6728fa7d57bbcecb2bb298
DTSTART:20260425T220000
DTEND:20260426T040000
LOCATION:Solkan [Slovenia]
GEO:45.971390000;13.649440000
DTSTAMP:20260425T220000Z
SUMMARY:Retranscension
DESCRIPTION:Line Up: Mrew Notasphere (slo) Cuich Fractalism (slo) Maggiox TTM
  Group (it) CuPRUM (FRACTALISM) Aka Bakr, a pioneer and veteran…
  Location: Mostovna - Masovna - Zavod neinstitucionalne kulture, Cesta
  IX. korpusa 99A 5250 Solkan, 5250 Solkan
URL:https://www.goabase.net/es/party/retranscension/117448
CATEGORIES:Psytrance Event
CLASS:PUBLIC
END:VEVENT

BEGIN:VEVENT
UID:8f8fa767f81378556144f8e3028f5772
DTSTART:20260425T230000
DTEND:20260426T080000
LOCATION:Winterthur [Switzerland]
GEO:47.500000000;8.700000000
DTSTAMP:20260425T230000Z
SUMMARY:Tanz der Teufel Vol. 10 // Fabio Fusco Live
DESCRIPTION:Line Up: •.¸(•.¸Live¸.•´)¸.• ♫ Fabio Fusco ♫ DE Spintwist Records
  Progressive ♫ Seismic Live with Modular ♫ CH Aajaadee Rec. Ni…
  Location: Stadtchäller Winterthur, St.Gallerstrasse 184, 8404
  Winterthur
URL:https://www.goabase.net/es/party/tanz-der-teufel-vol-10-fabio-fusco-live/116861
CATEGORIES:Psytrance Event
CLASS:PUBLIC
END:VEVENT

BEGIN:VEVENT
UID:b4e6e92df8a52a20e5881a12af2b3676
DTSTART:20260425T230000
DTEND:20260426T120000
LOCATION:Hattingen [Germany]
GEO:51.400000000;7.200000000
DTSTAMP:20260425T230000Z
SUMMARY:COSMIC TEMPLE Sundance’s Birthday featuring OCTOGOAT LIVE
DESCRIPTION:Line Up: OCTOGOAT (LIVE) SUNDANCE NEBOIŠA AUDIONAUT SURIDAY M15CHK1ND
  DECO CONCEPT: TAUSENDSASA SPEC
URL:https://www.goabase.net/es/party/cosmic-temple-sundances-birthday-featuring-octogoat-live/116866
CATEGORIES:Psytrance Event
CLASS:PUBLIC
END:VEVENT

BEGIN:VEVENT
UID:0834f5dcb37393c908e1d67e89f7edf1
DTSTART:20260425T230000
DTEND:20260426T060000
LOCATION:nijmegen [Netherlands]
GEO:51.800000000;5.900000000
DTSTAMP:20260425T230000Z
SUMMARY:Psychedelic Rave ps Machine Elves
DESCRIPTION:Line Up: 🔊 Mainfloor Line-up: We are truly honored that we may host
  Psibindi, the Founder of the UK based Psy-Sisters Collective… Location:
  Waalhalla indoor skatepark, winselingseweg nijmegen, 6541 AK nijmegen
URL:https://www.goabase.net/es/party/psychedelic-rave-ps-machine-elves/116956
CATEGORIES:Psytrance Event
CLASS:PUBLIC
END:VEVENT

BEGIN:VEVENT
UID:67f6dfd07e25eb8f802cf06538b39bea
DTSTART:20260425T230000
DTEND:20260426T070000
LOCATION:Tokyo [Japan]
GEO:35.700000000;139.800000000
DTSTAMP:20260425T230000Z
SUMMARY:Koenji Cave & HANABI presents ∴ TEMPEST ∴ Vol. 20
DESCRIPTION:Line Up: ◇ Line up ◇ ◇ Main Floor ◇ -Live: JIMI GREEN (Looney Moon
  Records) VAION (Sonitum Records) ㅤ -DJs: CHACK (OUROBOROS MU… Location:
  DJ's Bar Cave, 4-23-5 Koenjiminami, Suginami-ku, Tokyo, 1660003 Tokyo
URL:https://www.goabase.net/es/party/koenji-cave-hanabi-presents-tempest-vol-20/117235
CATEGORIES:Psytrance Event
CLASS:PUBLIC
END:VEVENT

BEGIN:VEVENT
UID:16ac43abe669b735a469683f78274a58
DTSTART:20260425T230000
DTEND:20260426T080000
LOCATION:Acharnes [Greece]
GEO:38.083330000;23.733330000
DTSTAMP:20260425T230000Z
SUMMARY:Beatrip Present's:10 Years Anniversary
DESCRIPTION:Line Up: • HECATE - Live Act (1st time in Athens) ▶ Digital Shaman Rec
  • NOIMA RAVEWAY - Live ▶ Mythic Rites /Beatrip • Y.LO - Dj… Location:
  BEATRIP STAGE, PARNITHOS, 13674 ACHARNES
URL:https://www.goabase.net/es/party/beatrip-presents10-years-anniversary/117402
CATEGORIES:Psytrance Event
CLASS:PUBLIC
END:VEVENT

BEGIN:VEVENT
UID:cfe89bbbfad705587883a8425fb12aec
DTSTART:20260425T230000
DTEND:20260426T080000
LOCATION:Berlin [Germany]
GEO:52.500000000;13.400000000
DTSTAMP:20260425T230000Z
SUMMARY:Nebula x Inception x Sonitus w/ Tophoo & TrippyS
DESCRIPTION:Line Up: Goa Floor + Tophoo + TrippyS + Momentune + Ionic + LexVoid +
  Astraluna DnB Floor hosted by Sonitus + Dark Zenith + The B… Location:
  M-Bia Club, Dircksenstraße 123, 10178 Berlin
URL:https://www.goabase.net/es/party/nebula-x-inception-x-sonitus-w-tophoo-trippys/117408
CATEGORIES:Psytrance Event
CLASS:PUBLIC
END:VEVENT

BEGIN:VEVENT
UID:895412a9195217211a2099d38dbbca94
DTSTART:20260425T230000
DTEND:20260426T120000
LOCATION:Dresden [Germany]
GEO:51.100000000;13.700000000
DTSTAMP:20260425T230000Z
SUMMARY:Roots of Chaos
DESCRIPTION:Line Up: # Eloy / Cosmic Noize / Forest Ritual Music / Shackedelic
  Sounds  // Experimental Darkpsy / Hitech / Psycore # voxel.bl…
  Location: Sektor Evolution, Eisenbahnstraße 2, 01099 Dresden
URL:https://www.goabase.net/es/party/roots-of-chaos/117446
CATEGORIES:Psytrance Event
CLASS:PUBLIC
END:VEVENT

BEGIN:VEVENT
UID:b4b4e246c47dcefd479c1dc261b79b06
DTSTART:20260425T233000
DTEND:20260426T080000
LOCATION:Madrid [Spain]
GEO:40.400000000;-3.700000000
DTSTAMP:20260425T233000Z
SUMMARY:PSYKEDELYK | KREAM - psytrance WATER edition
DESCRIPTION:Line Up: LEOPARDTRON Live! JACK IN THE BOX ALVIKER LUMINATIE Location:
  OCTOGON 360, CALLE CERAMICA, 16, 28038 Madrid
URL:https://www.goabase.net/es/party/psykedelyk-kream-psytrance-water-edition/117422
CATEGORIES:Psytrance Event
CLASS:PUBLIC
END:VEVENT

BEGIN:VEVENT
UID:7b29b92bc07eb0bfbe72f680479723ff
DTSTART:20260426T200000
DTEND:20260426T230000
LOCATION:Hamburg [Germany]
GEO:53.600000000;10.000000000
DTSTAMP:20260426T200000Z
SUMMARY:alpha.s crazy sounds: forest - darkpsy - psycore - hitech
DESCRIPTION:Line Up: GIVE THE PEOPLE, WHAT THEY NEED - GOOD MUSIC ! ***** program
  📡 alpha.… Location: alpha.s flat studios, , 22419 Hamburg
URL:https://www.goabase.net/es/party/alphas-crazy-sounds-forest-darkpsy-psycore-hitech/117325
CATEGORIES:Psytrance Event
CLASS:PUBLIC
END:VEVENT

BEGIN:VEVENT
UID:0eab742cf5f4be6a6d3b3d59bea46042
DTSTART:20260426T210000
DTEND:20260427T210000
LOCATION:Hilversum [Netherlands]
GEO:52.200000000;5.200000000
DTSTAMP:20260426T210000Z
SUMMARY:Kingsnight & Kingsday 2026
DESCRIPTION:Line Up: See flyer :) prog/psychedelic/goa
  dark/hitech/psycore/slambient Location: the Gate, Noodweg 51, 1213PW
  Hilversum
URL:https://www.goabase.net/es/party/kingsnight-kingsday-2026/117348
CATEGORIES:Psytrance Event
CLASS:PUBLIC
END:VEVENT

BEGIN:VEVENT
UID:d4091f3282dd9ff60d7f70d9a9808c08
DTSTART:20260427T120000
DTEND:20260428T013000
LOCATION:Amsterdam [Netherlands]
GEO:52.400000000;4.900000000
DTSTAMP:20260427T120000Z
SUMMARY:Dream Weaver Collective: Psychedelic Kingsday
DESCRIPTION:Line Up: Line up Head liners: Alienatic Back to Mars b2b Dogo
  Mercuroid Valnazra Cin-D B2B Psydie Jimmagination Engai Twinverse R…
  Location: NDSM Theater Cafe, Scheepsbouwkade 4-6, 1033 WM Amsterdam
URL:https://www.goabase.net/es/party/dream-weaver-collective-psychedelic-kingsday/117075
CATEGORIES:Psytrance Event
CLASS:PUBLIC
END:VEVENT

BEGIN:VEVENT
UID:f95e3dda24dddaa06e81d6dadcb6426f
DTSTART:20260428T210000
DTEND:20260429T030000
LOCATION:Fukuoka-shi [Japan]
GEO:33.606390000;130.418060000
DTSTAMP:20260428T210000Z
SUMMARY:GOAROOM
DESCRIPTION:Line Up: 4/28 GOAROOM @The Darkroom Entrance¥1,000 +1DrinkOrder
  Open21:00 Close03:00 Live Paint. Butterice DJs. Gabu.chi Happykun…
  Location: 天神バッカス館 802, 福岡県福岡市中央区天神3-4-15, 810-0001 Fukuoka-shi
URL:https://www.goabase.net/es/party/goaroom/117443
CATEGORIES:Psytrance Event
CLASS:PUBLIC
END:VEVENT

END:VCALENDAR