BEGIN:VCALENDAR
VERSION:2.0
PRODID:goabase.net iCalendar 2026
X-WR-CALNAME:goabase.net - parties and people 
X-WR-TIMEZONE;VALUE=TEXT:Europe/Berlin
CALSCALE:GREGORIAN
BEGIN:VTIMEZONE
TZID:Europe/Berlin
X-LIC-LOCATION:Europe/Berlin
BEGIN:DAYLIGHT
TZOFFSETFROM:+0100
TZOFFSETTO:+0200
TZNAME:CEST
DTSTART:19700329T020000
RRULE:FREQ=YEARLY;INTERVAL=1;BYDAY=-1SU;BYMONTH=3
END:DAYLIGHT
BEGIN:STANDARD
TZOFFSETFROM:+0200
TZOFFSETTO:+0100
TZNAME:CET
DTSTART:19701025T030000
RRULE:FREQ=YEARLY;INTERVAL=1;BYDAY=-1SU;BYMONTH=10
END:STANDARD
END:VTIMEZONE

BEGIN:VEVENT
UID:8b73b43096ac1fa8d1aeea344b791c92
DTSTART:20090620T220000
DTEND:20090621T203000
LOCATION:Málaga [Spain]
GEO:0.000000000;0.000000000
DTSTAMP:20090620T220000Z
SUMMARY:MUTANT RAVE
DESCRIPTION:
URL:https://www.goabase.net/es/party/mutant-rave/46498
CATEGORIES:Psytrance Event
CLASS:PUBLIC
END:VEVENT

BEGIN:VEVENT
UID:ecd151cf5e88cce5a60d8b6672116b61
DTSTART:20090307T233000
DTEND:20090308T190000
LOCATION:Malaga [Spain]
GEO:36.753000000;-4.433000000
DTSTAMP:20090307T233000Z
SUMMARY:SPARTAN RAVE
DESCRIPTION:
URL:https://www.goabase.net/es/party/spartan-rave/44635
CATEGORIES:Psytrance Event
CLASS:PUBLIC
END:VEVENT

END:VCALENDAR