BEGIN:VCALENDAR
VERSION:2.0
PRODID:goabase.net iCalendar 2026
X-WR-CALNAME:goabase.net - parties and people 
X-WR-TIMEZONE;VALUE=TEXT:Europe/Berlin
CALSCALE:GREGORIAN
BEGIN:VTIMEZONE
TZID:Europe/Berlin
X-LIC-LOCATION:Europe/Berlin
BEGIN:DAYLIGHT
TZOFFSETFROM:+0100
TZOFFSETTO:+0200
TZNAME:CEST
DTSTART:19700329T020000
RRULE:FREQ=YEARLY;INTERVAL=1;BYDAY=-1SU;BYMONTH=3
END:DAYLIGHT
BEGIN:STANDARD
TZOFFSETFROM:+0200
TZOFFSETTO:+0100
TZNAME:CET
DTSTART:19701025T030000
RRULE:FREQ=YEARLY;INTERVAL=1;BYDAY=-1SU;BYMONTH=10
END:STANDARD
END:VTIMEZONE

BEGIN:VEVENT
UID:25e16df2d9a5e8b25bf3e26b79feb72d
DTSTART:20141115T190000
DTEND:20141116T163000
LOCATION:near Manresa Spain [Spain]
GEO:41.387020000;2.170044000
DTSTAMP:20141115T190000Z
SUMMARY:ATMAN CONNECTION with Orpheus & Friends
DESCRIPTION:Line Up: ... . . Namaste u crazy beautiful freaks!!.... BLAST OFF
  TIME!!! WOOOOOHOO!! Full power darkpsy audio alchem…
URL:https://www.goabase.net/es/party/atman-connection-with-orpheus-friends/81002
CATEGORIES:Psytrance Event
CLASS:PUBLIC
END:VEVENT

END:VCALENDAR