BEGIN:VCALENDAR
VERSION:2.0
PRODID:goabase.net iCalendar 2026
X-WR-CALNAME:goabase.net - parties and people 
X-WR-TIMEZONE;VALUE=TEXT:Europe/Berlin
CALSCALE:GREGORIAN
BEGIN:VTIMEZONE
TZID:Europe/Berlin
X-LIC-LOCATION:Europe/Berlin
BEGIN:DAYLIGHT
TZOFFSETFROM:+0100
TZOFFSETTO:+0200
TZNAME:CEST
DTSTART:19700329T020000
RRULE:FREQ=YEARLY;INTERVAL=1;BYDAY=-1SU;BYMONTH=3
END:DAYLIGHT
BEGIN:STANDARD
TZOFFSETFROM:+0200
TZOFFSETTO:+0100
TZNAME:CET
DTSTART:19701025T030000
RRULE:FREQ=YEARLY;INTERVAL=1;BYDAY=-1SU;BYMONTH=10
END:STANDARD
END:VTIMEZONE

BEGIN:VEVENT
UID:d2bc8dacf0b37e9f925e50890d654d2a
DTSTART:20150328T230000
DTEND:20150329T060000
LOCATION:Barcelona [Spain]
GEO:41.387020000;2.170044000
DTSTAMP:20150328T230000Z
SUMMARY:Coming Soon
DESCRIPTION:Line Up: T.B.A.
URL:https://www.goabase.net/es/party/coming-soon/83537
CATEGORIES:Psytrance Event
CLASS:PUBLIC
END:VEVENT

BEGIN:VEVENT
UID:8a3cce5f0c64ca71336e22efd4443eaa
DTSTART:20150129T210000
DTEND:20150130T033000
LOCATION:Barcelona [Spain]
GEO:41.387020000;2.170044000
DTSTAMP:20150129T210000Z
SUMMARY:LET'S GOA CONNECT ##FREE PARTY##
DESCRIPTION:Line Up: ---- OZCKR - (Dimension X)  REBORN - (Popul Vuh Records)…
URL:https://www.goabase.net/es/party/lets-goa-connect-free-party/83410
CATEGORIES:Psytrance Event
CLASS:PUBLIC
END:VEVENT

BEGIN:VEVENT
UID:b4abb06f72b6d1b7ea09c3f8f34f4c10
DTSTART:20130629T233000
DTEND:20130630T060000
LOCATION:barcelona [Spain]
GEO:0.000000000;0.000000000
DTSTAMP:20130629T233000Z
SUMMARY:Psy-Summer ReBorn's B-Day Bash
DESCRIPTION:Line Up: ---- .-.ELEUSIS LIVE/SET.-. (OhmGaneshPro/Alice-D/HippyFlip)…
URL:https://www.goabase.net/es/party/psy-summer-reborns-b-day-bash/73960
CATEGORIES:Psytrance Event
CLASS:PUBLIC
END:VEVENT

BEGIN:VEVENT
UID:93934f9bb219e182c07c4ee4c5ed780a
DTSTART:20130405T230000
DTEND:20130406T033000
LOCATION:barcelona [Spain]
GEO:0.000000000;0.000000000
DTSTAMP:20130405T230000Z
SUMMARY:Psy-Sun-Spring (BCN CITY)
DESCRIPTION:Line Up: -.- PSY-PARTY -.- -.- SALA DEEPER BAR -.- -.- VIERNES 5 DE
  ABRIL DEL 2013 -.- -.- SALA INSONORIZADA -.-
URL:https://www.goabase.net/es/party/psy-sun-spring-bcn-city/72642
CATEGORIES:Psytrance Event
CLASS:PUBLIC
END:VEVENT

BEGIN:VEVENT
UID:e5601e6ce2d584e2ee4c6e90e6b34c5a
DTSTART:20120811T233000
DTEND:20120812T033000
LOCATION:Barcelona [Spain]
GEO:0.000000000;0.000000000
DTSTAMP:20120811T233000Z
SUMMARY:Psy Summer @ Ende Club
DESCRIPTION:
URL:https://www.goabase.net/es/party/psy-summer-ende-club/68027
CATEGORIES:Psytrance Event
CLASS:PUBLIC
END:VEVENT

BEGIN:VEVENT
UID:d4c3e5d516e54f424c2b18809b171b07
DTSTART:20101022T233000
DTEND:20101023T233000
LOCATION:Near Benicassim:::Search th… [Spain]
GEO:0.000000000;0.000000000
DTSTAMP:20101022T233000Z
SUMMARY:FIESTA fuera DE CASA
DESCRIPTION:Line Up: FIESTA FUERA DE CASA.....!!! Estimados amigos una vez mas nos
  vemos reunidos.. para celebrar la entrada de este invie…
URL:https://www.goabase.net/es/party/fiesta-fuera-de-casa/56165
CATEGORIES:Psytrance Event
CLASS:PUBLIC
END:VEVENT

END:VCALENDAR