BEGIN:VCALENDAR
VERSION:2.0
PRODID:goabase.net iCalendar 2026
X-WR-CALNAME:goabase.net - parties and people 
X-WR-TIMEZONE;VALUE=TEXT:Europe/Berlin
CALSCALE:GREGORIAN
BEGIN:VTIMEZONE
TZID:Europe/Berlin
X-LIC-LOCATION:Europe/Berlin
BEGIN:DAYLIGHT
TZOFFSETFROM:+0100
TZOFFSETTO:+0200
TZNAME:CEST
DTSTART:19700329T020000
RRULE:FREQ=YEARLY;INTERVAL=1;BYDAY=-1SU;BYMONTH=3
END:DAYLIGHT
BEGIN:STANDARD
TZOFFSETFROM:+0200
TZOFFSETTO:+0100
TZNAME:CET
DTSTART:19701025T030000
RRULE:FREQ=YEARLY;INTERVAL=1;BYDAY=-1SU;BYMONTH=10
END:STANDARD
END:VTIMEZONE

BEGIN:VEVENT
UID:52d159aa986922ef781f4f273cc8be8a
DTSTART:20251129T220000
DTEND:20251130T060000
LOCATION:Máncora [Peru]
GEO:-4.100000000;-81.000000000
DTSTAMP:20251129T220000Z
SUMMARY:PSY PARTY
DESCRIPTION:Line Up: Kike Alzamora (MOONLIGTH MUSIC), Lima Goagnoming (Germany)
  Angelo Costa (MICROBEATS), Lima Location: casa astral, , Máncora
URL:https://www.goabase.net/es/party/psy-party/116328
CATEGORIES:Psytrance Event
CLASS:PUBLIC
END:VEVENT

BEGIN:VEVENT
UID:c81a28daf848e546b1d3c7e8cdfb5abd
DTSTART:20230105T220000
DTEND:20230106T050000
LOCATION:Mancora [Peru]
GEO:-4.106340000;-81.047390000
DTSTAMP:20230105T220000Z
SUMMARY:ASTRAL CONNECTION
DESCRIPTION:Line Up: ANGELO COSTA R23P CYTRIP
URL:https://www.goabase.net/es/party/astral-connection/109726
CATEGORIES:Psytrance Event
CLASS:PUBLIC
END:VEVENT

BEGIN:VEVENT
UID:7b46f65cd48d95b4780d0b30e766e534
DTSTART:20200207T220000
DTEND:20200208T020000
LOCATION:Mancora [Peru]
GEO:-4.100000000;-81.000000000
DTSTAMP:20200207T220000Z
SUMMARY:Psygon Sessions
DESCRIPTION:Line Up: Kike Alzamora (Moonlight Music) - Psytrance / Forest Angelo
  Costa (MicroBeats Promote) - Psy Techno
URL:https://www.goabase.net/es/party/psygon-sessions/106260
CATEGORIES:Psytrance Event
CLASS:PUBLIC
END:VEVENT

BEGIN:VEVENT
UID:dd4e23b40152e4bf755855d15c0ac8fe
DTSTART:20190125T220000
DTEND:20190126T020000
LOCATION:Mancora [Peru]
GEO:-4.103053100;-81.048134100
DTSTAMP:20190125T220000Z
SUMMARY:PSY-GONE PARTY 001
DESCRIPTION:Line Up: Kike Alzamora (Moonlight Music) - Psytrance Angelo Costa
  (MicroBeats Promote) - Techno / Psy Tech
URL:https://www.goabase.net/es/party/psy-gone-party-001/102463
CATEGORIES:Psytrance Event
CLASS:PUBLIC
END:VEVENT

BEGIN:VEVENT
UID:e2a8b678d80225dccaf87b2124bdb417
DTSTART:20180831T220000
DTEND:20180901T020000
LOCATION:Mancora [Peru]
GEO:-4.103053100;-81.048134100
DTSTAMP:20180831T220000Z
SUMMARY:Psychedelic Party - open air
DESCRIPTION:Line Up: Cytrip (Arg) Angelo Costa (Per)
URL:https://www.goabase.net/es/party/psychedelic-party-open-air/101025
CATEGORIES:Psytrance Event
CLASS:PUBLIC
END:VEVENT

END:VCALENDAR