BEGIN:VCALENDAR
VERSION:2.0
PRODID:goabase.net iCalendar 2026
X-WR-CALNAME:goabase.net - parties and people 
X-WR-TIMEZONE;VALUE=TEXT:Europe/Berlin
CALSCALE:GREGORIAN
BEGIN:VTIMEZONE
TZID:Europe/Berlin
X-LIC-LOCATION:Europe/Berlin
BEGIN:DAYLIGHT
TZOFFSETFROM:+0100
TZOFFSETTO:+0200
TZNAME:CEST
DTSTART:19700329T020000
RRULE:FREQ=YEARLY;INTERVAL=1;BYDAY=-1SU;BYMONTH=3
END:DAYLIGHT
BEGIN:STANDARD
TZOFFSETFROM:+0200
TZOFFSETTO:+0100
TZNAME:CET
DTSTART:19701025T030000
RRULE:FREQ=YEARLY;INTERVAL=1;BYDAY=-1SU;BYMONTH=10
END:STANDARD
END:VTIMEZONE

BEGIN:VEVENT
UID:4828a859f294382ad0d1defdab536890
DTSTART:20180421T230000
DTEND:20180422T190000
LOCATION:Barreiro [Portugal]
GEO:38.634972300;-9.053792200
DTSTAMP:20180421T230000Z
SUMMARY:❁ Alma Nova - Open Air Party ❁ Animal Vision Birth ❁
DESCRIPTION:Line Up: Muitos não sabem, mas o Barreiro teve uma enorme influência
  para o Trance Psicadélico, e é mesmo lá onde nos vamos encon…
URL:https://www.goabase.net/es/party/alma-nova-open-air-party-animal-vision-birth/99486
CATEGORIES:Psytrance Event
CLASS:PUBLIC
END:VEVENT

END:VCALENDAR