BEGIN:VCALENDAR
VERSION:2.0
PRODID:goabase.net iCalendar 2026
X-WR-CALNAME:goabase.net - parties and people 
X-WR-TIMEZONE;VALUE=TEXT:Europe/Berlin
CALSCALE:GREGORIAN
BEGIN:VTIMEZONE
TZID:Europe/Berlin
X-LIC-LOCATION:Europe/Berlin
BEGIN:DAYLIGHT
TZOFFSETFROM:+0100
TZOFFSETTO:+0200
TZNAME:CEST
DTSTART:19700329T020000
RRULE:FREQ=YEARLY;INTERVAL=1;BYDAY=-1SU;BYMONTH=3
END:DAYLIGHT
BEGIN:STANDARD
TZOFFSETFROM:+0200
TZOFFSETTO:+0100
TZNAME:CET
DTSTART:19701025T030000
RRULE:FREQ=YEARLY;INTERVAL=1;BYDAY=-1SU;BYMONTH=10
END:STANDARD
END:VTIMEZONE

BEGIN:VEVENT
UID:ab0eb91d645842baa9bb94216a5d5862
DTSTART:20110507T223000
DTEND:20110508T120000
LOCATION:lisbon [Portugal]
GEO:0.000000000;0.000000000
DTSTAMP:20110507T223000Z
SUMMARY:ART PLANET....Yellow Space Bus
DESCRIPTION:Line Up: T3KA (live act band) Trance Instrumental... Abertura da festa
  (independent) PT HAXIRAI (one foot groove) PT Live Perform…
URL:https://www.goabase.net/es/party/art-planetyellow-space-bus/58431
CATEGORIES:Psytrance Event
CLASS:PUBLIC
END:VEVENT

BEGIN:VEVENT
UID:d0c718a27e0b00c74f8a385ad2425efd
DTSTART:20101008T230000
DTEND:20101009T100000
LOCATION:Lisbon [Portugal]
GEO:0.000000000;0.000000000
DTSTAMP:20101008T230000Z
SUMMARY:ART PLANET
DESCRIPTION:Line Up: XENZODIAK (Medusa records / D-Djance) Pt SPECIAL GUEST - (usa)
URL:https://www.goabase.net/es/party/art-planet/53938
CATEGORIES:Psytrance Event
CLASS:PUBLIC
END:VEVENT

END:VCALENDAR