BEGIN:VCALENDAR
VERSION:2.0
PRODID:goabase.net iCalendar 2026
X-WR-CALNAME:goabase.net - parties and people 
X-WR-TIMEZONE;VALUE=TEXT:Europe/Berlin
CALSCALE:GREGORIAN
BEGIN:VTIMEZONE
TZID:Europe/Berlin
X-LIC-LOCATION:Europe/Berlin
BEGIN:DAYLIGHT
TZOFFSETFROM:+0100
TZOFFSETTO:+0200
TZNAME:CEST
DTSTART:19700329T020000
RRULE:FREQ=YEARLY;INTERVAL=1;BYDAY=-1SU;BYMONTH=3
END:DAYLIGHT
BEGIN:STANDARD
TZOFFSETFROM:+0200
TZOFFSETTO:+0100
TZNAME:CET
DTSTART:19701025T030000
RRULE:FREQ=YEARLY;INTERVAL=1;BYDAY=-1SU;BYMONTH=10
END:STANDARD
END:VTIMEZONE

BEGIN:VEVENT
UID:fad2a43110a5177f7c97b3aa11ef6e9d
DTSTART:20190807T220000
DTEND:20190808T083000
LOCATION:koh Rong [Cambodia]
GEO:10.715755700;103.247302000
DTSTAMP:20190807T220000Z
SUMMARY:Black Hole Psychedelyc Gathering
DESCRIPTION:
URL:https://www.goabase.net/es/party/black-hole-psychedelyc-gathering/104236
CATEGORIES:Psytrance Event
CLASS:PUBLIC
END:VEVENT

BEGIN:VEVENT
UID:aaa2f3b8523b2e8093f4c819fa11280d
DTSTART:20190703T220000
DTEND:20190704T090000
LOCATION:Koh Rong [Cambodia]
GEO:10.715755700;103.247302000
DTSTAMP:20190703T220000Z
SUMMARY:Black Hole Psychedelyc Gathering
DESCRIPTION:Line Up: RN3- Maji- Sha-lee- Special Guest
URL:https://www.goabase.net/es/party/black-hole-psychedelyc-gathering/104075
CATEGORIES:Psytrance Event
CLASS:PUBLIC
END:VEVENT

BEGIN:VEVENT
UID:7921cd1afab91b829a13bd9435881d81
DTSTART:20190605T220000
DTEND:20190606T093000
LOCATION:Koh Rong cambodia [Cambodia]
GEO:0.000000000;0.000000000
DTSTAMP:20190605T220000Z
SUMMARY:Black Hole Psychedelic Gathering
DESCRIPTION:Line Up: RN3- Maji- Sha-lee- Special Guest
URL:https://www.goabase.net/es/party/black-hole-psychedelic-gathering/103884
CATEGORIES:Psytrance Event
CLASS:PUBLIC
END:VEVENT

BEGIN:VEVENT
UID:8332ad8449ed69260f32a67c110dd29b
DTSTART:20190403T220000
DTEND:20190404T100000
LOCATION:Koh Rong [Cambodia]
GEO:10.715755700;103.247302000
DTSTAMP:20190403T220000Z
SUMMARY:Black Hole Psychedelic Gathering
DESCRIPTION:Line Up: 22:00 Batu&Psymon B2B 00:30 Garen Ters 02:30 HydraMorph 04:30
  Psycoacoustique 06:00 Sha-Lee 07:30 surprise :)
URL:https://www.goabase.net/es/party/black-hole-psychedelic-gathering/103428
CATEGORIES:Psytrance Event
CLASS:PUBLIC
END:VEVENT

END:VCALENDAR