BEGIN:VCALENDAR
VERSION:2.0
PRODID:goabase.net iCalendar 2026
X-WR-CALNAME:goabase.net - parties and people 
X-WR-TIMEZONE;VALUE=TEXT:Europe/Berlin
CALSCALE:GREGORIAN
BEGIN:VTIMEZONE
TZID:Europe/Berlin
X-LIC-LOCATION:Europe/Berlin
BEGIN:DAYLIGHT
TZOFFSETFROM:+0100
TZOFFSETTO:+0200
TZNAME:CEST
DTSTART:19700329T020000
RRULE:FREQ=YEARLY;INTERVAL=1;BYDAY=-1SU;BYMONTH=3
END:DAYLIGHT
BEGIN:STANDARD
TZOFFSETFROM:+0200
TZOFFSETTO:+0100
TZNAME:CET
DTSTART:19701025T030000
RRULE:FREQ=YEARLY;INTERVAL=1;BYDAY=-1SU;BYMONTH=10
END:STANDARD
END:VTIMEZONE

BEGIN:VEVENT
UID:657874bae507b727839b71eb91731955
DTSTART:20191026T233000
DTEND:20191027T073000
LOCATION:Valencia [Spain]
GEO:39.410419800;-0.387828900
DTSTAMP:20191026T233000Z
SUMMARY:Shanti Party Psytrance-Goa By Brahma
DESCRIPTION:Line Up: Fractalmind -Brahma- 23:30 - 01:00 The Sunshine Makers
  -Brahma- 01:00 - 02:30 Tio Fil -Brahma- 02:30 - 04:00 Dr Strange…
URL:https://www.goabase.net/es/party/shanti-party-psytrance-goa-by-brahma/105101
CATEGORIES:Psytrance Event
CLASS:PUBLIC
END:VEVENT

BEGIN:VEVENT
UID:b077b20ef3f5b9e09a8e9067c1ae2c17
DTSTART:20181006T220000
DTEND:20181007T060000
LOCATION:Valencia [Spain]
GEO:39.469901400;-0.375951300
DTSTAMP:20181006T220000Z
SUMMARY:Mykarioka 2.0
DESCRIPTION:Line Up: Tío fil (APA) Komorebi (Brahma)
URL:https://www.goabase.net/es/party/mykarioka-20/101419
CATEGORIES:Psytrance Event
CLASS:PUBLIC
END:VEVENT

END:VCALENDAR