BEGIN:VCALENDAR
VERSION:2.0
PRODID:goabase.net iCalendar 2026
X-WR-CALNAME:goabase.net - parties and people 
X-WR-TIMEZONE;VALUE=TEXT:Europe/Berlin
CALSCALE:GREGORIAN
BEGIN:VTIMEZONE
TZID:Europe/Berlin
X-LIC-LOCATION:Europe/Berlin
BEGIN:DAYLIGHT
TZOFFSETFROM:+0100
TZOFFSETTO:+0200
TZNAME:CEST
DTSTART:19700329T020000
RRULE:FREQ=YEARLY;INTERVAL=1;BYDAY=-1SU;BYMONTH=3
END:DAYLIGHT
BEGIN:STANDARD
TZOFFSETFROM:+0200
TZOFFSETTO:+0100
TZNAME:CET
DTSTART:19701025T030000
RRULE:FREQ=YEARLY;INTERVAL=1;BYDAY=-1SU;BYMONTH=10
END:STANDARD
END:VTIMEZONE

BEGIN:VEVENT
UID:064de72cbe0993c777a386faff94165d
DTSTART:20190104T200000
DTEND:20190117T050000
LOCATION:Vantaa [Finland]
GEO:60.348747700;25.074147100
DTSTAMP:20190104T200000Z
SUMMARY:SuperSuomiSaundi Presents TipatOn Tammikuu Free Party
DESCRIPTION:Line Up: TIPAT ON TAMMIKUU ARTIST & DATES: Pe 04.01 Ronsu Calamar
  Audio James Reipas loKal plays SORA La 05.01 Sonic Bandits…
URL:https://www.goabase.net/es/party/supersuomisaundi-presents-tipaton-tammikuu-free-party/102344
CATEGORIES:Psytrance Event
CLASS:PUBLIC
END:VEVENT

BEGIN:VEVENT
UID:708baca91475c311236f80fe5db76358
DTSTART:20190104T200000
DTEND:20190117T050000
LOCATION:Vantaa [Finland]
GEO:60.309188800;25.036453200
DTSTAMP:20190104T200000Z
SUMMARY:SuperSuomiSaundi Club Tipaton Tammikuu Free Party
DESCRIPTION:Line Up: Pe 04.01 Ronsu Calamar Audio James Reipas loKal plays SORA La
  05.01 Sonic Bandits Puoskari Aavepyörä
URL:https://www.goabase.net/es/party/supersuomisaundi-club-tipaton-tammikuu-free-party/102345
CATEGORIES:Psytrance Event
CLASS:PUBLIC
END:VEVENT

END:VCALENDAR