BEGIN:VCALENDAR
VERSION:2.0
PRODID:goabase.net iCalendar 2026
X-WR-CALNAME:goabase.net - parties and people 
X-WR-TIMEZONE;VALUE=TEXT:Europe/Berlin
CALSCALE:GREGORIAN
BEGIN:VTIMEZONE
TZID:Europe/Berlin
X-LIC-LOCATION:Europe/Berlin
BEGIN:DAYLIGHT
TZOFFSETFROM:+0100
TZOFFSETTO:+0200
TZNAME:CEST
DTSTART:19700329T020000
RRULE:FREQ=YEARLY;INTERVAL=1;BYDAY=-1SU;BYMONTH=3
END:DAYLIGHT
BEGIN:STANDARD
TZOFFSETFROM:+0200
TZOFFSETTO:+0100
TZNAME:CET
DTSTART:19701025T030000
RRULE:FREQ=YEARLY;INTERVAL=1;BYDAY=-1SU;BYMONTH=10
END:STANDARD
END:VTIMEZONE

BEGIN:VEVENT
UID:51e2c51522b89717d81f02d4507a504b
DTSTART:20200207T230000
DTEND:20200208T090000
LOCATION:Tel Aviv [Israel]
GEO:32.100000000;34.800000000
DTSTAMP:20200207T230000Z
SUMMARY:"Spirit Tribe Crew" Hosting Atriohm & Isometric
DESCRIPTION:Line Up: 7/02/2020 &quot;Spirit Tribe Crew&quot; presents:
  &quot;Pangea Gathering-Indoor Winter Edition 2020&quot; The King Atrio…
URL:https://www.goabase.net/es/party/spirit-tribe-crew-hosting-atriohm-isometric/105786
CATEGORIES:Psytrance Event
CLASS:PUBLIC
END:VEVENT

BEGIN:VEVENT
UID:eb39bf5252f6f62e8b1d5030bdd1d409
DTSTART:20190510T233000
DTEND:20190511T150000
LOCATION:Pure Nature [Israel]
GEO:0.000000000;0.000000000
DTSTAMP:20190510T233000Z
SUMMARY:10.5.19 Spirit Tribe Crew Remember Zolod Psychedelic Experiment
DESCRIPTION:Line Up: ●PARASENSE-2.5 Hours Exclusive Live(Russia)🇷🇺
  ●ANKUR-(Quintessence Rec)-4 Hours Exclusive Live/Hybrid set(Germany)🇩🇪…
URL:https://www.goabase.net/es/party/10519-spirit-tribe-crew-remember-zolod-psychedelic-experiment/103279
CATEGORIES:Psytrance Event
CLASS:PUBLIC
END:VEVENT

END:VCALENDAR