BEGIN:VCALENDAR
VERSION:2.0
PRODID:goabase.net iCalendar 2026
X-WR-CALNAME:goabase.net - parties and people 
X-WR-TIMEZONE;VALUE=TEXT:Europe/Berlin
CALSCALE:GREGORIAN
BEGIN:VTIMEZONE
TZID:Europe/Berlin
X-LIC-LOCATION:Europe/Berlin
BEGIN:DAYLIGHT
TZOFFSETFROM:+0100
TZOFFSETTO:+0200
TZNAME:CEST
DTSTART:19700329T020000
RRULE:FREQ=YEARLY;INTERVAL=1;BYDAY=-1SU;BYMONTH=3
END:DAYLIGHT
BEGIN:STANDARD
TZOFFSETFROM:+0200
TZOFFSETTO:+0100
TZNAME:CET
DTSTART:19701025T030000
RRULE:FREQ=YEARLY;INTERVAL=1;BYDAY=-1SU;BYMONTH=10
END:STANDARD
END:VTIMEZONE

BEGIN:VEVENT
UID:7e7cc937359365e3d03bec15d2ac8d6b
DTSTART:20200228T233000
DTEND:20200229T060000
LOCATION:Madrid [Spain]
GEO:40.416500000;-3.702560000
DTSTAMP:20200228T233000Z
SUMMARY:Underground Music Session - READY to PSY
DESCRIPTION:Line Up: FLOWE CHILD (Independiente) ORANGO OM PROJECT (Free Monkeys)
  TIBERIO (Bássital Sound System) KALI YUGA (Free Monkeys)
URL:https://www.goabase.net/es/party/underground-music-session-ready-to-psy/106330
CATEGORIES:Psytrance Event
CLASS:PUBLIC
END:VEVENT

BEGIN:VEVENT
UID:5f7b27b6707894a3f21e803eabc02fd1
DTSTART:20191109T233000
DTEND:20191110T060000
LOCATION:San Sebastián de los Reyes [Spain]
GEO:40.544330000;-3.615880000
DTSTAMP:20191109T233000Z
SUMMARY:UndergroundMusicSession // Psy-DnB-HardTek
DESCRIPTION:Line Up: 04:30 KEYGEN KAOTIC 03:00 INVADHERTZ b2b EPHYUM 01:30 KALI
  YUGA 00:00 ORANGO OM POJECT
URL:https://www.goabase.net/es/party/undergroundmusicsession-psy-dnb-hardtek/105093
CATEGORIES:Psytrance Event
CLASS:PUBLIC
END:VEVENT

BEGIN:VEVENT
UID:9422202ef9262901e2b84e4d6a8c5576
DTSTART:20190927T233000
DTEND:20190928T060000
LOCATION:Madrid [Spain]
GEO:40.416706100;-3.703582000
DTSTAMP:20190927T233000Z
SUMMARY:Street Connection vol.24 Aniversario Wilen Records
DESCRIPTION:Line Up: THE JAHRRIOR (UG COLLECTIVE GRANADA KALI YUGA (FREE MONKEYS
  MADRID KAPISTA SOUND (WILEN RECORDS MADRID ABE (WILEN…
URL:https://www.goabase.net/es/party/street-connection-vol24-aniversario-wilen-records/104542
CATEGORIES:Psytrance Event
CLASS:PUBLIC
END:VEVENT

BEGIN:VEVENT
UID:1bab926e0204112251183dbcc13e3e4b
DTSTART:20190628T233000
DTEND:20190629T060000
LOCATION:Madrid [Spain]
GEO:39.260733500;-6.148770300
DTSTAMP:20190628T233000Z
SUMMARY:Underground Music Session: from Psytrance to Raggatek
DESCRIPTION:Line Up: 00:00 Kali Yuga 02:00 Orango Om Project 04:00 Yowii
URL:https://www.goabase.net/es/party/underground-music-session-from-psytrance-to-raggatek/104012
CATEGORIES:Psytrance Event
CLASS:PUBLIC
END:VEVENT

BEGIN:VEVENT
UID:45e7b0b5eedaf86798951f711f998a8d
DTSTART:20190420T120000
DTEND:20190420T233000
LOCATION:Madrid [Spain]
GEO:40.416706100;-3.703582000
DTSTAMP:20190420T120000Z
SUMMARY:Underground Music Session: Evento Solidario Salvando Peludos
DESCRIPTION:Line Up: 13:00 Charla: DE SILICON VALLEY A NABLUZ: DAILY HUGZ, EL
  PRIMER SANTUARIO DE PALESTINA por: Juan Carlos Saitre Arenas. P…
URL:https://www.goabase.net/es/party/underground-music-session-evento-solidario-salvando-peludos/103600
CATEGORIES:Psytrance Event
CLASS:PUBLIC
END:VEVENT

BEGIN:VEVENT
UID:dcea58daea2b8745dc670fbf5f135af6
DTSTART:20190208T233000
DTEND:20190209T060000
LOCATION:Madrid [Spain]
GEO:40.416706100;-3.703582000
DTSTAMP:20190208T233000Z
SUMMARY:1º Aniversario #UndergroundMusicSession
DESCRIPTION:Line Up: 00:00 Alejandro Huerta(Techno) 01:30 K.Murky (Drum And Bass)
  03:00 Orango Om Project (Progressive Trance) 04:30 Kali Yug…
URL:https://www.goabase.net/es/party/1-aniversario-undergroundmusicsession/102555
CATEGORIES:Psytrance Event
CLASS:PUBLIC
END:VEVENT

BEGIN:VEVENT
UID:c9301da3bc8e17e16c2f2fa137f995d2
DTSTART:20190104T233000
DTEND:20190105T060000
LOCATION:Madrid [Spain]
GEO:40.451944400;-3.696593900
DTSTAMP:20190104T233000Z
SUMMARY:Underground Music Session # 2019
DESCRIPTION:Line Up: 00:00-02:00 Alejandro Huerta (Techno) 02:00-04:00 Orango
  (Progressive-Offbeat) 04:00-06:00 Kali Yuga (Psytrance)
URL:https://www.goabase.net/es/party/underground-music-session-2019/102239
CATEGORIES:Psytrance Event
CLASS:PUBLIC
END:VEVENT

BEGIN:VEVENT
UID:64f919a92f81337cd9df39c550bd01c5
DTSTART:20181207T233000
DTEND:20181208T060000
LOCATION:Madrid [Spain]
GEO:40.421119900;3.701992600
DTSTAMP:20181207T233000Z
SUMMARY:Underground Music Session
DESCRIPTION:Line Up: 00:00 - 02:00 Alejandro Huerta (Techno) 02:00 - 04:00 K-Murky
  (Drum And Bass) 04:00 - 06:00 Kali Yuga (Psytrance)
URL:https://www.goabase.net/es/party/underground-music-session/102104
CATEGORIES:Psytrance Event
CLASS:PUBLIC
END:VEVENT

END:VCALENDAR