BEGIN:VCALENDAR
VERSION:2.0
PRODID:goabase.net iCalendar 2026
X-WR-CALNAME:goabase.net - parties and people 
X-WR-TIMEZONE;VALUE=TEXT:Europe/Berlin
CALSCALE:GREGORIAN
BEGIN:VTIMEZONE
TZID:Europe/Berlin
X-LIC-LOCATION:Europe/Berlin
BEGIN:DAYLIGHT
TZOFFSETFROM:+0100
TZOFFSETTO:+0200
TZNAME:CEST
DTSTART:19700329T020000
RRULE:FREQ=YEARLY;INTERVAL=1;BYDAY=-1SU;BYMONTH=3
END:DAYLIGHT
BEGIN:STANDARD
TZOFFSETFROM:+0200
TZOFFSETTO:+0100
TZNAME:CET
DTSTART:19701025T030000
RRULE:FREQ=YEARLY;INTERVAL=1;BYDAY=-1SU;BYMONTH=10
END:STANDARD
END:VTIMEZONE

BEGIN:VEVENT
UID:55a4dc71fc8ebb3f6c89539c4dbcfc9b
DTSTART:20191214T220000
DTEND:20191215T090000
LOCATION:Karlsruhe [Germany]
GEO:49.028505400;8.381438100
DTSTAMP:20191214T220000Z
SUMMARY:๑ Surima - The Traveller's Ritual ๑ w/ Drumatik (live)
DESCRIPTION:Line Up: ▶ 𝙋𝙨𝙮𝙩𝙧𝙖𝙣𝙘𝙚 | 𝙁𝙪𝙡𝙡 𝙊𝙣 | 𝙉𝙞𝙜𝙝𝙩 𝙋𝙨𝙮 ◀ ▶ 𝙏𝙬𝙞𝙡𝙞𝙜𝙝𝙩 | 𝘿𝙖𝙧𝙠 𝙋𝙨𝙮 |
  𝘿𝙖𝙧𝙠 𝙋𝙧𝙤𝙜 ◀ ♫♪ ＤＲＵＭＡＴＩＫ - ℓινє - [𝘚𝘢𝘢𝘮𝘢 𝘙𝘦𝘤𝘰𝘳𝘥𝘴] • soundclou…
URL:https://www.goabase.net/es/party/surima-the-travellers-ritual-w-drumatik-live/104826
CATEGORIES:Psytrance Event
CLASS:PUBLIC
END:VEVENT

BEGIN:VEVENT
UID:8593f7b9244cddc775574182698b1e7d
DTSTART:20191123T220000
DTEND:20191124T050000
LOCATION:Karlsruhe [Germany]
GEO:49.014067900;8.404436600
DTSTAMP:20191123T220000Z
SUMMARY:๑ EQilibrium GOA (Dark Edition) ๑
DESCRIPTION:Line Up: ॐ ॐ ॐ FREQUENZBEREICHE ॐ ॐ ॐ ▶ Twilight // Forest // Dark Psy
  // Hi Tech ◀ ♬ ASSATUR (Dark Enlightenment) ♬ • mixcloud.c…
URL:https://www.goabase.net/es/party/eqilibrium-goa-dark-edition/105119
CATEGORIES:Psytrance Event
CLASS:PUBLIC
END:VEVENT

BEGIN:VEVENT
UID:6be22c885f1fe6651777b3b03cc38561
DTSTART:20191026T220000
DTEND:20191027T050000
LOCATION:Karlsruhe [Germany]
GEO:49.014067900;8.404436600
DTSTAMP:20191026T220000Z
SUMMARY:๑ EQilibrium GOA (Extra Hour) ๑
DESCRIPTION:Line Up: ॐ ॐ ॐ FREQUENZBEREICHE ॐ ॐ ॐ ▶ Prog // Psytrance // Full On
  // Night Psy // Dark Psy ◀ ♬ LUCID MIKE (Lost Memory) ♬ • so…
URL:https://www.goabase.net/es/party/eqilibrium-goa-extra-hour/105118
CATEGORIES:Psytrance Event
CLASS:PUBLIC
END:VEVENT

BEGIN:VEVENT
UID:0c7d86145f7edbda593a25a76d35b9df
DTSTART:20190803T220000
DTEND:20190804T060000
LOCATION:Gotec Club Karlsruhe [Germany]
GEO:0.000000000;0.000000000
DTSTAMP:20190803T220000Z
SUMMARY:๑ Elysium GOA w/ TaktTrauma, Spreat, Tranonica, Pheyd ๑
DESCRIPTION:Line Up: ♬ ♬ ♬ GROßER FLOOR ♬ ♬ ♬ ▶ Prog // Psytrance // Full On //
  Night Psy // Forest ◀ ♪ TAKTTRAUMA (BMSS Records | Wummerland…
URL:https://www.goabase.net/es/party/elysium-goa-w-takttrauma-spreat-tranonica-pheyd/103990
CATEGORIES:Psytrance Event
CLASS:PUBLIC
END:VEVENT

BEGIN:VEVENT
UID:8864deb44e3b94638fdf351948235d9c
DTSTART:20190628T220000
DTEND:20190629T080000
LOCATION:Durmersheim [Germany]
GEO:0.000000000;0.000000000
DTSTAMP:20190628T220000Z
SUMMARY:๑ Secret Forest (Open Air) ๑
DESCRIPTION:Line Up: ♬ ♬ ♬ MAIN FLOOR (HÜTTE) ♬ ♬ ♬ ▶ Psytrance // Goa // Night
  Psy // Forest ◀ ▶ Dark Psy // Hi Tech // Twilight // Full On…
URL:https://www.goabase.net/es/party/secret-forest-open-air/103708
CATEGORIES:Psytrance Event
CLASS:PUBLIC
END:VEVENT

BEGIN:VEVENT
UID:9279fb6e3fc16eb605f45f4609a33486
DTSTART:20190216T220000
DTEND:20190217T120000
LOCATION:Karlsruhe [Germany]
GEO:49.019901428;8.354260697
DTSTAMP:20190216T220000Z
SUMMARY:๑ EQilibrium GOA (Melodic Edition) ๑
DESCRIPTION:Line Up: ♬ SOME SECRETS (Karlsruhe) ♬ • mixcloud.com/some_secrets ♬
  SPREAT (Ankanaté, LetitProg Rec.) ♬ • soundcloud.com/shameles…
URL:https://www.goabase.net/es/party/eqilibrium-goa-melodic-edition/102657
CATEGORIES:Psytrance Event
CLASS:PUBLIC
END:VEVENT

BEGIN:VEVENT
UID:552c51a15f18b0cda0c02e962258e19c
DTSTART:20190201T230000
DTEND:20190202T060000
LOCATION:Karlsruhe [Germany]
GEO:49.014067900;8.404436600
DTSTAMP:20190201T230000Z
SUMMARY:๑ Ankanaté presents: Elysium GOA ๑
DESCRIPTION:Line Up: ▶ Psytrance // Full On // Night Psy // Dark Psy ◀ ♬ TRANONICA
  (Ankanaté | Sun Department Rec.) ♬ • soundcloud.com/djtran…
URL:https://www.goabase.net/es/party/ankanate-presents-elysium-goa/101702
CATEGORIES:Psytrance Event
CLASS:PUBLIC
END:VEVENT

BEGIN:VEVENT
UID:3e6d4992f662dcfd163f6d75f8ae5113
DTSTART:20181215T220000
DTEND:20181216T050000
LOCATION:Karlsruhe [Germany]
GEO:49.014067900;8.404436600
DTSTAMP:20181215T220000Z
SUMMARY:๑ EQilibrium GOA (B-Day Edition) ๑
DESCRIPTION:Line Up: ▶ Progressive // Psy Trance // Psy Breaks // Full On //
  Forest ◀ ♬ SOME SECRETS (Karlsruhe) ♬ • mixcloud.com/some_secret…
URL:https://www.goabase.net/es/party/eqilibrium-goa-b-day-edition/101704
CATEGORIES:Psytrance Event
CLASS:PUBLIC
END:VEVENT

BEGIN:VEVENT
UID:325c0cdc2e2430e4f888d5161e602d82
DTSTART:20181117T220000
DTEND:20181118T050000
LOCATION:Karlsruhe [Germany]
GEO:49.014067900;8.404436600
DTSTAMP:20181117T220000Z
SUMMARY:๑ EQilibrium GOA (Ultra Dark Edt.) ๑
DESCRIPTION:Line Up: ▶ Forest // Dark Psy // Hi Tech // Psy Core ◀ ♬ SASCHLJK
  (Karlsruhe) ♬ • soundcloud.com/sascha-toeller ♬ XAYASYK (Ankana…
URL:https://www.goabase.net/es/party/eqilibrium-goa-ultra-dark-edt/101703
CATEGORIES:Psytrance Event
CLASS:PUBLIC
END:VEVENT

BEGIN:VEVENT
UID:03120895380ada5d0abe8be7ff9cfce2
DTSTART:20181027T220000
DTEND:20181028T050000
LOCATION:Karlsruhe [Germany]
GEO:49.019901428;8.354260697
DTSTAMP:20181027T220000Z
SUMMARY:๑ EQilibrium GOA (Extra Hour) ๑
DESCRIPTION:Line Up: ▶ Progressive // Psy Trance // Full On // Night Psy // Forest
  ◀ ♬ SUNNY MASH (Fähig Schmerzfrei) ♬ • facebook.com/22gerd…
URL:https://www.goabase.net/es/party/eqilibrium-goa-extra-hour/101308
CATEGORIES:Psytrance Event
CLASS:PUBLIC
END:VEVENT

BEGIN:VEVENT
UID:3112ad17ce43b6fb2533c98c164b2319
DTSTART:20180915T220000
DTEND:20180916T060000
LOCATION:Karlsruhe [Germany]
GEO:49.014067900;8.404436600
DTSTAMP:20180915T220000Z
SUMMARY:๑ EQilibrium (Acid Goa Special) ๑
DESCRIPTION:Line Up: ♬ MIKE ASTRAL (Karlsruhe) ♬ • soundcloud.com/djmikeastral ♬
  FRACTUS (Karlsruhe) ♬ • soundcloud.com/fractus1995 ♬ XAYASYK…
URL:https://www.goabase.net/es/party/eqilibrium-acid-goa-special/101037
CATEGORIES:Psytrance Event
CLASS:PUBLIC
END:VEVENT

BEGIN:VEVENT
UID:617ecf4db1584aa99f87abfa26f80d81
DTSTART:20180825T220000
DTEND:20180826T050000
LOCATION:Karlsruhe [Germany]
GEO:49.014067900;8.404436600
DTSTAMP:20180825T220000Z
SUMMARY:๑ Ankanaté presents: Elysium GOA ๑
DESCRIPTION:Line Up: ▶ Psytrance // Full On // Night Psy // Dark Psy ◀ ♬ ENVOY
  (Ankanaté) ♬ • mixcloud.com/envoy-of-music ♬ ENANO (Delicatek…
URL:https://www.goabase.net/es/party/ankanate-presents-elysium-goa/100501
CATEGORIES:Psytrance Event
CLASS:PUBLIC
END:VEVENT

BEGIN:VEVENT
UID:0261fef154eec33af4e035087f3815df
DTSTART:20180728T220000
DTEND:20180729T050000
LOCATION:Karlsruhe [Germany]
GEO:49.014067900;8.404436600
DTSTAMP:20180728T220000Z
SUMMARY:๑ EQilibrium GOA (Dark Edition) ๑
DESCRIPTION:Line Up: ▶ Night Psy // Forest // Dark Psy // Zenon ◀ ♬ XAYASYK
  (Psyvolution) ♬ • soundcloud.com/xayasyk ♬ ZIQADA (Ankanaté) ♬ •…
URL:https://www.goabase.net/es/party/eqilibrium-goa-dark-edition/100500
CATEGORIES:Psytrance Event
CLASS:PUBLIC
END:VEVENT

BEGIN:VEVENT
UID:1e57bb22816525954da538bacea287b2
DTSTART:20180630T220000
DTEND:20180701T100000
LOCATION:Karlsruhe [Germany]
GEO:49.014067900;8.404436600
DTSTAMP:20180630T220000Z
SUMMARY:๑ Secret Garden (Open Air) ๑
DESCRIPTION:Line Up: ▶ Prog Psy // Full On // Night Psy // Forest ◀ ▶ Dark Psy //
  Hi Tech // Uplifting // Morning◀ ♬ SPREAT (Ankanaté) ♬ • so…
URL:https://www.goabase.net/es/party/secret-garden-open-air/100287
CATEGORIES:Psytrance Event
CLASS:PUBLIC
END:VEVENT

BEGIN:VEVENT
UID:e614d96fe6af356ff6ef1686eedf6e93
DTSTART:20180623T220000
DTEND:20180624T050000
LOCATION:Karlsruhe [Germany]
GEO:49.014067900;8.404436600
DTSTAMP:20180623T220000Z
SUMMARY:๑ EQilibrium GOA ๑
DESCRIPTION:Line Up: ॐ ॐ ॐ FREQUENZBEREICHE ॐ ॐ ॐ ▶ Proggy // Prog Psy // Full On
  // Forest ◀ ♬ SOME SECRETS (Karlsruhe) ♬ • mixcloud.com/som…
URL:https://www.goabase.net/es/party/eqilibrium-goa/100170
CATEGORIES:Psytrance Event
CLASS:PUBLIC
END:VEVENT

BEGIN:VEVENT
UID:5b26047072b0496394e89325fa939e58
DTSTART:20180414T220000
DTEND:20180415T100000
LOCATION:Karlsruhe [Germany]
GEO:49.028770400;8.383560200
DTSTAMP:20180414T220000Z
SUMMARY:๑ Surima - The Shamanic Circle ๑ w/ TaktTrauma & Mutterkorn uvm.
DESCRIPTION:Line Up: SURIMA GOA - The Shamanic Circle (&quot;Seelentanz 2&quot;)
  Namasté liebe Brüder und Schwestern aus der Goa Welt ♥ Einig…
URL:https://www.goabase.net/es/party/surima-the-shamanic-circle-w-takttrauma-mutterkorn-uvm/99523
CATEGORIES:Psytrance Event
CLASS:PUBLIC
END:VEVENT

BEGIN:VEVENT
UID:1d0ede0a6c772290f56b5ad6a6171cc5
DTSTART:20180324T220000
DTEND:20180325T050000
LOCATION:Karlsruhe [Germany]
GEO:49.019901428;8.354260697
DTSTAMP:20180324T220000Z
SUMMARY:๑ EQilibrium GOA (Dark Edition) ๑
DESCRIPTION:Line Up: EQ 21 (Dark Edition) ♥ ॐ ♬ ॐ Goa is not a place ... Goa is a
  State of mind ॐ Lasst uns eintreten, in eine andere Welt, u…
URL:https://www.goabase.net/es/party/eqilibrium-goa-dark-edition/99092
CATEGORIES:Psytrance Event
CLASS:PUBLIC
END:VEVENT

BEGIN:VEVENT
UID:e4497012546a7ed5eea74980f56f8f53
DTSTART:20180224T220000
DTEND:20180225T050000
LOCATION:Karlsruhe [Germany]
GEO:49.019901428;8.354260697
DTSTAMP:20180224T220000Z
SUMMARY:๑ EQilibrium GOA (Prog. Special) ๑
DESCRIPTION:Line Up: EQ 20 (Prog. Special) ♥ ॐ ♬ Hallo liebe Goa Fans :) Wir
  feiern die 20. EQilibrium! So progressiv wie wir damals angefang…
URL:https://www.goabase.net/es/party/eqilibrium-goa-prog-special/98384
CATEGORIES:Psytrance Event
CLASS:PUBLIC
END:VEVENT

BEGIN:VEVENT
UID:48cb752b6170dbe19c35bbe960da592f
DTSTART:20180127T220000
DTEND:20180128T050000
LOCATION:Karlsruhe [Germany]
GEO:49.019901428;8.354260697
DTSTAMP:20180127T220000Z
SUMMARY:๑ EQilibrium GOA (Dark Edition) ๑
DESCRIPTION:Line Up: EQ 19 (Dark Edition) ♥ ॐ ♬ ॐ Goa is not a place ... Goa is a
  State of mind ॐ Lasst uns eintreten, in eine andere Welt, u…
URL:https://www.goabase.net/es/party/eqilibrium-goa-dark-edition/98043
CATEGORIES:Psytrance Event
CLASS:PUBLIC
END:VEVENT

BEGIN:VEVENT
UID:8bff8878ac13c28c619a4e6098cb6d15
DTSTART:20171216T220000
DTEND:20171217T050000
LOCATION:Karlsruhe [Germany]
GEO:49.019901428;8.354260697
DTSTAMP:20171216T220000Z
SUMMARY:๑ EQilibrium GOA (B-Day Bash) ๑
DESCRIPTION:Line Up: EQ 18 (B-Day Bash) ♥ ॐ ♬ ॐ Goa is not a place ... Goa is a
  State of mind ॐ Lasst uns eintreten, in eine andere Welt, um…
URL:https://www.goabase.net/es/party/eqilibrium-goa-b-day-bash/97653
CATEGORIES:Psytrance Event
CLASS:PUBLIC
END:VEVENT

END:VCALENDAR