BEGIN:VCALENDAR
VERSION:2.0
PRODID:goabase.net iCalendar 2026
X-WR-CALNAME:goabase.net - parties and people 
X-WR-TIMEZONE;VALUE=TEXT:Europe/Berlin
CALSCALE:GREGORIAN
BEGIN:VTIMEZONE
TZID:Europe/Berlin
X-LIC-LOCATION:Europe/Berlin
BEGIN:DAYLIGHT
TZOFFSETFROM:+0100
TZOFFSETTO:+0200
TZNAME:CEST
DTSTART:19700329T020000
RRULE:FREQ=YEARLY;INTERVAL=1;BYDAY=-1SU;BYMONTH=3
END:DAYLIGHT
BEGIN:STANDARD
TZOFFSETFROM:+0200
TZOFFSETTO:+0100
TZNAME:CET
DTSTART:19701025T030000
RRULE:FREQ=YEARLY;INTERVAL=1;BYDAY=-1SU;BYMONTH=10
END:STANDARD
END:VTIMEZONE

BEGIN:VEVENT
UID:73cf273434789f160ca12cf49f86e4d9
DTSTART:20170203T180000
DTEND:20170203T223000
LOCATION:Bucharest [Romania]
GEO:44.453986157;26.078925133
DTSTAMP:20170203T180000Z
SUMMARY:Ecstatic Dance ⁂ DJ RAMAN
DESCRIPTION:Line Up: Journey through free movement, DJ mixed eclectic sounds and
  live music. Move in your own way! Find yourself dancing and…
URL:https://www.goabase.net/es/party/ecstatic-dance-dj-raman/93268
CATEGORIES:Psytrance Event
CLASS:PUBLIC
END:VEVENT

END:VCALENDAR