BEGIN:VCALENDAR
VERSION:2.0
PRODID:goabase.net iCalendar 2026
X-WR-CALNAME:goabase.net - parties and people 
X-WR-TIMEZONE;VALUE=TEXT:Europe/Berlin
CALSCALE:GREGORIAN
BEGIN:VTIMEZONE
TZID:Europe/Berlin
X-LIC-LOCATION:Europe/Berlin
BEGIN:DAYLIGHT
TZOFFSETFROM:+0100
TZOFFSETTO:+0200
TZNAME:CEST
DTSTART:19700329T020000
RRULE:FREQ=YEARLY;INTERVAL=1;BYDAY=-1SU;BYMONTH=3
END:DAYLIGHT
BEGIN:STANDARD
TZOFFSETFROM:+0200
TZOFFSETTO:+0100
TZNAME:CET
DTSTART:19701025T030000
RRULE:FREQ=YEARLY;INTERVAL=1;BYDAY=-1SU;BYMONTH=10
END:STANDARD
END:VTIMEZONE

BEGIN:VEVENT
UID:e60eb6c64cf299293ef5c60ca17f34d9
DTSTART:20200516T220000
DTEND:20200517T020000
LOCATION:Online [Japan]
GEO:35.700000000;139.800000000
DTSTAMP:20200516T220000Z
SUMMARY:Return of Teletabooz - Suomisaundi × Visual Shock
DESCRIPTION:Line Up: ◆SOUNDZ◆ A to Z -LIVE- Hongos Longos (Random Rec.) O.O.K.
  (Hel Label) Pavel Svimba (Hippie Killer Productions) RRRast…
URL:https://www.goabase.net/es/party/return-of-teletabooz-suomisaundi-visual-shock/106671
CATEGORIES:Psytrance Event
CLASS:PUBLIC
END:VEVENT

BEGIN:VEVENT
UID:0020a9174d862bbf6345e1fa001c35dd
DTSTART:20181229T220000
DTEND:20181230T070000
LOCATION:Tokyo [Japan]
GEO:35.680072800;139.768524200
DTSTAMP:20181229T220000Z
SUMMARY:Funland Disco 17th 〜Year End Party〜
DESCRIPTION:Line Up: ◎Brain Dameged Funland Floor◎ ☆Live☆ Anima Animus（Hippie
  Killer Productions / RIKKA SAUNDI） UMAMI BOYZ（Adelic Records ）…
URL:https://www.goabase.net/es/party/funland-disco-17th-year-end-party/102083
CATEGORIES:Psytrance Event
CLASS:PUBLIC
END:VEVENT

BEGIN:VEVENT
UID:af4f2e5a886c1626870397c53a6c87cf
DTSTART:20171008T230000
DTEND:20171009T070000
LOCATION:Tokyo [Japan]
GEO:35.680072800;139.768524200
DTSTAMP:20171008T230000Z
SUMMARY:Funland Disco 15th
DESCRIPTION:Line Up: ～Funland Floor～ ☆Live☆ Hentaicameraman（Mental souce / MPI
  music / pullawalla / Atman tribe / psylab / ヘンタイワークス） Nolm（Men…
URL:https://www.goabase.net/es/party/funland-disco-15th/96836
CATEGORIES:Psytrance Event
CLASS:PUBLIC
END:VEVENT

BEGIN:VEVENT
UID:63b008d8bb388ef107b544f961e63cf9
DTSTART:20170805T233000
DTEND:20170806T060000
LOCATION:Tokyo [Japan]
GEO:35.680072800;139.768524200
DTSTAMP:20170805T233000Z
SUMMARY:Funland Disco 14th
DESCRIPTION:Line Up: Funland Disco 14th 2017/8/5（Sat） @Koenji cave B1, ACP
  building, Koenjiminami 4-23-5, Suginami-ku, Tokyo 166-0003, ☆Long Set…
URL:https://www.goabase.net/es/party/funland-disco-14th/96112
CATEGORIES:Psytrance Event
CLASS:PUBLIC
END:VEVENT

BEGIN:VEVENT
UID:d82f4eee6e17bdd00f052e0f7f486869
DTSTART:20170603T233000
DTEND:20170604T070000
LOCATION:Tokyo [Japan]
GEO:35.680072800;139.768524200
DTSTAMP:20170603T233000Z
SUMMARY:Strange Girls
DESCRIPTION:Line Up: ～Suomi Strange Girls Floor～ ☆DJs☆ ♡MICA（Sound Kitchen /
  天羽Fantasia / 心太）from東京 ♡ ♡AKO（SMILE. / 心太 / ILLUMINOID / sirius…
URL:https://www.goabase.net/es/party/strange-girls/95476
CATEGORIES:Psytrance Event
CLASS:PUBLIC
END:VEVENT

BEGIN:VEVENT
UID:79173599f9602e146f5657e7abca8547
DTSTART:20170401T233000
DTEND:20170402T073000
LOCATION:Tokyo [Japan]
GEO:35.680072800;139.768524200
DTSTAMP:20170401T233000Z
SUMMARY:Funland Disco 13th ～Psychedelic Spring Blast～
DESCRIPTION:Line Up: ☆Special Guest Live Set☆ Jangaramongara（DSP / Vantara
  Vichitra） ☆Special Guest DJ Set☆ テンパる子（Active） ☆DJs☆ Junkichi（6D S…
URL:https://www.goabase.net/es/party/funland-disco-13th-psychedelic-spring-blast/94972
CATEGORIES:Psytrance Event
CLASS:PUBLIC
END:VEVENT

END:VCALENDAR