BEGIN:VCALENDAR
VERSION:2.0
PRODID:goabase.net iCalendar 2026
X-WR-CALNAME:goabase.net - parties and people 
X-WR-TIMEZONE;VALUE=TEXT:Europe/Berlin
CALSCALE:GREGORIAN
BEGIN:VTIMEZONE
TZID:Europe/Berlin
X-LIC-LOCATION:Europe/Berlin
BEGIN:DAYLIGHT
TZOFFSETFROM:+0100
TZOFFSETTO:+0200
TZNAME:CEST
DTSTART:19700329T020000
RRULE:FREQ=YEARLY;INTERVAL=1;BYDAY=-1SU;BYMONTH=3
END:DAYLIGHT
BEGIN:STANDARD
TZOFFSETFROM:+0200
TZOFFSETTO:+0100
TZNAME:CET
DTSTART:19701025T030000
RRULE:FREQ=YEARLY;INTERVAL=1;BYDAY=-1SU;BYMONTH=10
END:STANDARD
END:VTIMEZONE

BEGIN:VEVENT
UID:6d6a6fcbfc125a4015fe728270eb2cdb
DTSTART:20091205T060000
DTEND:20091205T120000
LOCATION:Linz [Austria]
GEO:0.000000000;0.000000000
DTSTAMP:20091205T060000Z
SUMMARY:Operation MINDFUCK Afterhour
DESCRIPTION:
URL:https://www.goabase.net/es/party/operation-mindfuck-afterhour/49951
CATEGORIES:Psytrance Event
CLASS:PUBLIC
END:VEVENT

BEGIN:VEVENT
UID:48d87dcbc7e414ae9e46ea3a49e73632
DTSTART:20080405T210000
DTEND:20080406T040000
LOCATION:Hagenberg im Mühlkreis OÖ [Austria]
GEO:0.000000000;0.000000000
DTSTAMP:20080405T210000Z
SUMMARY:DRUIDS FANTASY
DESCRIPTION:
URL:https://www.goabase.net/es/party/druids-fantasy/37858
CATEGORIES:Psytrance Event
CLASS:PUBLIC
END:VEVENT

END:VCALENDAR