BEGIN:VCALENDAR
VERSION:2.0
PRODID:goabase.net iCalendar 2026
X-WR-CALNAME:goabase.net - parties and people 
X-WR-TIMEZONE;VALUE=TEXT:Europe/Berlin
CALSCALE:GREGORIAN
BEGIN:VTIMEZONE
TZID:Europe/Berlin
X-LIC-LOCATION:Europe/Berlin
BEGIN:DAYLIGHT
TZOFFSETFROM:+0100
TZOFFSETTO:+0200
TZNAME:CEST
DTSTART:19700329T020000
RRULE:FREQ=YEARLY;INTERVAL=1;BYDAY=-1SU;BYMONTH=3
END:DAYLIGHT
BEGIN:STANDARD
TZOFFSETFROM:+0200
TZOFFSETTO:+0100
TZNAME:CET
DTSTART:19701025T030000
RRULE:FREQ=YEARLY;INTERVAL=1;BYDAY=-1SU;BYMONTH=10
END:STANDARD
END:VTIMEZONE

BEGIN:VEVENT
UID:327874a84cd239314f7cd37a1607a434
DTSTART:20190413T210000
DTEND:20190414T070000
LOCATION:Brno [Czech Republic]
GEO:49.184020000;16.579870000
DTSTAMP:20190413T210000Z
SUMMARY:Planet Blue Night
DESCRIPTION:Line Up: Liveacts Chors Leftism Hermetic Djs Loudspeaker Mixxo & Cicko
  Harry Junior
URL:https://www.goabase.net/es/party/planet-blue-night/103376
CATEGORIES:Psytrance Event
CLASS:PUBLIC
END:VEVENT

BEGIN:VEVENT
UID:3e9ab46e5efff35cb1728adea530cfc4
DTSTART:20190216T210000
DTEND:20190217T060000
LOCATION:Brno [Czech Republic]
GEO:49.184701900;16.579285800
DTSTAMP:20190216T210000Z
SUMMARY:Planet Blue Night w/ Hujaboy
DESCRIPTION:Line Up: Main stage: HUJABOY (IL) Gappeq Shpack Binarstorm Mixxo &
  Cicko
URL:https://www.goabase.net/es/party/planet-blue-night-w-hujaboy/102501
CATEGORIES:Psytrance Event
CLASS:PUBLIC
END:VEVENT

BEGIN:VEVENT
UID:583f6b8d533941ba7f1363a1cf099554
DTSTART:20181026T210000
DTEND:20181027T060000
LOCATION:Brno [Czech Republic]
GEO:49.184701900;16.579285800
DTSTAMP:20181026T210000Z
SUMMARY:Planet Blue Night w/ Rastaliens
DESCRIPTION:Line Up: ► Liveact ◄ Rastaliens (CH) ► Dj´s ◄ Ejczka Psychozix,
  Mixcoatl Shpack Mr.Teacher Antroyd
URL:https://www.goabase.net/es/party/planet-blue-night-w-rastaliens/101472
CATEGORIES:Psytrance Event
CLASS:PUBLIC
END:VEVENT

END:VCALENDAR