BEGIN:VCALENDAR
VERSION:2.0
PRODID:goabase.net iCalendar 2026
X-WR-CALNAME:goabase.net - parties and people 
X-WR-TIMEZONE;VALUE=TEXT:Europe/Berlin
CALSCALE:GREGORIAN
BEGIN:VTIMEZONE
TZID:Europe/Berlin
X-LIC-LOCATION:Europe/Berlin
BEGIN:DAYLIGHT
TZOFFSETFROM:+0100
TZOFFSETTO:+0200
TZNAME:CEST
DTSTART:19700329T020000
RRULE:FREQ=YEARLY;INTERVAL=1;BYDAY=-1SU;BYMONTH=3
END:DAYLIGHT
BEGIN:STANDARD
TZOFFSETFROM:+0200
TZOFFSETTO:+0100
TZNAME:CET
DTSTART:19701025T030000
RRULE:FREQ=YEARLY;INTERVAL=1;BYDAY=-1SU;BYMONTH=10
END:STANDARD
END:VTIMEZONE

BEGIN:VEVENT
UID:3cecba4a43b6d5532e15937d345dcd8b
DTSTART:20090619T160000
DTEND:20090622T233000
LOCATION:Soon [Portugal]
GEO:0.000000000;0.000000000
DTSTAMP:20090619T160000Z
SUMMARY:""ECOEXISTENCE FESTIVAL""NATIONAL SOMMER SOLESTICE 2009
DESCRIPTION:
URL:https://www.goabase.net/es/festival/ecoexistence-festivalnational-sommer-solestice-2009/40820
CATEGORIES:Psytrance Event
CLASS:PUBLIC
END:VEVENT

BEGIN:VEVENT
UID:cd284611970d066e244b286c66b22253
DTSTART:20090529T210000
DTEND:20090531T200000
LOCATION:Mirandela [Portugal]
GEO:0.000000000;0.000000000
DTSTAMP:20090529T210000Z
SUMMARY:""THE CALL OF NATURE""
DESCRIPTION:Line Up: TANAKA. blissful.be/bionicle trybe/refuzed
  agency.pt).....lancamento do projecto:SWANG M.I_SPECTRAL independent.pt
  M_DUS…
URL:https://www.goabase.net/es/festival/the-call-of-nature/40821
CATEGORIES:Psytrance Event
CLASS:PUBLIC
END:VEVENT

BEGIN:VEVENT
UID:ae4b37e35856143761e160cb91a39919
DTSTART:20080620T140000
DTEND:20080622T200000
LOCATION:santarem [Portugal]
GEO:0.000000000;0.000000000
DTSTAMP:20080620T140000Z
SUMMARY:ECOEXISTENCE FESTIVAL
DESCRIPTION:Line Up: PAINKILLER (Nutek Recs - Spain) Apresentação do novo
  album&quot;license to heal&quot; EPHEDRIX (Dacru Recs - Belgium) Ap…
URL:https://www.goabase.net/es/festival/ecoexistence-festival/38251
CATEGORIES:Psytrance Event
CLASS:PUBLIC
END:VEVENT

BEGIN:VEVENT
UID:2e93e4d84df71504bb17f383cb2c7d8d
DTSTART:20080322T220000
DTEND:20080323T160000
LOCATION:Setubal [Portugal]
GEO:0.000000000;0.000000000
DTSTAMP:20080322T220000Z
SUMMARY:Psyfriends Reunion 2008
DESCRIPTION:Line Up: Unlock Mind friendsprojet MDust independent THISORDER good
  trance.org More coming soon...
URL:https://www.goabase.net/es/party/psyfriends-reunion-2008/36523
CATEGORIES:Psytrance Event
CLASS:PUBLIC
END:VEVENT

BEGIN:VEVENT
UID:644e365ae4caf592815fa7768f84575e
DTSTART:20071124T220000
DTEND:20071124T220000
LOCATION:Lisboa [Portugal]
GEO:0.000000000;0.000000000
DTSTAMP:20071124T220000Z
SUMMARY:CLOCKWISE NO TUATARA HOJE!! ULTIMA CHANCE DE OS VER TAO CEDO
DESCRIPTION:Line Up: CLOCKWISE M&M'S AND MORE
URL:https://www.goabase.net/es/party/clockwise-no-tuatara-hoje-ultima-chance-de-os-ver-tao-cedo/35351
CATEGORIES:Psytrance Event
CLASS:PUBLIC
END:VEVENT

END:VCALENDAR