BEGIN:VCALENDAR
VERSION:2.0
PRODID:goabase.net iCalendar 2026
X-WR-CALNAME:goabase.net - parties and people 
X-WR-TIMEZONE;VALUE=TEXT:Europe/Berlin
CALSCALE:GREGORIAN
BEGIN:VTIMEZONE
TZID:Europe/Berlin
X-LIC-LOCATION:Europe/Berlin
BEGIN:DAYLIGHT
TZOFFSETFROM:+0100
TZOFFSETTO:+0200
TZNAME:CEST
DTSTART:19700329T020000
RRULE:FREQ=YEARLY;INTERVAL=1;BYDAY=-1SU;BYMONTH=3
END:DAYLIGHT
BEGIN:STANDARD
TZOFFSETFROM:+0200
TZOFFSETTO:+0100
TZNAME:CET
DTSTART:19701025T030000
RRULE:FREQ=YEARLY;INTERVAL=1;BYDAY=-1SU;BYMONTH=10
END:STANDARD
END:VTIMEZONE

BEGIN:VEVENT
UID:c8d6c70b07f00fb188e0bb43594e291a
DTSTART:20071027T220000
DTEND:20071028T180000
LOCATION:Aveiro [Portugal]
GEO:0.000000000;0.000000000
DTSTAMP:20071027T220000Z
SUMMARY:VISUAL TRIP Presents: ---Digital Circus----
DESCRIPTION:Line Up: * TWISTED SYSTEM (TIMECODE RECORDS) SOUTH AFRICA* PHATMATIX
  (YABAI/ACIDANCE REC) FRANCE* DIGITAL TALK (YABAI/ACIDANCE RE…
URL:https://www.goabase.net/es/party/visual-trip-presents-digital-circus/34406
CATEGORIES:Psytrance Event
CLASS:PUBLIC
END:VEVENT

BEGIN:VEVENT
UID:fd07627a411d60b6c1791d0214606ce6
DTSTART:20070915T233000
DTEND:20070916T180000
LOCATION:Ibiza [Spain]
GEO:0.000000000;0.000000000
DTSTAMP:20070915T233000Z
SUMMARY:TWISTED CONTROL
DESCRIPTION:
URL:https://www.goabase.net/es/party/twisted-control/33894
CATEGORIES:Psytrance Event
CLASS:PUBLIC
END:VEVENT

BEGIN:VEVENT
UID:3685b07ed08c90e6027a13d1de0c101e
DTSTART:20060811T233000
DTEND:20060811T233000
LOCATION:Ibiza [Spain]
GEO:0.000000000;0.000000000
DTSTAMP:20060811T233000Z
SUMMARY:Katarzis Party 11/08 @ La Pura Vida, Ibiza
DESCRIPTION:
URL:https://www.goabase.net/es/party/katarzis-party-1108-la-pura-vida-ibiza/26182
CATEGORIES:Psytrance Event
CLASS:PUBLIC
END:VEVENT

END:VCALENDAR