BEGIN:VCALENDAR
VERSION:2.0
PRODID:goabase.net iCalendar 2026
X-WR-CALNAME:goabase.net - parties and people 
X-WR-TIMEZONE;VALUE=TEXT:Europe/Berlin
CALSCALE:GREGORIAN
BEGIN:VTIMEZONE
TZID:Europe/Berlin
X-LIC-LOCATION:Europe/Berlin
BEGIN:DAYLIGHT
TZOFFSETFROM:+0100
TZOFFSETTO:+0200
TZNAME:CEST
DTSTART:19700329T020000
RRULE:FREQ=YEARLY;INTERVAL=1;BYDAY=-1SU;BYMONTH=3
END:DAYLIGHT
BEGIN:STANDARD
TZOFFSETFROM:+0200
TZOFFSETTO:+0100
TZNAME:CET
DTSTART:19701025T030000
RRULE:FREQ=YEARLY;INTERVAL=1;BYDAY=-1SU;BYMONTH=10
END:STANDARD
END:VTIMEZONE

BEGIN:VEVENT
UID:f3ff1246b01ec2ed4dc66941d71a016d
DTSTART:20220825T140000
DTEND:20220828T180000
LOCATION:google.com/maps/place/plan+… [France]
GEO:46.603354000;1.888333500
DTSTAMP:20220825T140000Z
SUMMARY:Hadra Trance Festival
DESCRIPTION:Line Up: ··•●► PROGRAMMATION ◄●•·· 🔸 AL MAKAN 🔸 Ahyoka • Alderaan •
  Artyficial • Atriohm • Braindrop • Cubic Spline • Digital Tal…
URL:https://www.goabase.net/es/festival/hadra-trance-festival/108622
CATEGORIES:Psytrance Event
CLASS:PUBLIC
END:VEVENT

BEGIN:VEVENT
UID:be759f7737548d0fbda5ed2c840522a5
DTSTART:20220305T220000
DTEND:20220306T080000
LOCATION:Marseille [France]
GEO:43.300000000;5.400000000
DTSTAMP:20220305T220000Z
SUMMARY:PSYMIND X HADRA | Special 20 Years Tour Edition
DESCRIPTION:Line Up: -- 𝟯 𝗦𝗧𝗔𝗚𝗘𝗦 𝟯 𝗨𝗡𝗜𝗩𝗘𝗥𝗦 -- 👽 PROGRESSIVE/FULL ON 👽 ◊ Ajja 🇨🇭 ◊
  Mad Maxx 🇺🇸 ◊ Tristan 🇬🇧 ◊ Ritmo 🇮🇱 ◊ Oddwave vs Kokmok 🇫🇷…
URL:https://www.goabase.net/es/party/psymind-x-hadra-special-20-years-tour-edition/107832
CATEGORIES:Psytrance Event
CLASS:PUBLIC
END:VEVENT

BEGIN:VEVENT
UID:8f2b032cdbe97ffce7e9b69342651120
DTSTART:20211120T230000
DTEND:20211121T063000
LOCATION:Nantes [France]
GEO:47.200000000;-1.600000000
DTSTAMP:20211120T230000Z
SUMMARY:HADRA x EDC presents VOODOO PEOPLE 3
DESCRIPTION:Line Up: ◊ MAIN STAGE ◊ ● TRISTAN (Nano Records) - Royaume Unis
  Full-on psytrance ● MODUS (Stereo Society) - Israel Hybrid Progr…
URL:https://www.goabase.net/es/party/hadra-x-edc-presents-voodoo-people-3/107685
CATEGORIES:Psytrance Event
CLASS:PUBLIC
END:VEVENT

BEGIN:VEVENT
UID:a8d287483e489ccf88bf46c211f981dd
DTSTART:20200118T220000
DTEND:20200119T080000
LOCATION:Marseille [France]
GEO:43.300000000;5.400000000
DTSTAMP:20200118T220000Z
SUMMARY:Psymind 2020
DESCRIPTION:Line Up: ▃ ▄ ▅ ▆ ▇ ♪ SALLE DES SUCRES ♪ ▇ ▆ ▅ ▄ ▃ 💠 Avalon | Live
  Full-on 💠 Captain Hook | Live Progressive Trance 💠 Azax | Live…
URL:https://www.goabase.net/es/party/psymind-2020/105535
CATEGORIES:Psytrance Event
CLASS:PUBLIC
END:VEVENT

BEGIN:VEVENT
UID:dd01bd22613022b54087b925393f2897
DTSTART:20190608T140000
DTEND:20190609T070000
LOCATION:Rognes [France]
GEO:43.663829200;5.346900100
DTSTAMP:20190608T140000Z
SUMMARY:PSYMIND ORIGINS 2019
DESCRIPTION:Line Up: 🔥 PSYMIND ORIGINS | OPEN AIR 🔥 Saturday June 8, 2019 - Former
  Rognes Quarries (13) 17 HOURS OF SOUND / 14H00 - 07H00 Boo…
URL:https://www.goabase.net/es/party/psymind-origins-2019/103168
CATEGORIES:Psytrance Event
CLASS:PUBLIC
END:VEVENT

BEGIN:VEVENT
UID:498269b954c6244e8f6edc96653c7d47
DTSTART:20180609T140000
DTEND:20180610T070000
LOCATION:Rognes [France]
GEO:45.182479900;5.721077000
DTSTAMP:20180609T140000Z
SUMMARY:Psymind Origins 2018
DESCRIPTION:Line Up: ▲▽ ▲ LINE-UP ▲▽ ▲ ► Fabio & Moon Live Progressive Trance
  (Spin Twist Records - Allemagne) ♪ ► Laughing Buddha Live Full…
URL:https://www.goabase.net/es/party/psymind-origins-2018/99732
CATEGORIES:Psytrance Event
CLASS:PUBLIC
END:VEVENT

BEGIN:VEVENT
UID:5c8aba88b27a16c01533cd152a43aa28
DTSTART:20180113T220000
DTEND:20180114T080000
LOCATION:Marseille [France]
GEO:43.314816646;5.367907288
DTSTAMP:20180113T220000Z
SUMMARY:Psymind #4 - 13 janvier 2018
DESCRIPTION:Line Up: ◼◽◼◽◼◽◼◽◼◽◼◽◼◽◼◽◼◽◼ SAMEDI 13 JANVIER 2018 22H00 &gt- 08H00
  aux Dock des Suds de Marseille. Préventes ◉ ► ◼◽◼◽◼◽◼◽◼◽◼◽◼…
URL:https://www.goabase.net/es/party/psymind-4-13-janvier-2018/97689
CATEGORIES:Psytrance Event
CLASS:PUBLIC
END:VEVENT

BEGIN:VEVENT
UID:373da3faa15f7a82e0f2908b7e5b77ae
DTSTART:20170701T190000
DTEND:20170702T070000
LOCATION:Rognes [France]
GEO:43.660626680;5.340738242
DTSTAMP:20170701T190000Z
SUMMARY:Psymind Origins / Open Air - 1er Juillet 2017
DESCRIPTION:Line Up: ►AVALON Live Full-On (Nano Records / UK) ♪ ♪ ► ZEN MECHANICS
  Live Progressive Psytrance (Sourcecode Transmissions – Au…
URL:https://www.goabase.net/es/party/psymind-origins-open-air-1er-juillet-2017/95670
CATEGORIES:Psytrance Event
CLASS:PUBLIC
END:VEVENT

END:VCALENDAR