BEGIN:VCALENDAR
VERSION:2.0
PRODID:goabase.net iCalendar 2026
X-WR-CALNAME:goabase.net - parties and people 
X-WR-TIMEZONE;VALUE=TEXT:Europe/Berlin
CALSCALE:GREGORIAN
BEGIN:VTIMEZONE
TZID:Europe/Berlin
X-LIC-LOCATION:Europe/Berlin
BEGIN:DAYLIGHT
TZOFFSETFROM:+0100
TZOFFSETTO:+0200
TZNAME:CEST
DTSTART:19700329T020000
RRULE:FREQ=YEARLY;INTERVAL=1;BYDAY=-1SU;BYMONTH=3
END:DAYLIGHT
BEGIN:STANDARD
TZOFFSETFROM:+0200
TZOFFSETTO:+0100
TZNAME:CET
DTSTART:19701025T030000
RRULE:FREQ=YEARLY;INTERVAL=1;BYDAY=-1SU;BYMONTH=10
END:STANDARD
END:VTIMEZONE

BEGIN:VEVENT
UID:3690fb2321268dd980e5be1969a9ec5f
DTSTART:20171202T220000
DTEND:20171203T070000
LOCATION:Cologne [Germany]
GEO:50.957079203;6.900859960
DTSTAMP:20171202T220000Z
SUMMARY:ॐPsychedelic Rebootॐ - PsyPark X Reboot (2 Floors) im e-feld
DESCRIPTION:Line Up: 2Floors! (GOA/TECHNO) LINE-UP GOA: -M.D. AMAZING (Siegen)
  -YGGDRASIL (Bonn|Reboot) -DJETSET (Bonn|PsyPark) -Tak-Tikke…
URL:https://www.goabase.net/es/party/psychedelic-reboot-psypark-x-reboot-2-floors-im-e-feld/97786
CATEGORIES:Psytrance Event
CLASS:PUBLIC
END:VEVENT

END:VCALENDAR