BEGIN:VCALENDAR
VERSION:2.0
PRODID:goabase.net iCalendar 2026
X-WR-CALNAME:goabase.net - parties and people 
X-WR-TIMEZONE;VALUE=TEXT:Europe/Berlin
CALSCALE:GREGORIAN
BEGIN:VTIMEZONE
TZID:Europe/Berlin
X-LIC-LOCATION:Europe/Berlin
BEGIN:DAYLIGHT
TZOFFSETFROM:+0100
TZOFFSETTO:+0200
TZNAME:CEST
DTSTART:19700329T020000
RRULE:FREQ=YEARLY;INTERVAL=1;BYDAY=-1SU;BYMONTH=3
END:DAYLIGHT
BEGIN:STANDARD
TZOFFSETFROM:+0200
TZOFFSETTO:+0100
TZNAME:CET
DTSTART:19701025T030000
RRULE:FREQ=YEARLY;INTERVAL=1;BYDAY=-1SU;BYMONTH=10
END:STANDARD
END:VTIMEZONE

BEGIN:VEVENT
UID:e0602431445e22bd343853661a13132f
DTSTART:20171215T235000
DTEND:20171216T053000
LOCATION:Ramonville-Saint-Agne [France]
GEO:43.548270171;1.485478220
DTSTAMP:20171215T235000Z
SUMMARY:Maasai #3 Loud 2H De Live, Magik, Elfo, Dj Hp
DESCRIPTION:Line Up: ▽ L'an dernier les MAASAI partaient à la conquête du
  territoire, et les gardiens gardaient leurs terres. Aujourd'hui les…
URL:https://www.goabase.net/es/party/maasai-3-loud-2h-de-live-magik-elfo-dj-hp/97633
CATEGORIES:Psytrance Event
CLASS:PUBLIC
END:VEVENT

BEGIN:VEVENT
UID:2194246826b969ee527cf5ff5bfc040d
DTSTART:20170909T220000
DTEND:20170910T060000
LOCATION:Tournefeuille [France]
GEO:43.573638900;1.319829900
DTSTAMP:20170909T220000Z
SUMMARY:Electro Alternativ #13 : Coming Soon, Upgrade, Belik Boom
DESCRIPTION:Line Up: ❚ #EA13 // PROGRAMMATION CLUB // Samedi 9 Septembre ❚ En
  partenariat avec NATURAL BEAT MAKERZ et Le Phare / Bajo El Mar…
URL:https://www.goabase.net/es/party/electro-alternativ-13-coming-soon-upgrade-belik-boom/95833
CATEGORIES:Psytrance Event
CLASS:PUBLIC
END:VEVENT

BEGIN:VEVENT
UID:9cdfbf882c0a2adb29b59dcc6d8e7d25
DTSTART:20170430T230000
DTEND:20170501T053000
LOCATION:Ramonville-Saint-Agne [France]
GEO:43.549030000;1.486010000
DTSTAMP:20170430T230000Z
SUMMARY:Freedom Festival Teaser Dj Emok, Groove Inspektorz Le Bikini
DESCRIPTION:Line Up: ▽ VEILLE DE JOUR FERIE ▽ ▽ Pour cette dernière soirée de
  printemps, nous ouvrons les portes du Bikini en invitant le FRE…
URL:https://www.goabase.net/es/party/freedom-festival-teaser-dj-emok-groove-inspektorz-le-bikini/94411
CATEGORIES:Psytrance Event
CLASS:PUBLIC
END:VEVENT

BEGIN:VEVENT
UID:54eb47466e4f45ce22681602a7fdca49
DTSTART:20170408T220000
DTEND:20170409T050000
LOCATION:Curis-au-Mont-d'Or [France]
GEO:45.849505460;4.812131307
DTSTAMP:20170408T220000Z
SUMMARY:Nbm Records Tour - Titan - Samedi 8 Avril
DESCRIPTION:Line Up: NBM RECORD TOUR!! Cette année, nous ouvrons les portes au
  label NBM Records. Ce label Progressif Trance est l'une de nos…
URL:https://www.goabase.net/es/party/nbm-records-tour-titan-samedi-8-avril/94412
CATEGORIES:Psytrance Event
CLASS:PUBLIC
END:VEVENT

BEGIN:VEVENT
UID:5656abb94391424d130b38a291bda58e
DTSTART:20170203T230000
DTEND:20170204T053000
LOCATION:Toulouse [France]
GEO:43.604461700;1.444247000
DTSTAMP:20170203T230000Z
SUMMARY:Maasaï #2 // Coming Soon, Fender Bender, Aviation, Marco Messari
DESCRIPTION:Line Up: ▽ Si la reprise du territoire etait la volonté des guerriers
  Maasai sur la 1ère édition, leur désir de garder leurs terr…
URL:https://www.goabase.net/es/party/maasai-2-coming-soon-fender-bender-aviation-marco-messari/92234
CATEGORIES:Psytrance Event
CLASS:PUBLIC
END:VEVENT

BEGIN:VEVENT
UID:1392d8fa27ad750448ef418cff94522f
DTSTART:20160916T230000
DTEND:20160917T063000
LOCATION:Toulouse [France]
GEO:43.604461700;1.444247000
DTSTAMP:20160916T230000Z
SUMMARY:ELECTRO ALTERNATIV : DADDICTION|BELIK BOOM|STRYKER-TOULOUSE
DESCRIPTION:Line Up: ❍ PROGRAMMATION ❍ ► D-Addiction (NANO Records - NBM Records)
  Soundcloud : soundcloud.com/d-addiction ► Belik boom (2nigh…
URL:https://www.goabase.net/es/party/electro-alternativ-daddictionbelik-boomstryker-toulouse/90330
CATEGORIES:Psytrance Event
CLASS:PUBLIC
END:VEVENT

BEGIN:VEVENT
UID:f4072e3a0a78e33426a1f251f6ee2f8c
DTSTART:20160422T230000
DTEND:20160423T070000
LOCATION:Toulouse [France]
GEO:43.604461700;1.444247000
DTSTAMP:20160422T230000Z
SUMMARY:THE GATE #1 - BIKINI TOULOUSE | FR
DESCRIPTION:Line Up: NATURAL BEAT MAKERZ& Regarts Asso présent : The Gate #1 On
  vous attend pour la dernière de la saison avec un line up…
URL:https://www.goabase.net/es/party/the-gate-1-bikini-toulouse-fr/89359
CATEGORIES:Psytrance Event
CLASS:PUBLIC
END:VEVENT

BEGIN:VEVENT
UID:33ff325f45257d9d9f5bf78854eeb5d3
DTSTART:20160303T230000
DTEND:20160311T073000
LOCATION:Toulouse [France]
GEO:43.604461700;1.444247000
DTSTAMP:20160303T230000Z
SUMMARY:TRIPHONIK FESTIVAL#4
DESCRIPTION:Line Up: ❁ MATSURI DAY I 04.03.2016 Progressive Trance / Off Beat /
  Full ON - AUDIOPHONIC (Première fois en France) Madabeats - M…
URL:https://www.goabase.net/es/festival/triphonik-festival4/88208
CATEGORIES:Psytrance Event
CLASS:PUBLIC
END:VEVENT

BEGIN:VEVENT
UID:4239406beea9c3e0a41832fb90c16c9e
DTSTART:20151219T230000
DTEND:20151220T073000
LOCATION:Toulouse [France]
GEO:43.604461700;1.444247000
DTSTAMP:20151219T230000Z
SUMMARY:PSR MUSIC LABEL NIGHT @ INOX CLUB TOULOUSE
DESCRIPTION:Line Up: ☰ FLOOR: DIRTY PROG MINIMALCORE PROGRESSIVE TRANCE ▀ ☰
  FUNKTION ONE QUADRIPHO…
URL:https://www.goabase.net/es/party/psr-music-label-night-inox-club-toulouse/87309
CATEGORIES:Psytrance Event
CLASS:PUBLIC
END:VEVENT

BEGIN:VEVENT
UID:f2621520d9d1f753474c23d843bbfa17
DTSTART:20151211T230000
DTEND:20151212T073000
LOCATION:Bordeaux [France]
GEO:44.847346100;-0.553438200
DTSTAMP:20151211T230000Z
SUMMARY:PSR MUSIC - LABEL NIGHT w// GONZI - ELFO - SI-MOON - MEIS @RESPUBLICA
DESCRIPTION:Line Up: ☰ FLOOR: DIRTY PROG MINIMALCORE PROGRESSIVE TRANCE ▀ ► GONZI
  ◄ Dirty Prog / M…
URL:https://www.goabase.net/es/party/psr-music-label-night-w-gonzi-elfo-si-moon-meis-respublica/87308
CATEGORIES:Psytrance Event
CLASS:PUBLIC
END:VEVENT

BEGIN:VEVENT
UID:8e796caca6201f37fa8da4e68b5bdd7f
DTSTART:20151127T220000
DTEND:20151128T120000
LOCATION:Toulouse [France]
GEO:43.604461700;1.444247000
DTSTAMP:20151127T220000Z
SUMMARY:NBM Rec invite SPINTWIST w//ROYAL FLUSH.| Bikini TOULOUSE
DESCRIPTION:Line Up: ☰ LINE UP ▀ ► Royal Flush (Première fois a Toulouse)
  SpinTwist Records | Isra…
URL:https://www.goabase.net/es/party/nbm-rec-invite-spintwist-wroyal-flush-bikini-toulouse/86765
CATEGORIES:Psytrance Event
CLASS:PUBLIC
END:VEVENT

BEGIN:VEVENT
UID:e5410887e980d34dde247143d9dccc72
DTSTART:20151003T230000
DTEND:20151004T070000
LOCATION:Perpignan [France]
GEO:42.695388800;2.884470900
DTSTAMP:20151003T230000Z
SUMMARY:COMICS #1
DESCRIPTION:Line Up: COMICS#1 – 03.10.2015 World People Prod & Natural Beat Makerz
  présent &quot;Comics&quot; le 3 octobre 2015 au Scorp à…
URL:https://www.goabase.net/es/party/comics-1/86223
CATEGORIES:Psytrance Event
CLASS:PUBLIC
END:VEVENT

BEGIN:VEVENT
UID:2ac30241b093f182e4f30a62d42e8c67
DTSTART:20150718T200000
DTEND:20150719T070000
LOCATION:Vilajuïga [Spain]
GEO:42.325589800;3.093734500
DTSTAMP:20150718T200000Z
SUMMARY:Label Night Iboga Records @ Rachdingue Spain w /// Ace Ventura - Emok - Rocky -
DESCRIPTION:Line Up: ❁ FLOOR 1 : IBOGA Records (OUT DOOR) ► ACE VENTURA - FIRST
  TIME IN SPAIN Iboga Records - israel ► EMOK Iboga Records -…
URL:https://www.goabase.net/es/party/label-night-iboga-records-rachdingue-spain-w-ace-ventura-emok-rocky/85055
CATEGORIES:Psytrance Event
CLASS:PUBLIC
END:VEVENT

BEGIN:VEVENT
UID:8019dc85408e2aedb4ee35c647f8e16b
DTSTART:20150307T220000
DTEND:20150308T080000
LOCATION:Vilajuiga [Spain]
GEO:42.325589800;3.093734500
DTSTAMP:20150307T220000Z
SUMMARY:❁ HIBERNATION TOUR @ RACHDINGUE  ESPAGNE /// w GAUDIUM , ILLEGAL MACHINE & FRIEN
DESCRIPTION:Line Up: ❂ Hibernaqulum Stage : Progressive trance / Off beat /Techno
  ❂ Gaudium ( Iboga – Suede) Groove Inspektorz (USN Agency…
URL:https://www.goabase.net/es/party/hibernation-tour-rachdingue-espagne-w-gaudium-illegal-machine-frien/83737
CATEGORIES:Psytrance Event
CLASS:PUBLIC
END:VEVENT

BEGIN:VEVENT
UID:c1e325cc1d5f2690f18e669757941f38
DTSTART:20110423T220000
DTEND:20110425T120000
LOCATION:South France [France]
GEO:0.000000000;0.000000000
DTSTAMP:20110423T220000Z
SUMMARY:TICKET TO MARS
DESCRIPTION:Line Up: D_ROOT Hadra Rec. - Chambéry Web : myspace.com/droothadra
  LUNARAVE Hadra Rec. - Chambéry Web : SHOTU Hadra Rec. - Grenob…
URL:https://www.goabase.net/es/party/ticket-to-mars/59317
CATEGORIES:Psytrance Event
CLASS:PUBLIC
END:VEVENT

BEGIN:VEVENT
UID:7bb5460f8a3b6e4f11ad6a2c6387fd53
DTSTART:20100206T220000
DTEND:20100207T120000
LOCATION:Rosas [Spain]
GEO:0.000000000;0.000000000
DTSTAMP:20100206T220000Z
SUMMARY:100% CARNAVAL by World People 
DESCRIPTION:Line Up: YAB yum vs AJJA Peak rec - CHSYNTHETIK CHAOS World People
  prod/Bom Shanka rec - FRD-SENS Bus rec - FRNASHA World People…
URL:https://www.goabase.net/es/party/100-carnaval-by-world-people/50401
CATEGORIES:Psytrance Event
CLASS:PUBLIC
END:VEVENT

BEGIN:VEVENT
UID:f02dfef5ceea28472a0e13c6919bbe0f
DTSTART:20091231T220000
DTEND:20100101T150000
LOCATION:Casablanca [Morocco]
GEO:0.000000000;0.000000000
DTSTAMP:20091231T220000Z
SUMMARY:NEW YEAR FREQUENCY 
DESCRIPTION:Line Up: FREAKED FREQUENCY - Serbia
URL:https://www.goabase.net/es/party/new-year-frequency/50019
CATEGORIES:Psytrance Event
CLASS:PUBLIC
END:VEVENT

BEGIN:VEVENT
UID:4be5af0a4e873a8d4f7f2d96483ad3fa
DTSTART:20090626T233000
DTEND:20090627T120000
LOCATION:Paris [France]
GEO:0.000000000;0.000000000
DTSTAMP:20090626T233000Z
SUMMARY:One Friday for One Prog ! 
DESCRIPTION:Line Up: D-SENS | Bus rec LIVEPRIME TIME | Kumquat Tunes rec LIVE
URL:https://www.goabase.net/es/party/one-friday-for-one-prog/46887
CATEGORIES:Psytrance Event
CLASS:PUBLIC
END:VEVENT

BEGIN:VEVENT
UID:72cb95ca72967684f1949c56f231d52f
DTSTART:20070224T220000
DTEND:20070225T110000
LOCATION:Paris [France]
GEO:0.000000000;0.000000000
DTSTAMP:20070224T220000Z
SUMMARY:TRANCE EMBARQUEMENT LABEL NIGHT@BATOFAR
DESCRIPTION:Line Up: Krügger Flaps - Fat Form rec - FR (Prog house Electro) LIVE
  ACT Squazoid - Sony Music - FR - LIVE ACT (Chill Out)
URL:https://www.goabase.net/es/party/trance-embarquement-label-nightbatofar/29195
CATEGORIES:Psytrance Event
CLASS:PUBLIC
END:VEVENT

BEGIN:VEVENT
UID:f37e27a08ca608b7f57e357587094631
DTSTART:20060709T140000
DTEND:20060709T223000
LOCATION:Paris [France]
GEO:0.000000000;0.000000000
DTSTAMP:20060709T140000Z
SUMMARY:PARIS - DELHI CRUISE / MILkShak Goa !
DESCRIPTION:
URL:https://www.goabase.net/es/party/paris-delhi-cruise-milkshak-goa/25547
CATEGORIES:Psytrance Event
CLASS:PUBLIC
END:VEVENT

END:VCALENDAR