BEGIN:VCALENDAR
VERSION:2.0
PRODID:goabase.net iCalendar 2026
X-WR-CALNAME:goabase.net - parties and people 
X-WR-TIMEZONE;VALUE=TEXT:Europe/Berlin
CALSCALE:GREGORIAN
BEGIN:VTIMEZONE
TZID:Europe/Berlin
X-LIC-LOCATION:Europe/Berlin
BEGIN:DAYLIGHT
TZOFFSETFROM:+0100
TZOFFSETTO:+0200
TZNAME:CEST
DTSTART:19700329T020000
RRULE:FREQ=YEARLY;INTERVAL=1;BYDAY=-1SU;BYMONTH=3
END:DAYLIGHT
BEGIN:STANDARD
TZOFFSETFROM:+0200
TZOFFSETTO:+0100
TZNAME:CET
DTSTART:19701025T030000
RRULE:FREQ=YEARLY;INTERVAL=1;BYDAY=-1SU;BYMONTH=10
END:STANDARD
END:VTIMEZONE

BEGIN:VEVENT
UID:a560a95751e7eaf63c8c07b0a8edc871
DTSTART:20180602T140000
DTEND:20180603T020000
LOCATION:Hüntwangen [Switzerland]
GEO:47.582807968;8.513489925
DTSTAMP:20180602T140000Z
SUMMARY:Tanzlaune
DESCRIPTION:Line Up: :::: LIVE ACT :::: ♫ Unique Repeat :::: DJ's :::: ♫ dj
  miromän special intro set ♫ makau & filaferro ♫ Good LuKe ♫…
URL:https://www.goabase.net/es/party/tanzlaune/100101
CATEGORIES:Psytrance Event
CLASS:PUBLIC
END:VEVENT

BEGIN:VEVENT
UID:73a6faabd572fef68443e9f324200783
DTSTART:20170715T140000
DTEND:20170716T020000
LOCATION:Hüntwangen [Switzerland]
GEO:47.582807968;8.513489925
DTSTAMP:20170715T140000Z
SUMMARY:Tanzlaune "Outdoor Party"
DESCRIPTION:Line Up: :::: LIVE ACT's :::: ♫ One Million Toys (ISR) First time in
  Switzerland ♫ Stoertebeker ♫ F.L.F.RR. :::: DJ's :::: ♫…
URL:https://www.goabase.net/es/party/tanzlaune-outdoor-party/96115
CATEGORIES:Psytrance Event
CLASS:PUBLIC
END:VEVENT

BEGIN:VEVENT
UID:84110da25a9a09bef9b8ab8a907d428a
DTSTART:20150905T140000
DTEND:20150906T020000
LOCATION:Hüntwangen [Switzerland]
GEO:47.595177300;8.491906200
DTSTAMP:20150905T140000Z
SUMMARY:Tanzlaune "Outdoor Day Dance"
DESCRIPTION:Line Up: :::: LIVE ACT's :::: » Stoertebeker « » Unique Repeat «
  (Parquet Recordings) :::: DJ's :::: » Fehrquenz « (Techno Zirk…
URL:https://www.goabase.net/es/party/tanzlaune-outdoor-day-dance/86151
CATEGORIES:Psytrance Event
CLASS:PUBLIC
END:VEVENT

BEGIN:VEVENT
UID:13457ac76150c1f232efe5a5c50c95d6
DTSTART:20150620T140000
DTEND:20150621T020000
LOCATION:Hüntwangen [Switzerland]
GEO:47.595424700;8.492532700
DTSTAMP:20150620T140000Z
SUMMARY:Tanzlaune "Outdoor Day Dance"
DESCRIPTION:Line Up: :::: LIVE ACT's :::: » True Lies « (Blue Tunes Records) »
  Unique Repeat « (Parquet Recordings) » Are:Age « » Ben J…
URL:https://www.goabase.net/es/party/tanzlaune-outdoor-day-dance/85211
CATEGORIES:Psytrance Event
CLASS:PUBLIC
END:VEVENT

BEGIN:VEVENT
UID:80a59d3155830b2c387f0154dae81315
DTSTART:20141107T220000
DTEND:20141108T100000
LOCATION:Embrach [Switzerland]
GEO:47.519168100;8.593651100
DTSTAMP:20141107T220000Z
SUMMARY:Tanzlaune "Schiff Ahoi"
DESCRIPTION:Line Up: :::: LIVE ACT's :::: » Audiostatik / &quot;Käpt'n Jack
  Audiostatik&quot; » Midimal / &quot;Der 135 Knoten Mann&quot;…
URL:https://www.goabase.net/es/party/tanzlaune-schiff-ahoi/82035
CATEGORIES:Psytrance Event
CLASS:PUBLIC
END:VEVENT

BEGIN:VEVENT
UID:b7c8ac4bb060adf5107a05b74122c6e0
DTSTART:20131123T210000
DTEND:20131124T060000
LOCATION:Bülach [Switzerland]
GEO:0.000000000;0.000000000
DTSTAMP:20131123T210000Z
SUMMARY:Tanzlaune "Welcome to the Jungle"
DESCRIPTION:
URL:https://www.goabase.net/es/party/tanzlaune-welcome-to-the-jungle/76194
CATEGORIES:Psytrance Event
CLASS:PUBLIC
END:VEVENT

BEGIN:VEVENT
UID:a5b0044d7793806389dc59703c554d49
DTSTART:20130817T160000
DTEND:20130818T040000
LOCATION:Hüntwangen [Switzerland]
GEO:0.000000000;0.000000000
DTSTAMP:20130817T160000Z
SUMMARY:Tanzlaune im grünen Bereich
DESCRIPTION:Line Up: Are:Age live (Hive)
URL:https://www.goabase.net/es/party/tanzlaune-im-gruenen-bereich/74359
CATEGORIES:Psytrance Event
CLASS:PUBLIC
END:VEVENT

BEGIN:VEVENT
UID:6e1c28546b7715d55207872b8eff6d1e
DTSTART:20130601T220000
DTEND:20130602T070000
LOCATION:Bülach [Switzerland]
GEO:0.000000000;0.000000000
DTSTAMP:20130601T220000Z
SUMMARY:Wild Cave
DESCRIPTION:Line Up: Khainz
URL:https://www.goabase.net/es/party/wild-cave/73462
CATEGORIES:Psytrance Event
CLASS:PUBLIC
END:VEVENT

BEGIN:VEVENT
UID:d69cabf1cb9215b08671d12d6773fa35
DTSTART:20130323T220000
DTEND:20130324T060000
LOCATION:Bülach [Switzerland]
GEO:47.513558700;8.535501400
DTSTAMP:20130323T220000Z
SUMMARY:Wild Cave
DESCRIPTION:Line Up: XV Kilist & Rocco ( Iboga Records )
URL:https://www.goabase.net/es/party/wild-cave/72351
CATEGORIES:Psytrance Event
CLASS:PUBLIC
END:VEVENT

BEGIN:VEVENT
UID:b061d64926d443a9113b574d4399717a
DTSTART:20121124T210000
DTEND:20121125T050000
LOCATION:Bülach [Switzerland]
GEO:0.000000000;0.000000000
DTSTAMP:20121124T210000Z
SUMMARY:Tanzlaune   ٠•● Unter Wasser ist alles bunter ●•٠·
DESCRIPTION:Line Up: Are:Age (Hive)
URL:https://www.goabase.net/es/party/tanzlaune-unter-wasser-ist-alles-bunter/69780
CATEGORIES:Psytrance Event
CLASS:PUBLIC
END:VEVENT

BEGIN:VEVENT
UID:30971db6578f2b2bf549687a572351c3
DTSTART:20120504T210000
DTEND:20120505T060000
LOCATION:Bülach [Switzerland]
GEO:0.000000000;0.000000000
DTSTAMP:20120504T210000Z
SUMMARY:Tanzlaune
DESCRIPTION:Line Up: Are:Age (live set)
URL:https://www.goabase.net/es/party/tanzlaune/66060
CATEGORIES:Psytrance Event
CLASS:PUBLIC
END:VEVENT

BEGIN:VEVENT
UID:a32b2fecfc84699dff188fe6baa25c5a
DTSTART:20111125T210000
DTEND:20111126T060000
LOCATION:Bülach [Switzerland]
GEO:0.000000000;0.000000000
DTSTAMP:20111125T210000Z
SUMMARY:Tanzlaune
DESCRIPTION:
URL:https://www.goabase.net/es/party/tanzlaune/63572
CATEGORIES:Psytrance Event
CLASS:PUBLIC
END:VEVENT

END:VCALENDAR